BEGIN:VCALENDAR
VERSION:2.0
PRODID:-//アイアール技術者教育研究所 - ECPv6.15.18//NONSGML v1.0//EN
CALSCALE:GREGORIAN
METHOD:PUBLISH
X-WR-CALNAME:アイアール技術者教育研究所
X-ORIGINAL-URL:https://engineer-education.com
X-WR-CALDESC:アイアール技術者教育研究所 のイベント
REFRESH-INTERVAL;VALUE=DURATION:PT1H
X-Robots-Tag:noindex
X-PUBLISHED-TTL:PT1H
BEGIN:VTIMEZONE
TZID:Asia/Tokyo
BEGIN:STANDARD
TZOFFSETFROM:+0900
TZOFFSETTO:+0900
TZNAME:JST
DTSTART:20240101T000000
END:STANDARD
END:VTIMEZONE
BEGIN:VEVENT
DTSTART;TZID=Asia/Tokyo:20251112T100000
DTEND;TZID=Asia/Tokyo:20251114T170000
DTSTAMP:20260422T011902
CREATED:20240314T022910Z
LAST-MODIFIED:20250430T061518Z
UID:95080-1762941600-1763139600@engineer-education.com
SUMMARY:【展示会情報】高機能素材Week-東京展
DESCRIPTION:《主催者サイトより》 \n世界最大級！高機能素材・リサイクル技術・レーザー技術・電子ディスプレイの総合展\n  \n高機能素材 Weekとは\n機能性フィルム・プラスチック・セルロース・炭素繊維複合材・金属・セラミックスなどの最先端の素材技術が一堂に出展する世界最大規模の展示会です。\nまた、材料だけではなく、材料の製造加工機械、検査測定分析機器など素材産業に関わるあらゆる技術が出展しています。\n各業界の研究・開発・設計・製造担当者が来場し、出展社と活発な商談が行われています。 \n \nリサイクルテック ジャパンとは\nリサイクルの技術革新とエコシステムを実現する展示会です。材料、メーカー、物流、小売、産廃事業者、自治体など様々なパートナーとのエコシステムを実現し、社会実装してまいります。 \n \nPhotonixとは\nレーザー加工、光学部品・材料、光計測・分析機器などが出展する、日本最大級の光・レーザー関連技術の総合展です。\n自動車・電機・二次電池メーカーの生産技術・工場関係者が多数来場します。 \n \nFINETECH JAPANとは\n電子ディスプレイ（液晶、有機EL、量子ドット、マイクロLED）から、その製造装置、材料、加工技術までが一堂に出展する世界最大規模の専門展。\n日本のみならず、中国・韓国・台湾など世界中のパネルメーカーとの商談の場を提供しています。
URL:https://engineer-education.com/event/highly-functional-material-week-tokyo/
LOCATION:幕張メッセ\, 千葉県千葉市美浜区中瀬２丁目１\, 261-0023\, 日本
CATEGORIES:展示会（化学系）,展示会（環境技術）,展示会（電気・電子系）
END:VEVENT
BEGIN:VEVENT
DTSTART;VALUE=DATE:20251126
DTEND;VALUE=DATE:20251128
DTSTAMP:20260422T011902
CREATED:20240322T063630Z
LAST-MODIFIED:20250714T051725Z
UID:125065-1764115200-1764287999@engineer-education.com
SUMMARY:【展示会情報】Japan Drone  ／ 次世代エアモビリティEXPO　in 関西
DESCRIPTION:《主催者サイトより》\nJapan Droneは社会基盤整備を促進し、豊かなくらしの実現に向けたスマートシティの推進に積極的に取り組みます。\nJapan Droneは、今後起きうるドローン業界の変化に対応し、課題を解決するためのオープンプラットフォームとして国際的なマッチングコミュニケーションの場を提供します。 \n次世代エアモビリティEXPOは新しい産業の創造に貢献することを目指します。歴史的に新しいモビリティの誕生はモビリティの製造だけでなく、それに付随する多くのビジネスを生み出してきました。 空飛ぶクルマ（eVTOL）は自動車以来100年振りとなる新たなモビリティであり、今後機体製造・運航事業・インフラ整備を軸として様々なビジネスが立ち上がるものと期待されています。
URL:https://engineer-education.com/event/japan-drone%e2%80%97expo%e2%80%97in-kansai/
LOCATION:ナレッジキャピタル コングレコンベンションセンター\, 大阪市北区大深町3-1\, 大阪府\, 530-0011\, 日本
CATEGORIES:展示会,展示会（機械系）,展示会（電気・電子系）
END:VEVENT
BEGIN:VEVENT
DTSTART;TZID=Asia/Tokyo:20251126T100000
DTEND;TZID=Asia/Tokyo:20251128T170000
DTSTAMP:20260422T011902
CREATED:20241108T050311Z
LAST-MODIFIED:20250709T042354Z
UID:135174-1764151200-1764349200@engineer-education.com
SUMMARY:産業交流展2025
DESCRIPTION: \n《主催者サイトより》\n産業交流展は、原則として首都圏（東京都・埼玉県・千葉県・神奈川県）に事業所を有する、個性あふれる中小企業などの優れた技術や製品を一堂に展示し、販路拡大、企業間連携の実現、情報収集・交換などのビジネスチャンスを提供することを目的としています。 \n時代を担うさまざまな新製品・新サービスの開発や、他社との協業・共創などに積極果敢に取り組み、新たなビジネスチャンスの獲得や市場の開拓に挑む、情熱と志を持つ中小企業が集結。\n業種や規模を問わずさまざまな企業の事業課題克服に貢献し、企業の持続的成長と日本経済の発展に貢献する次の一手を提案します。 \n出展対象分野\n情報\n● loT、AI、ビッグデータなどを活用した技術・サービス\n● 映像・画像処理技術、動画作成\n● クラウド型サービス\n● Web、スマホアプリケーション関連技術\n● 情報関連セキュリティ技術・製品\n● 次世代半誘導体技術 など \n環境\n● 環境負担の少ないエネルギー技術\n● 廃棄物処理・再資源化技術\n● 省エネルギー・新エネルギー関連技術・製品\n● 環境改善技術（土壌改良、水質改善など）\n● 環境関連サービス、環境分析測定関連装置\n● 破砕・粉砕・造粒、減容・圧縮・梱包関連 など \n医療・福祉\n● バイオ関連技術\n● 再生医療関連技術\n● 介護予防、リハビリテーション関連技術・製品\n● 医療機器産業、介護福祉機器産業\n● バリアフリー関連技術・製品\n● 常時モニタリング型医療管理システム技術 など \n機械・金属\n● ロボット産業、次世代自動車産業、宇宙・航空機産業\n● 作業工具、金属プレス加工、工作機械、機械工具、加工機械（食品など）、ベアリング、金型、電気機器\n● MEMS（Micro Electro Mechanical Systems）技術\n● マテリアル、素材関連技術\n● 精密機器、電子機器類の設計・制作 など \n アイアールも出展します当サイトを運営している日本アイアールも出展している展示会です。\nご興味のある方はぜひご来場ください！
URL:https://engineer-education.com/event/sangyo-koryuten/
LOCATION:東京ビッグサイト\, 東京都江東区有明3-11-1\, 135-0063\, 日本
CATEGORIES:展示会（医薬・医療機器）,展示会（機械系）,展示会（環境技術）,展示会（IT・ソフトウェア）
ATTACH;FMTTYPE=image/png:https://engineer-education.com/wp/wp-content/uploads/2024/11/sankoten25_960x504-e1752034745365.png
END:VEVENT
END:VCALENDAR