BEGIN:VCALENDAR
VERSION:2.0
PRODID:-//アイアール技術者教育研究所 - ECPv6.15.18//NONSGML v1.0//EN
CALSCALE:GREGORIAN
METHOD:PUBLISH
X-ORIGINAL-URL:https://engineer-education.com
X-WR-CALDESC:アイアール技術者教育研究所 のイベント
REFRESH-INTERVAL;VALUE=DURATION:PT1H
X-Robots-Tag:noindex
X-PUBLISHED-TTL:PT1H
BEGIN:VTIMEZONE
TZID:Asia/Tokyo
BEGIN:STANDARD
TZOFFSETFROM:+0900
TZOFFSETTO:+0900
TZNAME:JST
DTSTART:20240101T000000
END:STANDARD
END:VTIMEZONE
BEGIN:VEVENT
DTSTART;TZID=Asia/Tokyo:20251015T100000
DTEND;TZID=Asia/Tokyo:20251017T170000
DTSTAMP:20260422T030235
CREATED:20250711T050457Z
LAST-MODIFIED:20250714T051750Z
UID:145767-1760522400-1760720400@engineer-education.com
SUMMARY:【展示会情報】陸上養殖設備展 2025
DESCRIPTION:《主催者サイトより》\n昨年初開催された「アクアポニックス・陸上養殖設備展」は、陸上養殖の設備に特化した「陸上養殖設備展」としてリニューアルし、今年10月東京ビッグサイトにて開催されます。本展では、効率的で環境に優しい養殖モデルの構築を目指し、先進的な設備や技術が一堂に集まります。産業界、自治体、研究機関が連携し、持続可能な水産業の発展を支える場となることを目指しています。\n同時開催展あり。
URL:https://engineer-education.com/event/%e3%80%90%e5%b1%95%e7%a4%ba%e4%bc%9a%e6%83%85%e5%a0%b1%e3%80%91%e9%99%b8%e4%b8%8a%e9%a4%8a%e6%ae%96%e8%a8%ad%e5%82%99%e5%b1%95-2025/
LOCATION:東京ビッグサイト\, 東京都江東区有明3-11-1\, 135-0063\, 日本
CATEGORIES:展示会（食品関連）
ORGANIZER;CN="%E9%99%B8%E4%B8%8A%E9%A4%8A%E6%AE%96%E8%A8%AD%E5%82%99%E5%B1%95%E6%8E%A8%E9%80%B2%E5%8D%94%E8%AD%B0%E4%BC%9A":MAILTO:land-aqua@a-tex.co.jp
END:VEVENT
BEGIN:VEVENT
DTSTART;TZID=Asia/Tokyo:20251015T100000
DTEND;TZID=Asia/Tokyo:20251017T170000
DTSTAMP:20260422T030235
CREATED:20250711T050811Z
LAST-MODIFIED:20250715T073447Z
UID:145771-1760522400-1760720400@engineer-education.com
SUMMARY:【展示会情報】食品開発展2025
DESCRIPTION:《主催者サイトより》\n食品開発展は、食品分野の研究・開発、品質保証、製造技術者向けの専門展示会として1990年にスタートし、2025年で第36回を迎えます。2025年は、健康素材を集めたヘルスイングリディエンツジャパン(Hi Japan)、美味しさに関わる素材・技術を集めたフード・テイストジャパン(FiT Japan)、分析・計測、衛生資材、製造技術を集めたセーフティ＆テクノロジー(S-tec Japan)、フードロス削減のためのフードロングライフジャパン(LLj)の4展で開催します。また、Hiでは プラントベースフード開発コーナー、新食料資源コーナー、FiTでは 発酵素材パビリオン、S-tecでは 異物対策コーナー、安全・品質向上のためのDX化&AI技術コーナー を設ける予定です。アジア市場への入口として国内外の関心を集めています。
URL:https://engineer-education.com/event/%e3%80%90%e5%b1%95%e7%a4%ba%e4%bc%9a%e6%83%85%e5%a0%b1%e3%80%91%e9%a3%9f%e5%93%81%e9%96%8b%e7%99%ba%e5%b1%952025/
LOCATION:東京ビッグサイト\, 東京都江東区有明3-11-1\, 135-0063\, 日本
CATEGORIES:展示会（食品関連）
ATTACH;FMTTYPE=image/jpeg:https://engineer-education.com/wp/wp-content/uploads/2025/07/6cb269dc3a1c14a07d33755cd8b49e65-1-1.jpg
END:VEVENT
BEGIN:VEVENT
DTSTART;TZID=Asia/Tokyo:20251023T100000
DTEND;TZID=Asia/Tokyo:20251024T170000
DTSTAMP:20260422T030235
CREATED:20250711T051144Z
LAST-MODIFIED:20250711T051144Z
UID:145774-1761213600-1761325200@engineer-education.com
SUMMARY:【展示会情報】オープンイノベーションEXPO 2025
DESCRIPTION:《主催者サイトより》\nグローバル化やIT化、労働環境の変化やライフスタイルの多様化など様々な要因が大きく変化し製品やサービスのライフサイクルは年々短くなってきております。そんな環境の中、研究開発に使える予算を増やすことは非常に困難です。 \nこうした環境の中だからこそ新たな商品・サービスを効率よく素早く生み出す必要性が年々高まってきています。従来通りの自社内での経営資源や研究開発のみのクローズドイノベーションではすでに限界をむかえています。 \n今後は世界中に広がるリソースを活用したオープンイノベーションを実施する必要があり、このオープンイノベーションを積極的に実施していくための問題解決の場として本展を新設させて頂きました。 \nぜひ本展示会の趣旨にご賛同いただき、ご出展・ご参画いただきますようお願い申し上げます。
URL:https://engineer-education.com/event/%e3%80%90%e5%b1%95%e7%a4%ba%e4%bc%9a%e6%83%85%e5%a0%b1%e3%80%91%e3%82%aa%e3%83%bc%e3%83%97%e3%83%b3%e3%82%a4%e3%83%8e%e3%83%99%e3%83%bc%e3%82%b7%e3%83%a7%e3%83%b3expo-2025/
LOCATION:パシフィコ横浜\, 西区みなとみらい１丁目１−１\, 横浜市\, 神奈川県\, 220-0012\, 日本
CATEGORIES:展示会（加工技術）,展示会（機械系）
END:VEVENT
END:VCALENDAR