BEGIN:VCALENDAR
VERSION:2.0
PRODID:-//アイアール技術者教育研究所 - ECPv6.15.18//NONSGML v1.0//EN
CALSCALE:GREGORIAN
METHOD:PUBLISH
X-ORIGINAL-URL:https://engineer-education.com
X-WR-CALDESC:アイアール技術者教育研究所 のイベント
REFRESH-INTERVAL;VALUE=DURATION:PT1H
X-Robots-Tag:noindex
X-PUBLISHED-TTL:PT1H
BEGIN:VTIMEZONE
TZID:Asia/Tokyo
BEGIN:STANDARD
TZOFFSETFROM:+0900
TZOFFSETTO:+0900
TZNAME:JST
DTSTART:20240101T000000
END:STANDARD
END:VTIMEZONE
BEGIN:VEVENT
DTSTART;VALUE=DATE:20250903
DTEND;VALUE=DATE:20250906
DTSTAMP:20260422T044514
CREATED:20230307T024425Z
LAST-MODIFIED:20250714T052148Z
UID:94758-1756857600-1757116799@engineer-education.com
SUMMARY:【展示会情報】JASIS 2025
DESCRIPTION:《主催者サイトより》\n人々の暮らしは、様々な科学の進歩の上に成り立っていると私たちは考えます。その科学の進歩を支える、分析機器、科学機器メーカーが一堂に会する最先端科学・分析システム&ソリューション展がJASISです。各種分析・計測の入口から出口まで一貫して展示される展示会として、欧州のanalytica、米国のPittconと並んで、分析・計測に関するアジア最大級の展示会です。 \n \n【日程】\nリアル：2025年9月3日（水）～ 5日（金）3日間\nオンライン：2025年7月4日（金）10時～10月31日（金）17時 \n【会場】\nリアル：幕張メッセ国際展示場・会議場\nオンライン：オフィシャルサイト
URL:https://engineer-education.com/event/jasis/
LOCATION:幕張メッセ\, 千葉県千葉市美浜区中瀬２丁目１\, 261-0023\, 日本
CATEGORIES:展示会（化学系）
END:VEVENT
BEGIN:VEVENT
DTSTART;TZID=Asia/Tokyo:20250904T100000
DTEND;TZID=Asia/Tokyo:20250905T170000
DTSTAMP:20260422T044514
CREATED:20220622T021103Z
LAST-MODIFIED:20250714T052235Z
UID:72771-1756980000-1757091600@engineer-education.com
SUMMARY:【展示会情報】国際フロンティア産業メッセ
DESCRIPTION: \n《主催者サイトより》\n企業や大学・研究機関による先端技術の紹介や新事業創出の基盤となる製品展示を中心に、基調講演、特別講演、各種セミナーや交流会など多彩なプログラムを展開し、技術交流・ビジネスマッチングを進める機会を提供します。
URL:https://engineer-education.com/event/the-international-industrial-fair-kobe/
LOCATION:神戸国際展示場\, 神戸市中央区港島中町６－11－１\, 650-0046
CATEGORIES:展示会（機械系）,展示会（環境技術）,展示会（電気・電子系）
END:VEVENT
BEGIN:VEVENT
DTSTART;VALUE=DATE:20250910
DTEND;VALUE=DATE:20250913
DTSTAMP:20260422T044514
CREATED:20220908T082653Z
LAST-MODIFIED:20250829T075908Z
UID:76836-1757462400-1757721599@engineer-education.com
SUMMARY:【展示会情報】2025知財・情報フェア＆コンファレンス
DESCRIPTION: \n《主催者サイトより》\n \n知的財産に関するモノ・人・情報が東京ビッグサイトに集結！\n  \n「知財・情報フェア＆コンファレンス」は、研究・技術開発から権利取得、事業化に必要かつ重要な知財戦略に役立つシステムや情報を集めた国内最大規模の知財に関する展示会です。1981年から40年余りにわたり実施し、前回は141社・団体にご出展いただき、企業や研究機関の知財・研究開発部門や知財の専門家など13\,000名を超える来場者と積極的な商談、情報交換を行い、盛会裏のうちに終了いたしました。これもひとえに趣旨にご賛同いただいたご出展企業の皆様はじめ、ご後援の経済産業省様、特許庁様、関係諸団体の方々のおかげと心より御礼申し上げます。 \n2024年から展示会の名称を変更し、従来の特許・実用新案中心のフェアに意匠、商標を加え、知的財産全般の情報を網羅することで規模、内容を充実させています。これまで培ってきた有益な情報をしっかりとお伝えしつつ、研究・技術開発から権利取得、事業化に必要かつ重要な知財戦略に役立つ情報を一堂に提供・発信するとともに、セミナー、コンファレンス、講演など最新の情報を同時に提供してまいります。 \n関係者の皆様におかれましては、積極的なご出展をご検討いただけますよう、心よりお願い申し上げます。 \n アイアールも出展します当サイトを運営している日本アイアールも毎年出展している展示会です。\nご興味のある方はぜひご来場ください！ \n※当社の出展内容についてはこちら
URL:https://engineer-education.com/event/pifc/
LOCATION:東京ビッグサイト\, 東京都江東区有明3-11-1\, 135-0063\, 日本
CATEGORIES:展示会
ATTACH;FMTTYPE=image/png:https://engineer-education.com/wp/wp-content/uploads/2022/09/6f508e39b7c455ecab80422a581acdbb.png
END:VEVENT
BEGIN:VEVENT
DTSTART;VALUE=DATE:20250910
DTEND;VALUE=DATE:20250913
DTSTAMP:20260422T044514
CREATED:20230209T045145Z
LAST-MODIFIED:20250714T051956Z
UID:93391-1757462400-1757721599@engineer-education.com
SUMMARY:【展示会情報】SENSOR EXPO JAPAN（センサエキスポジャパン）
DESCRIPTION:《主催者サイトより》\nセンサをはじめとした要素技術は時代のニーズに応じて進化を続けています。\nこれら技術の普及・発展により高度な情報の可視化・収集・蓄積・分析・提案が可能になり、あらゆる産業のDX化が現実味を帯びてきました。\n次世代の「DX社会の実現」に向けて、あらゆる産業・業種の要素技術に関わる方々の“つながり”が生まれる場を目指す「SENSOR EXPO JAPAN」は、激しく変動する社会・ビジネスに対応し、さらなる連携・交流を創出する展示会へ進化していくことが求められています。\n本展は、DX社会の発展に欠かせないセンサをはじめとした電子部品やデバイスから完成品、実装される装置、それらを活用するサービスなどの、先進的な製品・技術・情報を集めると同時に、次世代につながる最新のテクノロジーを発信いたします。\nまた、現場の課題解決、知識習得、研鑽につながる関連セミナーを開催し、関係者を広く誘致、あらゆる立場の方々の交流を促し、「DX社会」を横断的に考える機会を提供することで、産業全体の活性化を側面から支援いたします。\n一方で、「SENSOR EXPO JAPAN」のメインテーマである「センサ・センシング技術」を主導的に活用した展示会を行い、社会や人々の暮らしがいかに豊かにできるのかを提示・提案するだけでなく、「システムの中心技術であるセンサ」をより具体的に表現し、伝えることをこれまで以上に取り組んでまいります。\n皆様におかれましては、この機会に是非、貴社技術・製品のPR、商談、新たな価値づくりの場として、ご賛同・ご出展をいただきたく、何卒よろしくお願い申し上げます。
URL:https://engineer-education.com/event/sensor-expo-japan-2/
LOCATION:東京ビッグサイト\, 東京都江東区有明3-11-1\, 135-0063\, 日本
CATEGORIES:展示会（電気・電子系）
ATTACH;FMTTYPE=image/jpeg:https://engineer-education.com/wp/wp-content/uploads/2023/02/logo-e1745995869428.jpg
END:VEVENT
BEGIN:VEVENT
DTSTART;VALUE=DATE:20250917
DTEND;VALUE=DATE:20250920
DTSTAMP:20260422T044514
CREATED:20230307T015944Z
LAST-MODIFIED:20250714T051947Z
UID:94751-1758067200-1758326399@engineer-education.com
SUMMARY:【展示会情報】スマート工場EXPO秋
DESCRIPTION:《主催者サイトより》 \n\n\n本展は、製造の「DX化」を実現するスマート工場 EXPO、「自動化」を実現するロボデックス、「脱炭素」を実現する製造業カーボンニュートラル展、製造業の「人材不足対策」に焦点を当てた製造業 人手不足対策 EXPOの4展により構成。\n製造業のトレンドを網羅した一大展Factory Innovation Week として盛大に開催します。
URL:https://engineer-education.com/event/smart-factory_expo/
LOCATION:幕張メッセ\, 千葉県千葉市美浜区中瀬２丁目１\, 261-0023\, 日本
CATEGORIES:展示会（工場・生産管理系）
ATTACH;FMTTYPE=image/jpeg:https://engineer-education.com/wp/wp-content/uploads/2023/03/fiweek-autumn-03k.coredownload.248145977.jpg
END:VEVENT
BEGIN:VEVENT
DTSTART;TZID=Asia/Tokyo:20250917T100000
DTEND;TZID=Asia/Tokyo:20250919T170000
DTSTAMP:20260422T044514
CREATED:20230309T023941Z
LAST-MODIFIED:20250710T023048Z
UID:94959-1758103200-1758301200@engineer-education.com
SUMMARY:【展示会情報】第24回 スマートエネルギーWeek 【秋】
DESCRIPTION:《主催者サイトより》\n2050年カーボンニュートラル実現に向け、ますますの普及が期待される再生可能エネルギー。\n世界最大級の新エネルギー総合展である本展は、水素・燃料電池、太陽光発電、二次電池、スマートグリッド、洋上風力、バイオマス発電、ゼロエミッション火力などあらゆる技術が出展し、世界各国から専門家が来場する展示会として業界に定着しています。\n世界中から人と情報が『リアル』に集まる本展は、face to faceでエネルギービジネスを加速させる重要なプラットフォームです。 \n  \nFC EXPO 水素・燃料電池展\n2050年カーボンニュートラル実現に向け、発電・輸送・産業といった幅広い分野の脱炭素化に資する水素がカギを握ります。\n世界最大の本展には水素の社会実装に向けて、水素を「つくり」「はこび」「ためて」「つかう」ためのあらゆる技術が出展し、世界各国から専門家が来場する展示会として業界に定着しています。\n世界中から人と情報が『リアル』に集まる本展は、face to faceで水素ビジネスを加速させる重要なプラットフォームです。 \nPV EXPO 太陽光発電展\n2050年カーボンニュートラル実現に向け、主力電源としてますますの普及が期待される太陽光発電。\n本展には次世代 太陽電池から太陽光発電所の建設、保守・運用まであらゆる製品・技術が出展し、世界各国から専門家が来場する展示会として業界に定着しています。\n世界中から人と情報が『リアル』に集まる本展は、face to faceで太陽光ビジネスを加速させる重要なプラットフォームです。 \n二次電池展\n2050年カーボンニュートラル実現に向け、再生可能エネルギーとEV(電気自動車）普及のカギを握るバッテリー技術。\n本展には二次電池の研究開発、製造に必要なあらゆる技術、部品・材料、装置が出展し、世界各国から専門家が来場する展示会として業界に定着しています。\n世界中から人と情報が『リアル』に集まる本展は、face to faceで蓄電池ビジネスを加速させる重要なプラットフォームです。 \nスマートグリッド EXPO\n2050年カーボンニュートラル実現に向け、電力の需給調整をITを活用して実現するスマートグリッドがカギを握ります。\n本展にはVPP（仮想発電所）やDR（デマンドレスポンス）関連技術、エネルギーマネジメントシステム、蓄電池、EV活用などが出展し、世界各国から専門家が来場する展示会として業界に定着しています。\n世界中から人と情報が『リアル』に集まる本展は、face to faceで電力ビジネスを加速させる重要なプラットフォームです。 \nWIND EXPO 風力発電展\n2050年カーボンニュートラル実現に向け、主力電源としてますますの普及が期待される風力発電。本展には風車から風力発電所の建設、保守・運用、洋上風力技術まであらゆる製品・技術が出展し、世界各国から専門家が来場する展示会として業界に定着しています。\n世界中から人と情報が『リアル』に集まる本展は、face to faceで風力ビジネスを加速させる重要なプラットフォームです。\n(一社）日本風力発電協会(JWPA)と共に日本の風力発電の普及に寄与すべく、業界をあげて開催します。 \n脱炭素経営 EXPO 秋\n日本最大！脱炭素経営 実現のための専門展
URL:https://engineer-education.com/event/smart-energy-week_autumn/
LOCATION:幕張メッセ\, 千葉県千葉市美浜区中瀬２丁目１\, 261-0023\, 日本
CATEGORIES:展示会（化学系）,展示会（環境技術）
END:VEVENT
BEGIN:VEVENT
DTSTART;TZID=Asia/Tokyo:20250917T100000
DTEND;TZID=Asia/Tokyo:20250919T170000
DTSTAMP:20260422T044514
CREATED:20240507T020049Z
LAST-MODIFIED:20250714T051932Z
UID:126857-1758103200-1758301200@engineer-education.com
SUMMARY:【展示会情報】持続可能なプラントEXPO
DESCRIPTION:《主催者サイトより》\n国内化学産業のプロセス技術は、基礎化学品分野では⼤量⽣産により世界最高いレベルのエネルギー効率で技術が確立されている一方で、機能性化学品分野はバッチ法を用いた少量多品種製造が主であり、エネルギー効率向上や廃棄物削減等の改善余地があると言われています。\nまた、カーボンニュートラル化およびSDGs12「つくる責任、つかう責任」の社会的要請もあり、エネルギー多消費型産業からの転換、および化石エネルギーから水素・アンモニア等の非化石のクリーンエネルギーへの技術転換が、産業界においても取り組まれているところです。\nこのような背景の下、本展示会は、持続可能なプラント操業のための課題解決と、エネルギー資源の有効活用に資する技術・製品等のさらなる普及・開発を促進することを目的に開催いたします。 \n  \nメンテナンス・レジリエンス\nメンテナンス・レジリエンスは、製造業・建設業の生産性向上、持続可能な社会資本整備、レジリエンス向上を目指し、複数の専門展示会を同時開催することで、相互の関連性を最大限に引き出し、業界の枠を超えた技術・情報交流を促進する場を提供いたします。 \nTECHNO-FRONTIER\n～集った技術が、人類の生活をより快適で豊かにする～ \n 
URL:https://engineer-education.com/event/sustainable-plant_expo/
LOCATION:東京ビッグサイト\, 東京都江東区有明3-11-1\, 135-0063\, 日本
CATEGORIES:展示会（工場・生産管理系）,展示会（環境技術）
ATTACH;FMTTYPE=image/jpeg:https://engineer-education.com/wp/wp-content/uploads/2024/05/logo-jpg-scaled-e1752036181828.jpg
END:VEVENT
BEGIN:VEVENT
DTSTART;TZID=Asia/Tokyo:20250917T100000
DTEND;TZID=Asia/Tokyo:20250919T170000
DTSTAMP:20260422T044514
CREATED:20250710T033940Z
LAST-MODIFIED:20250714T051920Z
UID:145704-1758103200-1758301200@engineer-education.com
SUMMARY:【展示会情報】CCUS EXPO【秋】～第1回 [国際] CO2の分離・回収・利用・貯蔵 技術展～
DESCRIPTION:《主催者サイトより》\n世界最大級のエネルギー総合展　スマートエネルギーWeek内に新設！CO2分離・回収技術から貯留技術、メタネーション・合成燃料などの利用技術までCCUSに関する様々な製品・技術が出展します。 \n  \nH2 ＆ FC EXPO 水素燃料電池展\n水素・燃料電池の研究開発、製造に必要なあらゆる技術、部品・材料、装置、燃料電池システムが出展。世界中から本分野の専門家が来場する国際展です。 \nPV EXPO 太陽光発電展\n太陽光発電所の建設から保守・運用に係るあらゆる製品が出展。日本全国から専門家が来場する専門展として業界に定着しています。 \nBATTERY JAPAN 二次電池展\n二次電池の研究開発、製造に必要なあらゆる技術、部品・材料、装置、二次電池が出展。世界各国から専門家が来場する専門展として業界に定着しています。 \nスマートグリッド EXPO\nVPPを実現する技術やエネマネ・蓄電池などの設備が出展する電力システムの総合展です。東京開催は東日本から、大阪開催は西日本から電力会社・アグリゲーター・需要家などが来場します。 \nWIND EXPO 風力発電展\n北海道から九州まで全国の風力発電の専門家、技術者が来場。(一社）日本風力発電協会(JWPA)と共に日本の風力発電の普及に寄与すべく、業界をあげて開催します。 \nBIOMASS EXPO バイオマス展\n北海道から九州まで全国のバイオマス分野の専門家が来場。（一社）日本木質バイオマスエネルギー協会、（一社）日本有機資源協会と共にバイオマス資源の利活用の普及に寄与すべく、業界をあげて開催します。 \nZERO-E THERMAL EXPO ゼロエミッション火力発電EXPO\n電力・ガス会社、発電事業者、プラントメーカーなど火力発電の専門家が全国から来場。（一社）火力原子力発電技術協会と共に、低炭素・高効率の次世代火力発電システムの普及に寄与すべく業界をあげて開催します。 \nCCUS EXPO -CO₂の分離・回収・利用・貯蔵 技術展\n初開催！CCUSに関するあらゆる製品・サービスが集結
URL:https://engineer-education.com/event/%e3%80%90%e5%b1%95%e7%a4%ba%e4%bc%9a%e6%83%85%e5%a0%b1%e3%80%91ccus-expo%e3%80%90%e7%a7%8b%e3%80%91%ef%bd%9e%e7%ac%ac1%e5%9b%9e-%e5%9b%bd%e9%9a%9b-co2%e3%81%ae%e5%88%86%e9%9b%a2%e3%83%bb%e5%9b%9e/
LOCATION:幕張メッセ\, 千葉県千葉市美浜区中瀬２丁目１\, 261-0023\, 日本
CATEGORIES:展示会（環境技術）
END:VEVENT
BEGIN:VEVENT
DTSTART;TZID=Asia/Tokyo:20250917T100000
DTEND;TZID=Asia/Tokyo:20250919T170000
DTSTAMP:20260422T044514
CREATED:20250711T013354Z
LAST-MODIFIED:20250715T074722Z
UID:145749-1758103200-1758301200@engineer-education.com
SUMMARY:【展示会情報】第4回 ネプコン ジャパン [秋] - エレクトロニクス 開発・実装展
DESCRIPTION:《主催者サイトより》\n電子機器・半導体の部品・材料、製造装置などが出展！　本展はエレクトロニクス機器の多機能化・高性能化を支える世界最先端の電子部品・材料や製造・実装・検査装置が出展する展示会です。国内外のエレクトロニクス、半導体・センサ、電子部品、自動車・電装品メーカーとの商談の場として定着しています。\n同時開催展あり。
URL:https://engineer-education.com/event/%e3%80%90%e5%b1%95%e7%a4%ba%e4%bc%9a%e6%83%85%e5%a0%b1%e3%80%91%e7%ac%ac4%e5%9b%9e-%e3%83%8d%e3%83%97%e3%82%b3%e3%83%b3-%e3%82%b8%e3%83%a3%e3%83%91%e3%83%b3-%e7%a7%8b-%e3%82%a8%e3%83%ac%e3%82%af/
LOCATION:幕張メッセ\, 千葉県千葉市美浜区中瀬２丁目１\, 261-0023\, 日本
CATEGORIES:展示会（電気・電子系）,展示会（IT・ソフトウェア）
ATTACH;FMTTYPE=image/jpeg:https://engineer-education.com/wp/wp-content/uploads/2025/07/nepconjapan-autumn-logo-inj01.coredownload.259549627.jpg
END:VEVENT
BEGIN:VEVENT
DTSTART;TZID=Asia/Tokyo:20250917T100000
DTEND;TZID=Asia/Tokyo:20250919T170000
DTSTAMP:20260422T044514
CREATED:20250711T042516Z
LAST-MODIFIED:20250715T073006Z
UID:145756-1758103200-1758301200@engineer-education.com
SUMMARY:【展示会情報】第4回 オートモーティブワールド [秋] - クルマの先端技術展
DESCRIPTION:《主催者サイトより》\n直接技術相談ができる自動車技術の専門展！　SDV、EV、次世代モビリティ開発など開発のヒントがここに。本展は、電子化・電動化、自動運転、コネクティッド・カー、車載ソフトウェア、サステナブル技術など、クルマの先端テーマの最新技術が一堂に出展。世界中の自動車メーカー・自動車部品メーカーとサプライヤーとの技術相談・商談の場として年々規模を拡大して開催しております。\n同時開催展あり。
URL:https://engineer-education.com/event/%e3%80%90%e5%b1%95%e7%a4%ba%e4%bc%9a%e6%83%85%e5%a0%b1%e3%80%91%e7%ac%ac4%e5%9b%9e-%e3%82%aa%e3%83%bc%e3%83%88%e3%83%a2%e3%83%bc%e3%83%86%e3%82%a3%e3%83%96%e3%83%af%e3%83%bc%e3%83%ab%e3%83%89/
LOCATION:幕張メッセ\, 千葉県千葉市美浜区中瀬２丁目１\, 261-0023\, 日本
CATEGORIES:展示会（機械系）,展示会（電気・電子系）,展示会（IT・ソフトウェア）
ATTACH;FMTTYPE=image/jpeg:https://engineer-education.com/wp/wp-content/uploads/2025/07/automotiveworld-autumn-02.coredownload.309615195.jpg
END:VEVENT
BEGIN:VEVENT
DTSTART;TZID=Asia/Tokyo:20250917T100000
DTEND;TZID=Asia/Tokyo:20250919T170000
DTSTAMP:20260422T044514
CREATED:20250711T042834Z
LAST-MODIFIED:20250715T074349Z
UID:145759-1758103200-1758301200@engineer-education.com
SUMMARY:【展示会情報】第1回 製造業 人手不足対策EXPO [秋] - 人材の採用・教育・管理展
DESCRIPTION:《主催者サイトより》\n業界初、製造業の「人材不足対策」に焦点を当てた専門展示会！　製造人材の「採用」「教育」「管理」にかかわるサービス、ソリューションが一堂に出展。来場者は自社の人材課題解決のためのサービスを比較検討できます。併催セミナーでは他社の人手不足対策事例など、人材と工場に関するあらゆるテーマで、学び、考えることができます。\n同時開催展あり。
URL:https://engineer-education.com/event/manufacturing-industrys-hr/
CATEGORIES:展示会（工場・生産管理系）,展示会（教育・人材育成）
ATTACH;FMTTYPE=image/jpeg:https://engineer-education.com/wp/wp-content/uploads/2025/07/fiweek-tokyo-mihr01.coredownload.352624714.jpg
END:VEVENT
BEGIN:VEVENT
DTSTART;TZID=Asia/Tokyo:20250924T100000
DTEND;TZID=Asia/Tokyo:20250926T170000
DTSTAMP:20260422T044514
CREATED:20250711T043201Z
LAST-MODIFIED:20250925T012151Z
UID:145761-1758708000-1758906000@engineer-education.com
SUMMARY:【展示会情報】COSME Week [大阪] 2025
DESCRIPTION:《主催者サイトより》\n化粧品開発展、国際 化粧品展の2つの専門展で構成され、\n原料、容器・パッケージ、OEMから化粧品（最終製品）まで一堂に出展する展示会です。\n化粧品メーカーや小売店・通販・卸・エステサロンの方など、化粧品・美容業界に携わる方・参入予定の方にご来場いただけます。\n【本展はBtoBの展示会となりますので、一般の方（消費者）の来場はできません。あらかじめご了承ください】
URL:https://engineer-education.com/event/%e3%80%90%e5%b1%95%e7%a4%ba%e4%bc%9a%e6%83%85%e5%a0%b1%e3%80%91cosme-week-%e5%a4%a7%e9%98%aa-2025/
LOCATION:インテックス大阪\, 大阪市住之江区南港北1-5-102\, 559-0034\, 日本
CATEGORIES:展示会（化学系）
ATTACH;FMTTYPE=image/png:https://engineer-education.com/wp/wp-content/uploads/2025/07/cosme-week-osaka-cosme-tech-logo-2025-color.coredownload.273247449-e1758763292149.png
END:VEVENT
BEGIN:VEVENT
DTSTART;TZID=Asia/Tokyo:20250925T100000
DTEND;TZID=Asia/Tokyo:20250926T170000
DTSTAMP:20260422T044514
CREATED:20250711T050025Z
LAST-MODIFIED:20250714T051835Z
UID:145764-1758794400-1758906000@engineer-education.com
SUMMARY:【展示会情報】フォームネクスト アジア 東京 フォーラム 2025
DESCRIPTION:《主催者サイトより》\nドイツ・フランクフルトの国際見本市『フォームネクスト』の姉妹イベントとして、工業用3Dプリンティングなどのアディティブ・マニュファクチャリング（AM／積層造形）技術、その関連技術、製品、サービス、情報が集まる展示とセミナーの複合イベントです。
URL:https://engineer-education.com/event/%e3%80%90%e5%b1%95%e7%a4%ba%e4%bc%9a%e6%83%85%e5%a0%b1%e3%80%91%e3%83%95%e3%82%a9%e3%83%bc%e3%83%a0%e3%83%8d%e3%82%af%e3%82%b9%e3%83%88-%e3%82%a2%e3%82%b8%e3%82%a2-%e6%9d%b1%e4%ba%ac-%e3%83%95/
LOCATION:東京都立産業貿易センター 浜松町館\, 日本
CATEGORIES:展示会（加工技術）
END:VEVENT
END:VCALENDAR