BEGIN:VCALENDAR
VERSION:2.0
PRODID:-//アイアール技術者教育研究所 - ECPv6.15.18//NONSGML v1.0//EN
CALSCALE:GREGORIAN
METHOD:PUBLISH
X-WR-CALNAME:アイアール技術者教育研究所
X-ORIGINAL-URL:https://engineer-education.com
X-WR-CALDESC:アイアール技術者教育研究所 のイベント
REFRESH-INTERVAL;VALUE=DURATION:PT1H
X-Robots-Tag:noindex
X-PUBLISHED-TTL:PT1H
BEGIN:VTIMEZONE
TZID:Asia/Tokyo
BEGIN:STANDARD
TZOFFSETFROM:+0900
TZOFFSETTO:+0900
TZNAME:JST
DTSTART:20240101T000000
END:STANDARD
END:VTIMEZONE
BEGIN:VEVENT
DTSTART;VALUE=DATE:20250527
DTEND;VALUE=DATE:20250531
DTSTAMP:20260422T114529
CREATED:20240419T062828Z
LAST-MODIFIED:20250714T052042Z
UID:126268-1748304000-1748649599@engineer-education.com
SUMMARY:【展示会情報】Japan IT Week【名古屋】
DESCRIPTION:《主催者サイトより》 \n\n\n\n\nJapan IT Week【名古屋】は、中部地方最大のシステム開発・運用・保守に関する総合展です。 \n4つの展示会で構成されています。 \n  \n\n\n\n\n［展示会構成］ \n\nソフトウェア＆アプリ開発 展\nIoT・エッジコンピューティング EXPO\n情報セキュリティ EXPO\nIT人材不足対策 EXPO
URL:https://engineer-education.com/event/japan-it-week-nagoya/
LOCATION:ポートメッセなごや\, 愛知県名古屋市港区金城ふ頭2-2\, 455-0848\, 日本
CATEGORIES:展示会（IT・ソフトウェア）
END:VEVENT
END:VCALENDAR