BEGIN:VCALENDAR
VERSION:2.0
PRODID:-//アイアール技術者教育研究所 - ECPv6.15.18//NONSGML v1.0//EN
CALSCALE:GREGORIAN
METHOD:PUBLISH
X-WR-CALNAME:アイアール技術者教育研究所
X-ORIGINAL-URL:https://engineer-education.com
X-WR-CALDESC:アイアール技術者教育研究所 のイベント
REFRESH-INTERVAL;VALUE=DURATION:PT1H
X-Robots-Tag:noindex
X-PUBLISHED-TTL:PT1H
BEGIN:VTIMEZONE
TZID:Asia/Tokyo
BEGIN:STANDARD
TZOFFSETFROM:+0900
TZOFFSETTO:+0900
TZNAME:JST
DTSTART:20220101T000000
END:STANDARD
END:VTIMEZONE
BEGIN:VEVENT
DTSTART;TZID=Asia/Tokyo:20231006T090000
DTEND;TZID=Asia/Tokyo:20231008T173000
DTSTAMP:20260423T230126
CREATED:20231005T055956Z
LAST-MODIFIED:20231005T055956Z
UID:116366-1696582800-1696786200@engineer-education.com
SUMMARY:【展示会情報】JACLaS EXpo- 臨床検査機器・試薬・システム展示会
DESCRIPTION:  \n《主催者サイトより》\n世界に誇る最先端の技術をJACLaSは、会員企業の製品を通して臨床検査分野の発展に貢献します。
URL:https://engineer-education.com/event/jaclas-expo_clinical-testing-equipment_reagent_system/
LOCATION:パシフィコ横浜\, 西区みなとみらい１丁目１−１\, 横浜市\, 神奈川県\, 220-0012\, 日本
END:VEVENT
BEGIN:VEVENT
DTSTART;TZID=Asia/Tokyo:20231012T100000
DTEND;TZID=Asia/Tokyo:20231013T170000
DTSTAMP:20260423T230126
CREATED:20231005T064146Z
LAST-MODIFIED:20231005T064146Z
UID:116389-1697104800-1697216400@engineer-education.com
SUMMARY:【展示会情報】ふくしま再生可能エネルギー産業フェア (REIFふくしま)
DESCRIPTION:  \n《主催者サイトより》\n“ふくしま”がリードする再エネ・水素社会の実現
URL:https://engineer-education.com/event/fukushima_renewable-energy/
LOCATION:ビッグパレットふくしま\, 郡山市南二丁目52番地\, 福島県\, 963-0115\, 日本
CATEGORIES:展示会,展示会（化学系）,展示会（環境技術）,展示会（電気・電子系）
END:VEVENT
BEGIN:VEVENT
DTSTART;TZID=Asia/Tokyo:20231017T080000
DTEND;TZID=Asia/Tokyo:20231018T200000
DTSTAMP:20260423T230126
CREATED:20231011T043914Z
LAST-MODIFIED:20231011T044323Z
UID:116580-1697529600-1697659200@engineer-education.com
SUMMARY:【展示会情報】日本国際水素会議・展示会
DESCRIPTION:  \n《主催者サイトより》\nconnecting green hydrogen japan 2023は、世界で最も確立された水素市場の1つで、将来のパートナーや現在のパートナーと出会い、最高のビジネス取引を行うための最高のプラットフォームです。本イベントは、2023年10月17日～18日に東京で開催され、水素エネルギーバリューチェーン全体から国内外の水素専門家が集まります。
URL:https://engineer-education.com/event/international-hydrogen-conference_exhibition_japan/
LOCATION:ベルサール渋谷ガーデン東京\, 渋谷区南平台町16-17\, 東京都\, 150-0036\, 日本
END:VEVENT
BEGIN:VEVENT
DTSTART;TZID=Asia/Tokyo:20231017T100000
DTEND;TZID=Asia/Tokyo:20231020T170000
DTSTAMP:20260423T230126
CREATED:20231005T070113Z
LAST-MODIFIED:20231005T070350Z
UID:116407-1697536800-1697821200@engineer-education.com
SUMMARY:【展示会情報】CEATEC（シーテック）
DESCRIPTION:  \n《主催者サイトより》\n経済発展と社会課題の解決を両立する「Society 5.0」の実現を目指し、\nあらゆる産業・業種の人と技術・情報が集い、「共創」によって未来を描く
URL:https://engineer-education.com/event/ceatec/
LOCATION:幕張メッセ\, 千葉県千葉市美浜区中瀬２丁目１\, 261-0023\, 日本
CATEGORIES:展示会（機械系）,展示会（環境技術）,展示会（電気・電子系）,展示会（IT・ソフトウェア）
ATTACH;FMTTYPE=image/jpeg:https://engineer-education.com/wp/wp-content/uploads/2023/10/CEATEC_logo1_blue_2023-1.jpg
END:VEVENT
BEGIN:VEVENT
DTSTART;TZID=Asia/Tokyo:20231018T080000
DTEND;TZID=Asia/Tokyo:20231021T170000
DTSTAMP:20260423T230126
CREATED:20230413T061334Z
LAST-MODIFIED:20230413T061334Z
UID:99811-1697616000-1697907600@engineer-education.com
SUMMARY:【展示会情報】メカトロテックジャパン
DESCRIPTION:《主催者サイトより》\n1987年にスタートした工作機械見本市で、西暦奇数年の秋に名古屋市のポートメッセなごやで開催しています。奇数年の工作機械展としては、国内最大規模。通算18回目となった2021年展では、426社・団体（1\,795小間）が出展、約7万人が来場しました。
URL:https://engineer-education.com/event/mechatronics-technology-japan/
LOCATION:ポートメッセなごや\, 愛知県名古屋市港区金城ふ頭2-2\, 455-0848\, 日本
ATTACH;FMTTYPE=image/png:https://engineer-education.com/wp/wp-content/uploads/2023/04/4b88723f4f03b69b0ae03234f5d0fe88.png
END:VEVENT
BEGIN:VEVENT
DTSTART;TZID=Asia/Tokyo:20231018T100000
DTEND;TZID=Asia/Tokyo:20231019T160000
DTSTAMP:20260423T230126
CREATED:20230413T065758Z
LAST-MODIFIED:20230413T065758Z
UID:99837-1697623200-1697731200@engineer-education.com
SUMMARY:【展示会情報】北海道 エネルギー技術革新EXPO
DESCRIPTION:  \n《主催者サイトより》\n日本は2050年のカーボンニュートラル、温室効果ガス排出削減について2030年度の46％削減、更に50％まで高める目標が示されました。\n気候変動問題への対応をするためにはエネルギー需給構造についても産官学が連携して取り組まなければなりません。北海道はその広大な土地と自然を活かした、風力、バイオマス、地熱など多様なエネルギーが存在しています。\nそのエネルギー導入ポテンシャルは全国屈指です。そこで、エネルギー問題への正しい理解と脱炭素社会実現のためのイノベーション創出、および更なる産業の発展をここ北海道から世界へ発信すべく「北海道エネルギー技術革新 EXPO」を初開催いたします。\n今回は集中展示として、北海道でも取り組みの進むマイクログリッド導入支援ゾーン、ゼロカーボンモビリティ・ビレッジ導入支援ゾーンを開催いたします。
URL:https://engineer-education.com/event/energy-technology-innovation-expo-hokkaido/
LOCATION:アクセスサッポロ\, ４丁目３−５５\, 札幌市白石区流通センター\, 北海道\, 0030030\, 日本
END:VEVENT
BEGIN:VEVENT
DTSTART;TZID=Asia/Tokyo:20231018T100000
DTEND;TZID=Asia/Tokyo:20231020T160000
DTSTAMP:20260423T230126
CREATED:20220624T055519Z
LAST-MODIFIED:20230209T052602Z
UID:72914-1697623200-1697817600@engineer-education.com
SUMMARY:【展示会情報】モノづくりフェア2023
DESCRIPTION:  \n《主催者サイトより》\nものづくりエンジニアのための技術開発促進と課題解決の場
URL:https://engineer-education.com/event/manufacturing-fair/
LOCATION:マリンメッセ福岡\, 福岡県福岡市博多区沖浜町７−１\, 福岡市\, 福岡県\, 812-0031\, 日本
CATEGORIES:展示会（加工技術）
END:VEVENT
BEGIN:VEVENT
DTSTART;TZID=Asia/Tokyo:20231019T100000
DTEND;TZID=Asia/Tokyo:20231020T170000
DTSTAMP:20260423T230126
CREATED:20231005T071744Z
LAST-MODIFIED:20231005T071829Z
UID:116417-1697709600-1697821200@engineer-education.com
SUMMARY:【展示会情報】北陸技術交流テクノフェア
DESCRIPTION:  \n《主催者サイトより》\n本フェアは業種・分野・地域を超え、様々な企業・大学・研究機関等が一堂に会する場として34回目を迎えます。この機会を捉え、出展者と北陸企業が活発な情報交換を行うことで、技術連携・技術移転などのきっかけとなり、多くの新しい技術が誕生することを目指しています。\n同時開催展あり。
URL:https://engineer-education.com/event/technology-exchange-techno-fair_hokuriku/
LOCATION:福井県産業会館\, 福井市下六条町103番地\, 福井県\, 918-8135\, 日本
CATEGORIES:展示会,展示会（化学系）,展示会（加工技術）,展示会（工場・生産管理系）,展示会（機械系）,展示会（電気・電子系）,展示会（IT・ソフトウェア）
END:VEVENT
BEGIN:VEVENT
DTSTART;TZID=Asia/Tokyo:20231019T100000
DTEND;TZID=Asia/Tokyo:20231021T150000
DTSTAMP:20260423T230126
CREATED:20230309T055748Z
LAST-MODIFIED:20230309T055748Z
UID:95057-1697709600-1697900400@engineer-education.com
SUMMARY:【展示会情報】諏訪圏工業メッセ
DESCRIPTION:《主催者サイトより》\n地方では国内最大級の工業専門展示会
URL:https://engineer-education.com/event/suwa-area_industry_messe/
LOCATION:諏訪圏工業メッセ会場\, 湖岸通り５－１２－１８\, 諏訪市\, 長野県\, 392-0027\, 日本
CATEGORIES:展示会（加工技術）,展示会（工場・生産管理系）,展示会（機械系）,展示会（電気・電子系）
END:VEVENT
BEGIN:VEVENT
DTSTART;TZID=Asia/Tokyo:20231025T100000
DTEND;TZID=Asia/Tokyo:20231027T170000
DTSTAMP:20260423T230126
CREATED:20231011T060624Z
LAST-MODIFIED:20231011T061113Z
UID:116590-1698228000-1698426000@engineer-education.com
SUMMARY:【展示会情報】FACTORY INNOVATION Week NAGOYA
DESCRIPTION:  \n《主催者サイトより》\n製造のあらゆる課題を解決できる絶好の場\n  \n[名古屋] ロボデックス -ロボット開発・活用展\n中部・近畿地方のロボットユーザー、ロボットメーカーに売込む絶好の場\n  \n[名古屋] スマート工場 EXPO-製造業IoT、AI、FA/ロボット による製造革新展\nスマート工場実現のための、IoT/AIによる遠隔監視/予兆保全/見える化ソリューション、デジタルツイン、FA/ロボット、生産管理システムなど最新技術が一堂に出展。\n  \n[名古屋]グリーンファクトリーEXPO\n工場のカーボンニュートラルを実現する技術が一堂に出展\n  \n[名古屋] ネプコン ジャパン\n電子機器・半導体の設計課題の解決・生産革新ができる展示会です\n  \n[名古屋] カーエレクトロニクス技術展\nカーエレクトロニクスの進化を支える技術が一堂に出展\n  \n[名古屋] EV・HV・FCV技術展\nモータ・インバータ、二次電池、FCV技術に関するあらゆる技術が一堂に出展\n  \n[名古屋] クルマの軽量化 技術展\nクルマの軽量化に特化した専門展\n  \n[名古屋] 自動車部品&加工 EXPO\n自動車部品の「量産・加工・試作」に特化した専門展\n  \n[名古屋] 自動運転 EXPO\n自動運転・ＡＤＡＳ に関するあらゆる技術・ソリューションが一堂に出展\n  \n[名古屋]SDV EXPO\n車載ソフトウェア開発展\n  \n[名古屋]スマート物流 EXPO\n物流向けIoT、AI、ロボットを比較検討する絶好の場\n  \n[名古屋] Factory Innovation Week 2023\n製造のあらゆる課題を解決できる絶好の場\n 
URL:https://engineer-education.com/event/factory-innovation-week-nagoya/
LOCATION:ポートメッセなごや\, 愛知県名古屋市港区金城ふ頭2-2\, 455-0848\, 日本
ATTACH;FMTTYPE=image/jpeg:https://engineer-education.com/wp/wp-content/uploads/2023/10/FACTORY-INNOVATION-Week-NAGOYA-1.jpg
END:VEVENT
END:VCALENDAR