BEGIN:VCALENDAR
VERSION:2.0
PRODID:-//アイアール技術者教育研究所 - ECPv6.15.18//NONSGML v1.0//EN
CALSCALE:GREGORIAN
METHOD:PUBLISH
X-ORIGINAL-URL:https://engineer-education.com
X-WR-CALDESC:アイアール技術者教育研究所 のイベント
REFRESH-INTERVAL;VALUE=DURATION:PT1H
X-Robots-Tag:noindex
X-PUBLISHED-TTL:PT1H
BEGIN:VTIMEZONE
TZID:Asia/Tokyo
BEGIN:STANDARD
TZOFFSETFROM:+0900
TZOFFSETTO:+0900
TZNAME:JST
DTSTART:20220101T000000
END:STANDARD
END:VTIMEZONE
BEGIN:VEVENT
DTSTART;TZID=Asia/Tokyo:20230510T100000
DTEND;TZID=Asia/Tokyo:20230512T160000
DTSTAMP:20260424T105312
CREATED:20230209T030230Z
LAST-MODIFIED:20250724T101028Z
UID:93352-1683712800-1683907200@engineer-education.com
SUMMARY:【展示会情報】未来モノづくり国際EXPO2023
DESCRIPTION:《主催者サイトより》\n大阪・関西万博は、「いのち輝く未来社会のデザイン」をテーマに、ICT・AI・ロボットなどの最新のテクノロジーを活用するほか、SDGs（Sustainable Development Goals）の実現に向けた国際博覧会として開催されます。万博期間は様々なイベントや企画が行われますが、万博を契機とした持続的な社会の発展につなげるため、2025年に向けて幅広い取り組みが必要とされています。\nそのような状況を踏まえ、このたび、（公社）２０２５年日本国際博覧会協会をはじめ関係各所の協力のもと、大阪・関西万博と連携した国際見本市として、わが国の産業を国内外に向けて発信する『未来モノづくり国際EXPO』を開催する運びとなりました。\n本展では、産業の課題を解決し、未来を切り拓く製品・技術を一堂に展示するとともに、明るい未来社会をデザインする最先端の技術テーマの展示をハイブリッド（リアル・オンライン）で予定しています。 皆さまのご出展をお待ちしております。 \nオンライン開催：2023年4月26日（水）～2023年5月19日（金） \nリ　ア　ル開催：2023年5月10日（水）～2023年5月12日（金） \n（10：00～17：00＜最終日は16時まで＞）
URL:https://engineer-education.com/event/future-manufacturing-international-expo/
LOCATION:インテックス大阪\, 大阪市住之江区南港北1-5-102\, 559-0034\, 日本
CATEGORIES:展示会（化学系）,展示会（加工技術）,展示会（機械系）,展示会（環境技術）,展示会（電気・電子系）,展示会（IT・ソフトウェア）
ATTACH;FMTTYPE=image/png:https://engineer-education.com/wp/wp-content/uploads/2023/02/7eb85666ebea53f08115b8201068a973.png
END:VEVENT
BEGIN:VEVENT
DTSTART;TZID=Asia/Tokyo:20230524T100000
DTEND;TZID=Asia/Tokyo:20230526T170000
DTSTAMP:20260424T105312
CREATED:20230307T063800Z
LAST-MODIFIED:20230307T063819Z
UID:94856-1684922400-1685120400@engineer-education.com
SUMMARY:【展示会情報】ワイヤレスジャパン ×ワイヤレス・テクノロジー・パーク（WTP）
DESCRIPTION:《主催者サイトより》\nワイヤレスジャパンは、デジタル変革の実現に不可欠となった「ワイヤレス (無線) 技術」を活用した製品／ソリューションが一堂に会するB2B展示会です。1996年の開催以来、ワイヤレス技術の普及・啓蒙活動を展開するとともに、ビジネスに直結する商談の機会を提供し続けてきました。ワイヤレス・テクノロジー・パーク（WTP）は、ワイヤレス技術に関する最新の研究開発にフォーカスした専門イベントです。2006年の初開催より一貫して、最先端のワイヤレス技術動向を紹介してきました。この度、27回目となる「ワイヤレスジャパン2023」と17回目となる「ワイヤレス・テクノロジー・パーク（WTP）2023」は、東京ビッグサイト西3・4ホールで開催する運びとなりました。先端技術からビジネス創出につながるICT展示会として、5G時代を牽引するワイヤレス製品・サービス・技術をお届けします。また、毎年好評の基調講演などのセミナー企画はオンデマンド配信も実施することで、Withコロナ時代のイベントのあり方を体現し、これまで以上に多くの来場者に、ネットワークの未来を体感できるコンテンツをお届けします。
URL:https://engineer-education.com/event/wireless-japan_wireless-technology-park/
LOCATION:東京ビッグサイト\, 東京都江東区有明3-11-1\, 135-0063\, 日本
CATEGORIES:展示会（IT・ソフトウェア）
ATTACH;FMTTYPE=image/jpeg:https://engineer-education.com/wp/wp-content/uploads/2023/03/0aaeacf5a7027ffb2157d020a24df493.jpg
END:VEVENT
END:VCALENDAR