BEGIN:VCALENDAR
VERSION:2.0
PRODID:-//アイアール技術者教育研究所 - ECPv6.15.18//NONSGML v1.0//EN
CALSCALE:GREGORIAN
METHOD:PUBLISH
X-ORIGINAL-URL:https://engineer-education.com
X-WR-CALDESC:アイアール技術者教育研究所 のイベント
REFRESH-INTERVAL;VALUE=DURATION:PT1H
X-Robots-Tag:noindex
X-PUBLISHED-TTL:PT1H
BEGIN:VTIMEZONE
TZID:Asia/Tokyo
BEGIN:STANDARD
TZOFFSETFROM:+0900
TZOFFSETTO:+0900
TZNAME:JST
DTSTART:20220101T000000
END:STANDARD
END:VTIMEZONE
BEGIN:VEVENT
DTSTART;TZID=Asia/Tokyo:20230412T100000
DTEND;TZID=Asia/Tokyo:20230414T170000
DTSTAMP:20260424T123616
CREATED:20230309T052806Z
LAST-MODIFIED:20230309T052806Z
UID:95050-1681293600-1681491600@engineer-education.com
SUMMARY:【展示会情報】第1回 名古屋 製造業DX展
DESCRIPTION:《主催者サイトより》\n名古屋 製造業DX展とは、製造業の業務デジタル化やデジタルトランスフォーメーション(DX)を推進するIT製品やサービスが出展する展示会です。製造業の情報システム、製造、開発、調達、品質、営業、経営企画部門などのユーザーが来場いたします。ポートメッセなごやにて開催する本展をはじめ大阪でも開催いたします。\n同時開催展あり。 \n名古屋 設計・製造ソリューション展\n製造業向けITソリューションが出展する展示会 \n名古屋 機械要素技術展\n機械部品や、切削、プレスなどの加工技術、表面処理などが出展する展示会 \n名古屋 工場設備・備品展\n工場向けの省エネ製品、物流機器、メンテナンス製品、安全用品、防災製品などが出展する展示会 \n名古屋 航空・宇宙機器 開発展\n航空機、宇宙機器の開発・製造技術や、部品、デバイス、材料・素材、計測機など出展する展示会 \n名古屋 次世代 3Dプリンタ展\nアディティブ・マニュファクチャリング、3Dプリンタ、材料、受託造形サービスなど、AM、3Dプリント技術に関する展示会 \n名古屋 ものづくり AI/IoT展\nIoTプラットフォーム、AIソリューション、セキュリティ、通信機器など製造業向けIoT・AIソリューションが出展する展示会 \n名古屋 計測・検査・センサ展\n測機、検査機、センサなどが出展する展示会 \n名古屋 ものづくりODM/EMS展\nものづくりの開発・製造ODM、EMSなどを得意とする企業が一堂に集結する展示会
URL:https://engineer-education.com/event/manufacturing-industry_nagoya/
LOCATION:ポートメッセなごや\, 愛知県名古屋市港区金城ふ頭2-2\, 455-0848\, 日本
CATEGORIES:展示会（加工技術）,展示会（工場・生産管理系）,展示会（機械系）,展示会（電気・電子系）,展示会（IT・ソフトウェア）
END:VEVENT
BEGIN:VEVENT
DTSTART;TZID=Asia/Tokyo:20230412T100000
DTEND;TZID=Asia/Tokyo:20230415T170000
DTSTAMP:20260424T123616
CREATED:20230208T055137Z
LAST-MODIFIED:20230208T055819Z
UID:93228-1681293600-1681578000@engineer-education.com
SUMMARY:【展示会情報】INTERMOLD 2023（第34回金型加工技術展）/ 金型展2023
DESCRIPTION:《主催者サイトより》\n「金型」専門見本市として、金型設計・製造から金属プレス・プラスチック成形に至る一連の工程が集まり最新のソリューション提案が行い、日本のモノづくりを支える素形材産業の最新情報を発信する展示会となる。 \n自動車の EV 化、脱炭素社会の実現、デジタルトランスフォーメーションなどの課題に加え、情勢不安、材料不足、労働者不足など製造業を取り巻く環境は、困難を極めている。同展示会は、国内唯一の金型加工技術・金属プレス加工技術に特化した展示会として、最新技術を PR し、ものづくり業界の課題解決とビジネス促進となる商談の場を提供する。
URL:https://engineer-education.com/event/intermold-2/
LOCATION:東京ビッグサイト\, 東京都江東区有明3-11-1\, 135-0063\, 日本
CATEGORIES:展示会（加工技術）,展示会（機械系）
ATTACH;FMTTYPE=image/jpeg:https://engineer-education.com/wp/wp-content/uploads/2023/02/mk.jpg
END:VEVENT
BEGIN:VEVENT
DTSTART;TZID=Asia/Tokyo:20230413T100000
DTEND;TZID=Asia/Tokyo:20230414T170000
DTSTAMP:20260424T123616
CREATED:20230209T021552Z
LAST-MODIFIED:20230307T043012Z
UID:93333-1681380000-1681491600@engineer-education.com
SUMMARY:【展示会情報】第3回 大阪・関西万博 開催支援EXPO
DESCRIPTION:《主催者サイトより》 \n2025年に開催が予定されている大阪・関西万博。 「いのち輝く未来社会のデザイン」をテーマとしたこの万博の成功に向けて、業界関係者が一堂に集まり、具体的な準備のための情報交換・商談の場の提供を目的として、本展の開催を決定しました。また、夢洲全体の総合的・一体的なまちづくりのために万博のレガシーをどう生かすか、といった「万博後のまちづくり」の視点から、様々な議論の場を提供することで、夢洲を中心とした大阪・関西圏の持続可能な発展を目指しています。
URL:https://engineer-education.com/event/osaka-kansai-exp_holding-support/
LOCATION:インテックス大阪\, 大阪市住之江区南港北1-5-102\, 559-0034\, 日本
CATEGORIES:展示会（環境技術）,展示会（食品関連）,展示会（電気・電子系）
END:VEVENT
END:VCALENDAR