BEGIN:VCALENDAR
VERSION:2.0
PRODID:-//アイアール技術者教育研究所 - ECPv6.15.18//NONSGML v1.0//EN
CALSCALE:GREGORIAN
METHOD:PUBLISH
X-WR-CALNAME:アイアール技術者教育研究所
X-ORIGINAL-URL:https://engineer-education.com
X-WR-CALDESC:アイアール技術者教育研究所 のイベント
REFRESH-INTERVAL;VALUE=DURATION:PT1H
X-Robots-Tag:noindex
X-PUBLISHED-TTL:PT1H
BEGIN:VTIMEZONE
TZID:Asia/Tokyo
BEGIN:STANDARD
TZOFFSETFROM:+0900
TZOFFSETTO:+0900
TZNAME:JST
DTSTART:20210101T000000
END:STANDARD
END:VTIMEZONE
BEGIN:VEVENT
DTSTART;TZID=Asia/Tokyo:20220629T100000
DTEND;TZID=Asia/Tokyo:20220701T180000
DTSTAMP:20260425T042309
CREATED:20220617T072027Z
LAST-MODIFIED:20220622T011959Z
UID:72567-1656496800-1656698400@engineer-education.com
SUMMARY:【展示会情報】通信・放送 Week
DESCRIPTION:光通信技術展 FOE、映像伝送 EXPO VCOM、5G通信技術展、4K・8K映像技術展、ローカル5G／IoT活用展 \n《主催者サイトより》\n通信・放送Weekは、5G／IoT、光通信、4K・8K映像技術、映像伝送などの最新技術が一堂に出展します。\n通信事業者、通信システムメーカーなど通信技術を求める技術者や、放送事業者、産業分野（医療、セキュリティ、イベントなど）の映像技術を求めるユーザーが日本全国から来場します。\n  \n光通信技術展 FOE\nアジア最大級！次世代光ネットワーク技術の専門展\n  \n映像伝送 EXPO VCOM\n映像伝送・ローカル5G・光通信など先端技術を網羅！\n  \n5G通信技術展\n5Gデバイス製造のための材料ゾーンを特設。基地局設備・通信デバイス・高周波部材などが一堂に出展。\n  \n4K・8K映像技術展\n高精細映像システムなど840製品を「見て」「触れて」比較検討できます！\n  \nローカル5G／IoT活用展\nDX・スマート化を実現するためのソリューション・サービス・通信機器が多数出展。その場で比較・検討・導入ができます。\n 
URL:https://engineer-education.com/event/communication-broadcast-week/
LOCATION:東京ビッグサイト\, 東京都江東区有明3-11-1\, 135-0063\, 日本
CATEGORIES:展示会（電気・電子系）,展示会（IT・ソフトウェア）
END:VEVENT
BEGIN:VEVENT
DTSTART;TZID=Asia/Tokyo:20220630T100000
DTEND;TZID=Asia/Tokyo:20220702T170000
DTSTAMP:20260425T042309
CREATED:20220617T072004Z
LAST-MODIFIED:20220617T072004Z
UID:72582-1656583200-1656781200@engineer-education.com
SUMMARY:【展示会情報】ROBOT TECHNOLOGY JAPAN
DESCRIPTION:  \n《主催者サイトより》\n産業集積地「中部」で開催される、産業用ロボット・自動化システムに特化した展示会です。\nこんな課題をお持ちの方、解決のお手伝いをいたします！\n・人手不足に直面する国内の生産現場で、どうロボットを活用するべきか\n・生産現場の品質の安定を図りたい\n・AIやIoTの技術をどのように活用するか\n・生産現場に最適なシステムインテグレーターとマッチングを図りたい\n 
URL:https://engineer-education.com/event/robot-technology-japan/
LOCATION:Aichi Sky Expo（愛知県国際展示場）\, 愛知県常滑市セントレア5丁目10番1号\, 479-0881\, 日本
CATEGORIES:展示会（工場・生産管理系）
ATTACH;FMTTYPE=image/jpeg:https://engineer-education.com/wp/wp-content/uploads/2022/06/img_logoColor-e1655445260550.jpg
END:VEVENT
BEGIN:VEVENT
DTSTART;VALUE=DATE:20220701
DTEND;VALUE=DATE:20220703
DTSTAMP:20260425T042309
CREATED:20220614T080253Z
LAST-MODIFIED:20220617T023435Z
UID:72298-1656633600-1656806399@engineer-education.com
SUMMARY:【展示会情報】ET＆IoT West
DESCRIPTION:  \n《主催者サイトより》\n組込みとエッジコンピューティング技術の展示会が開催されます。 \nET & IoT WESTとは？\nIoTのコア技術である“エッジテクノロジー”の最先端情報を一望できる関西最大級の総合技術展 \nPOINT 1　関西圏を拠点とする主要企業へ向けた販促のチャンス\nPOINT 2　改めてリアルに比重を置くことでデジタルでは実現しにくい商談やビジネスチャンスを創出 \n 
URL:https://engineer-education.com/event/et-iot-west/
LOCATION:グランフロント大阪 北館\, 大阪府大阪市北区大深町3-1\, 大阪市\, 大阪府\, 530-0011\, 日本
CATEGORIES:展示会（IT・ソフトウェア）
ATTACH;FMTTYPE=image/jpeg:https://engineer-education.com/wp/wp-content/uploads/2022/06/west2022-e1655193547277.jpg
END:VEVENT
BEGIN:VEVENT
DTSTART;TZID=Asia/Tokyo:20220720T100000
DTEND;TZID=Asia/Tokyo:20220722T170000
DTSTAMP:20260425T042309
CREATED:20220621T060434Z
LAST-MODIFIED:20220621T060434Z
UID:72714-1658311200-1658509200@engineer-education.com
SUMMARY:【展示会情報】スマートアグリ ジャパン
DESCRIPTION:  \n《主催者サイトより》\nスマート農業機器・技術展\n 
URL:https://engineer-education.com/event/smart-agriculture-japan/
LOCATION:東京ビッグサイト\, 東京都江東区有明3-11-1\, 135-0063\, 日本
CATEGORIES:展示会（機械系）,展示会（IT・ソフトウェア）
END:VEVENT
BEGIN:VEVENT
DTSTART;TZID=Asia/Tokyo:20220720T100000
DTEND;TZID=Asia/Tokyo:20220722T170000
DTSTAMP:20260425T042309
CREATED:20220621T061914Z
LAST-MODIFIED:20250714T052500Z
UID:72717-1658311200-1658509200@engineer-education.com
SUMMARY:【展示会情報】施設園芸・植物工場展
DESCRIPTION:  \n《主催者サイトより》\n新技術の導入により、地球環境を意識しつつ、面積当たりの生産量の大幅な増加や省エネ・省力化の実現を考えている皆様に向けて、まさに先進な考え方や技術を学ぶ場として絶好の機会を提供するものです。\n 
URL:https://engineer-education.com/event/greenhouse-horticulture-and-plant-factory-exhibition/
LOCATION:東京ビッグサイト\, 東京都江東区有明3-11-1\, 135-0063\, 日本
CATEGORIES:展示会（工場・生産管理系）,展示会（食品関連）
END:VEVENT
BEGIN:VEVENT
DTSTART;TZID=Asia/Tokyo:20220726T100000
DTEND;TZID=Asia/Tokyo:20220728T170000
DTSTAMP:20260425T042309
CREATED:20220422T075905Z
LAST-MODIFIED:20230209T070038Z
UID:69669-1658829600-1659027600@engineer-education.com
SUMMARY:【展示会情報】INDUSTRY-FRONTIER 2023
DESCRIPTION:“つながる工場”推進展、工場内のシステム見える化展、工場内のデジタルトランスフォーメーション（DX）展、工場内の予兆診断・保全展、工場内物流最適化展、工場内の非接触技術展、工場の協働ロボット利活用展、再生エネ・水素活用展 \n《主催者サイトより》\n“つながる工場”推進展\n製造業のDXを実現するものづくりIoT・連携支援ツールの総合展 \n  \n工場内のシステム見える化展\nQCDの革新・改善を対象にした専門技術展 \n  \n工場内のデジタルトランスフォーメーション（DX）展\n開発・設計プロフェッショナルのための“デジタルトランスフォーメーション”支援ツールの総合展 \n  \n工場内の予兆診断・保全展\n生産・製造現場の効率化・安定化・スマート化に貢献 \n\n工場内物流最適化展\n工場内のスマート物流を実現する機器・設備・システムの総合展 \n  \n工場内の非接触技術展\nニューノーマル時代を支える要素技術が一堂に! \n\n工場内の協働ロボット利活用展\nヒトとの共存、自動化・省人化 \n\n再生エネ・水素活用展\n～2050年に向けたエネルギー問題解決の救世主～ \n  \nオンライン開催：2023年8月1日（火）～2023年8月25日（金） \nリ　ア　ル開催：2023年7月26日（水）～2023年7月26日（金）（10：00～17：00） \n 
URL:https://engineer-education.com/event/industry-frontier/
LOCATION:東京ビッグサイト\, 東京都江東区有明3-11-1\, 135-0063\, 日本
CATEGORIES:展示会,展示会（工場・生産管理系）
ATTACH;FMTTYPE=image/png:https://engineer-education.com/wp/wp-content/uploads/2022/04/INDUSTRY-FRONTIER-2023.png
END:VEVENT
END:VCALENDAR