BEGIN:VCALENDAR
VERSION:2.0
PRODID:-//アイアール技術者教育研究所 - ECPv6.15.18//NONSGML v1.0//EN
CALSCALE:GREGORIAN
METHOD:PUBLISH
X-ORIGINAL-URL:https://engineer-education.com
X-WR-CALDESC:アイアール技術者教育研究所 のイベント
REFRESH-INTERVAL;VALUE=DURATION:PT1H
X-Robots-Tag:noindex
X-PUBLISHED-TTL:PT1H
BEGIN:VTIMEZONE
TZID:Asia/Tokyo
BEGIN:STANDARD
TZOFFSETFROM:+0900
TZOFFSETTO:+0900
TZNAME:JST
DTSTART:20240101T000000
END:STANDARD
END:VTIMEZONE
BEGIN:VEVENT
DTSTART;TZID=Asia/Tokyo:20251112T100000
DTEND;TZID=Asia/Tokyo:20251114T170000
DTSTAMP:20260422T031640
CREATED:20240314T022910Z
LAST-MODIFIED:20250430T061518Z
UID:95080-1762941600-1763139600@engineer-education.com
SUMMARY:【展示会情報】高機能素材Week-東京展
DESCRIPTION:《主催者サイトより》 \n世界最大級！高機能素材・リサイクル技術・レーザー技術・電子ディスプレイの総合展\n  \n高機能素材 Weekとは\n機能性フィルム・プラスチック・セルロース・炭素繊維複合材・金属・セラミックスなどの最先端の素材技術が一堂に出展する世界最大規模の展示会です。\nまた、材料だけではなく、材料の製造加工機械、検査測定分析機器など素材産業に関わるあらゆる技術が出展しています。\n各業界の研究・開発・設計・製造担当者が来場し、出展社と活発な商談が行われています。 \n \nリサイクルテック ジャパンとは\nリサイクルの技術革新とエコシステムを実現する展示会です。材料、メーカー、物流、小売、産廃事業者、自治体など様々なパートナーとのエコシステムを実現し、社会実装してまいります。 \n \nPhotonixとは\nレーザー加工、光学部品・材料、光計測・分析機器などが出展する、日本最大級の光・レーザー関連技術の総合展です。\n自動車・電機・二次電池メーカーの生産技術・工場関係者が多数来場します。 \n \nFINETECH JAPANとは\n電子ディスプレイ（液晶、有機EL、量子ドット、マイクロLED）から、その製造装置、材料、加工技術までが一堂に出展する世界最大規模の専門展。\n日本のみならず、中国・韓国・台湾など世界中のパネルメーカーとの商談の場を提供しています。
URL:https://engineer-education.com/event/highly-functional-material-week-tokyo/
LOCATION:幕張メッセ\, 千葉県千葉市美浜区中瀬２丁目１\, 261-0023\, 日本
CATEGORIES:展示会（化学系）,展示会（環境技術）,展示会（電気・電子系）
END:VEVENT
BEGIN:VEVENT
DTSTART;VALUE=DATE:20251126
DTEND;VALUE=DATE:20251128
DTSTAMP:20260422T031640
CREATED:20240322T063630Z
LAST-MODIFIED:20250714T051725Z
UID:125065-1764115200-1764287999@engineer-education.com
SUMMARY:【展示会情報】Japan Drone  ／ 次世代エアモビリティEXPO　in 関西
DESCRIPTION:《主催者サイトより》\nJapan Droneは社会基盤整備を促進し、豊かなくらしの実現に向けたスマートシティの推進に積極的に取り組みます。\nJapan Droneは、今後起きうるドローン業界の変化に対応し、課題を解決するためのオープンプラットフォームとして国際的なマッチングコミュニケーションの場を提供します。 \n次世代エアモビリティEXPOは新しい産業の創造に貢献することを目指します。歴史的に新しいモビリティの誕生はモビリティの製造だけでなく、それに付随する多くのビジネスを生み出してきました。 空飛ぶクルマ（eVTOL）は自動車以来100年振りとなる新たなモビリティであり、今後機体製造・運航事業・インフラ整備を軸として様々なビジネスが立ち上がるものと期待されています。
URL:https://engineer-education.com/event/japan-drone%e2%80%97expo%e2%80%97in-kansai/
LOCATION:ナレッジキャピタル コングレコンベンションセンター\, 大阪市北区大深町3-1\, 大阪府\, 530-0011\, 日本
CATEGORIES:展示会,展示会（機械系）,展示会（電気・電子系）
END:VEVENT
BEGIN:VEVENT
DTSTART;TZID=Asia/Tokyo:20251126T100000
DTEND;TZID=Asia/Tokyo:20251128T170000
DTSTAMP:20260422T031640
CREATED:20241108T050311Z
LAST-MODIFIED:20250709T042354Z
UID:135174-1764151200-1764349200@engineer-education.com
SUMMARY:産業交流展2025
DESCRIPTION: \n《主催者サイトより》\n産業交流展は、原則として首都圏（東京都・埼玉県・千葉県・神奈川県）に事業所を有する、個性あふれる中小企業などの優れた技術や製品を一堂に展示し、販路拡大、企業間連携の実現、情報収集・交換などのビジネスチャンスを提供することを目的としています。 \n時代を担うさまざまな新製品・新サービスの開発や、他社との協業・共創などに積極果敢に取り組み、新たなビジネスチャンスの獲得や市場の開拓に挑む、情熱と志を持つ中小企業が集結。\n業種や規模を問わずさまざまな企業の事業課題克服に貢献し、企業の持続的成長と日本経済の発展に貢献する次の一手を提案します。 \n出展対象分野\n情報\n● loT、AI、ビッグデータなどを活用した技術・サービス\n● 映像・画像処理技術、動画作成\n● クラウド型サービス\n● Web、スマホアプリケーション関連技術\n● 情報関連セキュリティ技術・製品\n● 次世代半誘導体技術 など \n環境\n● 環境負担の少ないエネルギー技術\n● 廃棄物処理・再資源化技術\n● 省エネルギー・新エネルギー関連技術・製品\n● 環境改善技術（土壌改良、水質改善など）\n● 環境関連サービス、環境分析測定関連装置\n● 破砕・粉砕・造粒、減容・圧縮・梱包関連 など \n医療・福祉\n● バイオ関連技術\n● 再生医療関連技術\n● 介護予防、リハビリテーション関連技術・製品\n● 医療機器産業、介護福祉機器産業\n● バリアフリー関連技術・製品\n● 常時モニタリング型医療管理システム技術 など \n機械・金属\n● ロボット産業、次世代自動車産業、宇宙・航空機産業\n● 作業工具、金属プレス加工、工作機械、機械工具、加工機械（食品など）、ベアリング、金型、電気機器\n● MEMS（Micro Electro Mechanical Systems）技術\n● マテリアル、素材関連技術\n● 精密機器、電子機器類の設計・制作 など \n アイアールも出展します当サイトを運営している日本アイアールも出展している展示会です。\nご興味のある方はぜひご来場ください！
URL:https://engineer-education.com/event/sangyo-koryuten/
LOCATION:東京ビッグサイト\, 東京都江東区有明3-11-1\, 135-0063\, 日本
CATEGORIES:展示会（医薬・医療機器）,展示会（機械系）,展示会（環境技術）,展示会（IT・ソフトウェア）
ATTACH;FMTTYPE=image/png:https://engineer-education.com/wp/wp-content/uploads/2024/11/sankoten25_960x504-e1752034745365.png
END:VEVENT
BEGIN:VEVENT
DTSTART;VALUE=DATE:20251203
DTEND;VALUE=DATE:20251206
DTSTAMP:20260422T031640
CREATED:20220624T073644Z
LAST-MODIFIED:20250501T015408Z
UID:72939-1764720000-1764979199@engineer-education.com
SUMMARY:【展示会情報】2025 洗浄総合展
DESCRIPTION:《主催者サイトより》\n本展示会では、生産現場の金属加工や自動車、電子・精密部品など多様な業種に合わせ、洗浄機器・システム・洗浄剤など産業洗浄に関する最新製品・技術を一堂に展示・公開いたします。 \n1984年より開催している本展は今回で27回目を迎えます。モノづくりのプロセスにおいて必要不可欠な「産業洗浄」の専門展示会として、関連分野を増やしながらも産業洗浄および洗浄後の品質・性能の維持・向上を目指す展示会として開催を重ねてまいりました。\nさらに、産業界を支える専門性の高い展示会と同時開催を行うことにより、規模の拡大と来場者の質の向上を目指します。 \n産業洗浄に関する課題解決へ向けて、本展示会をご活用いただけますようお願い申し上げます。\n関係各位のご参加を心よりお待ちしております。
URL:https://engineer-education.com/event/pan-exhibition-for-wash-and-clean/
LOCATION:東京ビッグサイト\, 東京都江東区有明3-11-1\, 135-0063\, 日本
CATEGORIES:展示会,展示会（加工技術）
ATTACH;FMTTYPE=image/png:https://engineer-education.com/wp/wp-content/uploads/2022/06/banner_300x250.png
END:VEVENT
BEGIN:VEVENT
DTSTART;VALUE=DATE:20251203
DTEND;VALUE=DATE:20251206
DTSTAMP:20260422T031640
CREATED:20220627T063808Z
LAST-MODIFIED:20250714T051658Z
UID:73054-1764720000-1764979199@engineer-education.com
SUMMARY:【展示会情報】VACUUM 2025 真空展
DESCRIPTION:《主催者サイトより》\n「VACUUM2025真空展」は今年で47回目を迎える真空機器・真空装置の総合展示会です。 技術開発・製品製造・販売など真空技術に関わる企業、研究者の方々が毎年多数来場し、ビジネスに直結する数多くの商談が行われております。\n真空技術は、半導体、FPD、エネルギー、医療、分析、自動車、食品、新材料などの広範囲な産業を支える基盤技術であると同時に、宇宙開発や素粒子物理学などの基礎科学研究にも重要な役割を担っております。近年は地球環境保全や自動運転技術などが重要視されており、真空技術が貢献できる技術分野はますます拡大しています。次世代における新たな真空技術のあり方を考える機会として本展を開催いたします。\nモノづくりに関わる「洗浄総合展」「sampe Japan先端材料技術展」「スマートファクトリーJapan」「高精度・難加工技術展」「表面改質展」「国際ロボット展」との同時開催による相乗効果により、ビジネスチャンスの場として非常に有効です。\n製品の拡販、新規取引先の開拓の場としていただきたく、多くの企業・団体の皆さまにご出展を賜りますようよろしくお願い申し上げます。
URL:https://engineer-education.com/event/vacuum-exhibition/
LOCATION:東京ビッグサイト\, 東京都江東区有明3-11-1\, 135-0063\, 日本
CATEGORIES:展示会,展示会（加工技術）
ATTACH;FMTTYPE=image/png:https://engineer-education.com/wp/wp-content/uploads/2022/06/banner_320x50.png
END:VEVENT
BEGIN:VEVENT
DTSTART;TZID=Asia/Tokyo:20251203T100000
DTEND;TZID=Asia/Tokyo:20251205T170000
DTSTAMP:20260422T031640
CREATED:20250711T051458Z
LAST-MODIFIED:20250714T061455Z
UID:145777-1764756000-1764954000@engineer-education.com
SUMMARY:【展示会情報】食品工場Week
DESCRIPTION:《主催者サイトより》\n食品工場 Weekには、食品工場の自動化・DX、衛生・安全対策、食品ロス対策に関する先端技術・サービスが一堂に出展。導入検討、課題解決を目的とする食品メーカーと出展社とのビジネスの場として開催しております。\n同時開催展あり。
URL:https://engineer-education.com/event/food-factory-week/
LOCATION:幕張メッセ\, 千葉県千葉市美浜区中瀬２丁目１\, 261-0023\, 日本
CATEGORIES:展示会（食品関連）
END:VEVENT
BEGIN:VEVENT
DTSTART;TZID=Asia/Tokyo:20251203T100000
DTEND;TZID=Asia/Tokyo:20251205T170000
DTSTAMP:20260422T031640
CREATED:20250711T052001Z
LAST-MODIFIED:20250715T073706Z
UID:145780-1764756000-1764954000@engineer-education.com
SUMMARY:【展示会情報】表面改質展2025
DESCRIPTION:《主催者サイトより》\n多様化するモノづくりの課題・ニーズに対し、最適なソリューションを提供する“技術の専門展”\n自動車、航空・宇宙、電機・電子、医療機器、食品加工など、製造技術が求められる分野は多様化しています。 \nこうした背景の中でも普遍的に求められるのは、他にはない高付加価値や高機能といったオンリーワンの“技術”です。 \n『高精度・難加工技術展』は極限の追求をテーマに、より高度な製造技術を紹介するとともに、今後のモノづくりを支える革新分野の一つである3Dプリンター関連技術を発信する［3D造形技術／AMゾーン］と、多品種少量生産や短納期を可能にし、製品開発において重要な役割をもつ試作に特化した［試作市場（試作加工受託ゾーン）］を設置します。 \n『表面改質展』は表面処理技術の総合展として、熱処理やめっきなどによる耐摩耗性向上、長寿命化で高付加価値化・高機能化を実現する各種技術を紹介します。 \nまた、それぞれに専門性の高い5展との同時開催により、技術発信の場としてさらなる集客を図ります。 \n本展示会の開催趣旨にご理解いただき、ぜひご出展賜りますよう、ご案内申し上げます。
URL:https://engineer-education.com/event/surface-structure-design/
LOCATION:東京ビッグサイト\, 東京都江東区有明3-11-1\, 135-0063\, 日本
CATEGORIES:展示会（加工技術）
ATTACH;FMTTYPE=image/jpeg:https://engineer-education.com/wp/wp-content/uploads/2025/07/bnr_ssd-e1752565013469.jpg
ORGANIZER;CN="%E6%A0%AA%E5%BC%8F%E4%BC%9A%E7%A4%BE%E6%97%A5%E5%88%8A%E5%B7%A5%E6%A5%AD%E6%96%B0%E8%81%9E%E7%A4%BE":MAILTO:autumnfair@nikkan.tech
END:VEVENT
BEGIN:VEVENT
DTSTART;TZID=Asia/Tokyo:20260520T100000
DTEND;TZID=Asia/Tokyo:20260522T170000
DTSTAMP:20260422T031640
CREATED:20240325T021811Z
LAST-MODIFIED:20260409T082432Z
UID:125102-1779271200-1779469200@engineer-education.com
SUMMARY:【展示会情報】インターフェックス Week [東京]
DESCRIPTION:★アイアールも出展します！\n  \n《主催者サイトより》\n本展は、世界25の国と地域から医薬品・化粧品・再生医療の研究・製造に関するあらゆる製品・サービスが出展する展示会として、日本最大の規模で開催。世界中から医薬品・化粧品メーカー、再生医療企業が来場します。 \n  \nインターフェックス ジャパン\nインターフェックス ジャパン ‐ 医薬品 化粧品 製造 展 – は、国内外から950社が出展し35\,000名が来場する、医薬品・化粧品の製造分野で日本最大の国際展示会です。\n製造・包装、プラントエンジニアリング、設備保全、測定・検査、滅菌・クリーン化、物流・流通など、医薬品・化粧品製造プロセスを支えるあらゆる製品・サービスが出展します。 \n  \nインファーマ ジャパン\n原薬・中間体、添加剤、天然抽出物、ファインケミカル、受託合成サービスなど国内・海外の医薬品原料、関連技術が一同に出展し、新しい取引先や課題解決のヒントを求める医薬品メーカーの研究部門や購買部門が来場します。 \n  \nバイオ医薬EXPO\nバイオ医薬品の製造・研究で使われる研究機器、製造設備、備品、各種サービスが国内・海外から一同に出展し、バイオ医薬品メーカーや創薬ベンチャーの研究開発、生産・製造、経営部門が来場します。 \n  \nファーマラボ EXPO\n研究機器、分析・測定機器、創薬AI、ラボオートメーション技術、研究設備・備品など医薬品の研究開発に必要な製品・サービスが一同に出展し、新技術の導入検討や研究課題の解決ヒントを求める医薬品メーカーの研究、品質部門が来場します。 \n  \nファーマDX EXPO\n「医薬品×デジタル」のさらなるネットワーク創出につながる展示会。本展は「垣根を越えたネットワーク創出」「最新の情報発信」「共創のための交流」といった価値を提供し、医薬品の研究・製造から営業全ての領域におけるDX推進を支援。 \n  \n再生医療 EXPO 東京\n再生医療EXPO東京は、再生医療の研究・治療・創薬に必要な研究機器、製造設備、備品、各種サービスが一同に出展する専門展示会です。 \n  \nCMO/CDMO EXPO 東京\n医薬品の「受託開発・製造」がテーマの専門展。近年、製造コスト削減やモダリティ多様化などへの対応からCMO/CDMOの重要性が増々高まる中、来場する医薬品メーカーより多数の要望を受け誕生。 \n \n \n アイアールの出展情報\n当サイトを運営している日本アイアールは「ファーマDX EXPO」出展します。\nアイアールの主な出展内容はこちらです。ご興味のある方はぜひご来場ください！\n\n\n 
URL:https://engineer-education.com/event/interphex_tokyo/
LOCATION:幕張メッセ\, 千葉県千葉市美浜区中瀬２丁目１\, 261-0023\, 日本
CATEGORIES:展示会（医薬・医療機器）
ATTACH;FMTTYPE=image/png:https://engineer-education.com/wp/wp-content/uploads/2025/05/26_J_4C_IPW6-scaled-e1775722718471.png
END:VEVENT
END:VCALENDAR