BEGIN:VCALENDAR
VERSION:2.0
PRODID:-//アイアール技術者教育研究所 - ECPv6.15.18//NONSGML v1.0//EN
CALSCALE:GREGORIAN
METHOD:PUBLISH
X-ORIGINAL-URL:https://engineer-education.com
X-WR-CALDESC:アイアール技術者教育研究所 のイベント
REFRESH-INTERVAL;VALUE=DURATION:PT1H
X-Robots-Tag:noindex
X-PUBLISHED-TTL:PT1H
BEGIN:VTIMEZONE
TZID:Asia/Tokyo
BEGIN:STANDARD
TZOFFSETFROM:+0900
TZOFFSETTO:+0900
TZNAME:JST
DTSTART:20220101T000000
END:STANDARD
END:VTIMEZONE
BEGIN:VEVENT
DTSTART;TZID=Asia/Tokyo:20230913T100000
DTEND;TZID=Asia/Tokyo:20230915T170000
DTSTAMP:20260424T055951
CREATED:20230209T020125Z
LAST-MODIFIED:20230209T020125Z
UID:93321-1694599200-1694797200@engineer-education.com
SUMMARY:【展示会情報】N-PLUS　「New」「Next」をプラスする製品開発技術展
DESCRIPTION:《主催者サイトより》 \nN-PLUSは素材から加工技術、構成技術である部品、製品までを網羅した“ものづくりの複合展”です。今年は「ニッポンの素材と技術が世界を創る」をテーマに大幅リニューアル。日本のものづくりにおける共通課題に沿った「キーワード別展示会」のコンセプトはそのままに、各展を「N+Technology（高機能化・高付加価値化の提案）」「N+Sustainability（持続可能なものづくりの提案）」にセグメント。出展者と来場者のわかりやすく確実なマッチングを目指します。
URL:https://engineer-education.com/event/new_next_product-development-technology-exhibition/
LOCATION:東京ビッグサイト\, 東京都江東区有明3-11-1\, 135-0063\, 日本
CATEGORIES:展示会（化学系）,展示会（加工技術）,展示会（機械系）,展示会（環境技術）,展示会（電気・電子系）
END:VEVENT
BEGIN:VEVENT
DTSTART;TZID=Asia/Tokyo:20230913T100000
DTEND;TZID=Asia/Tokyo:20230915T170000
DTSTAMP:20260424T055951
CREATED:20230209T044157Z
LAST-MODIFIED:20240312T061831Z
UID:93384-1694599200-1694797200@engineer-education.com
SUMMARY:【展示会情報】測定計測展2023／Measuring Technology Expo 2023（第51回全日本光学測定機展／第20回国際精密測定展）
DESCRIPTION:《主催者サイトより》\n\n日本光学測定機工業会と日本精密測定機器工業会は2023年9月、東京ビッグサイトにて測定をはじめとした計測全般に関する総合展示会「測定計測展2023 ／Measuring Technology Expo 2023」を開催いたします。 \n本展示会は奇数年秋に開催するトレードショーとして、産経新聞社の特別協力のもと、自動車、ロボット、航空機関連などに用いられる光学・精密測定はもちろん、幅広い計測業界の最新製品・技術・情報が一堂に集まり関係者には見逃せない３日間になります。 \nまた、同時開催展として「センサエキスポジャパン」、「TEST総合試験機器展」、「自動認識総合展」が同会場内で行われます。新規開拓につながる多数の来場者が集まりますので、関係各社・団体様には是非ご出展いただきたく、お願い申し上げます。
URL:https://engineer-education.com/event/measurement-measurement_measuring-technology-expo/
LOCATION:東京ビッグサイト\, 東京都江東区有明3-11-1\, 135-0063\, 日本
CATEGORIES:展示会（加工技術）,展示会（工場・生産管理系）,展示会（機械系）
END:VEVENT
BEGIN:VEVENT
DTSTART;TZID=Asia/Tokyo:20230913T100000
DTEND;TZID=Asia/Tokyo:20230915T170000
DTSTAMP:20260424T055951
CREATED:20230307T014822Z
LAST-MODIFIED:20230307T014856Z
UID:94747-1694599200-1694797200@engineer-education.com
SUMMARY:【展示会情報】第2回 ロボデックス秋
DESCRIPTION:《主催者サイトより》\n製造・物流ロボットや、ロボット向け 部品・材料が出展するロボット総合展\n工場や物流現場で活躍するロボット・AGVや、ロボット向けの部品・材料などが一堂に出展。
URL:https://engineer-education.com/event/robodex_autumn-2/
LOCATION:幕張メッセ\, 千葉県千葉市美浜区中瀬２丁目１\, 261-0023\, 日本
CATEGORIES:展示会（加工技術）,展示会（工場・生産管理系）,展示会（機械系）,展示会（電気・電子系）,展示会（IT・ソフトウェア）
ATTACH;FMTTYPE=image/jpeg:https://engineer-education.com/wp/wp-content/uploads/2023/03/b975b818d51f351a4b8bd1f2b1271f3a.jpg
END:VEVENT
BEGIN:VEVENT
DTSTART;TZID=Asia/Tokyo:20230920T100000
DTEND;TZID=Asia/Tokyo:20230922T170000
DTSTAMP:20260424T055951
CREATED:20230307T055240Z
LAST-MODIFIED:20230307T055240Z
UID:94822-1695204000-1695402000@engineer-education.com
SUMMARY:【展示会情報】INCHME TOKYO
DESCRIPTION:《主催者サイトより》\n2020年末からのカーボンニュートラル（CN）化に対する国際的な潮流は、我が国のエネルギー・化学産業に大きなインパクトを与えました。一方で、2030年温室効果ガス46％削減、2035年プラスチックの単純焼却・埋め立てゼロ、そして2050年のCN化といったGoalsには、これまでとは次元の異なるスピードでの技術開発と社会実装が化学に関わる全ての関係者に求められています。 \n2022年夏にドイツ・フランクフルトで4年ぶりに開催された国際展示会・ACHEMAでは、CNに関わるベンチャーを含む多くの企業や大学、研究組織が数多く出展し、同じく出展しているプラントメーカーや化学企業との、活力ある出会いの場となっていたことに感銘を受けました。日本とドイツは、化学産業が国の経済に対して大きな役割を担っている共通点があります。 \n明年開催されるINCHEM TOKYO 2023では、大きく方針を変え、これまで以上に知の集積と活用を図り、CN社会実現への期待に応えるべく、“未来への指針”をお示ししたいと考えております。 \nCN化の成功のためには、技術と情熱を持つ皆様のお力が必要です。企業規模や業種、産学官を超えた複合的な「イノベーション創出の場」「出会いの場」としてのINCHEM TOKYO 2023に、ぜひ出展を検討いただきますよう何卒宜しくお願い申し上げます。
URL:https://engineer-education.com/event/inchme-tokyo/
LOCATION:東京ビッグサイト\, 東京都江東区有明3-11-1\, 135-0063\, 日本
CATEGORIES:展示会（化学系）,展示会（環境技術）,展示会（電気・電子系）
ATTACH;FMTTYPE=image/jpeg:https://engineer-education.com/wp/wp-content/uploads/2023/03/INCHME-TOKYO-2023-1.jpg
END:VEVENT
BEGIN:VEVENT
DTSTART;TZID=Asia/Tokyo:20230926T100000
DTEND;TZID=Asia/Tokyo:20230927T160000
DTSTAMP:20260424T055951
CREATED:20220627T061053Z
LAST-MODIFIED:20230413T065548Z
UID:73043-1695722400-1695830400@engineer-education.com
SUMMARY:【展示会情報】九州エネルギー技術革新EXPO
DESCRIPTION:  \n《主催者サイトより》\n言わずと知れたエネルギー消費大国、日本。その自給率の低さと化石燃料への依存度の高さは国際問題を含め多岐にわたるリスクを包含しています。また、近年、地球温暖化による気候変動を起因とする豪雨や猛暑をいった異常気象が世界、日本そして地域の安定を脅かしています。日本政府は温暖化ガス排出量を実質ゼロにする「2050年カーボンニュートラル宣言」を発表しました。今こそ産業界をはじめ官・学・民が連携した脱炭素社会実現のための機運を高め、エネルギー・産業部門の構造転換、イノベーションの創出といった取り組みを大きく加速させる必要があります。エネルギー問題への正しい理解と産業の発展を促進すべく今秋、「九州 エネルギー技術革新EXPO」を開催し、世界に誇れる地域の在り方を九州から発信していきます。
URL:https://engineer-education.com/event/energy-technology-innovation-expo-kyusyu/
LOCATION:マリンメッセ福岡\, 福岡県福岡市博多区沖浜町７−１\, 福岡市\, 福岡県\, 812-0031\, 日本
CATEGORIES:展示会（工場・生産管理系）,展示会（機械系）,展示会（電気・電子系）
ATTACH;FMTTYPE=image/png:https://engineer-education.com/wp/wp-content/uploads/2022/06/2627faf3db0ae1c412e5bb0e2d44dd66.png
END:VEVENT
BEGIN:VEVENT
DTSTART;TZID=Asia/Tokyo:20230926T100000
DTEND;TZID=Asia/Tokyo:20230927T160000
DTSTAMP:20260424T055951
CREATED:20220627T062007Z
LAST-MODIFIED:20230307T060135Z
UID:73048-1695722400-1695830400@engineer-education.com
SUMMARY:【展示会情報】九州 インフラ技術産業EXPO
DESCRIPTION:  \n《主催者サイトより》\n九州地域では福岡を筆頭に主要都市の再開発が進む一方、昨今激甚化する災害への備え、限界集落の広範化など社会全体として解決すべき問題が山積しています。 市民の安全・安心な生活基盤を支えるための社会インフラの老朽化も深刻であり、その量・質、代替機能の低下等に対する迅速な対応が喫緊の課題です。 「九州 インフラ技術産業EXPO」は国土の強靭化やインフラの長寿命化を図るべく最新技術の早期確立と普及のための情報を一堂に集め、 中長期的な社会資本の整備と産業の活性化を目的に開催いたします。
URL:https://engineer-education.com/event/infrastructure-technology-industry-expo-kyusyu/
LOCATION:マリンメッセ福岡\, 福岡県福岡市博多区沖浜町７−１\, 福岡市\, 福岡県\, 812-0031\, 日本
CATEGORIES:展示会（機械系）
ATTACH;FMTTYPE=image/png:https://engineer-education.com/wp/wp-content/uploads/2022/06/de70923df8be251410dd83a4d67f2793.png
END:VEVENT
BEGIN:VEVENT
DTSTART;TZID=Asia/Tokyo:20230926T130000
DTEND;TZID=Asia/Tokyo:20230928T170000
DTSTAMP:20260424T055951
CREATED:20230309T044627Z
LAST-MODIFIED:20230309T044627Z
UID:95009-1695733200-1695920400@engineer-education.com
SUMMARY:【展示会情報】エアロマート名古屋
DESCRIPTION:《主催者サイトより》\nエアロマート（Aeromart）は航空宇宙分野のビジネスマッチングにおいて世界的に実績のあるフランスのadvanced business events（BCIエアロスペース）が主催する、国内外のOEM/Tier1企業とサプライヤー企業間におけるB2Bマッチングと展示会を融合した展示商談会です。事前に商談を調整することで効率的に多くの国内外企業と商談をすることが出来、海外販路開拓や新規取引先開拓、新たなパートナー企業との出会いを提供します。エアロマートはフランス（トゥールーズ）やアメリカ（シアトル）、カナダ（モントリオール）など世界の航空宇宙産業集積都市で開催されている航空分野の世界的なB2Bイベントです。 \n9月26日（火）13:00 – 17:00 : セミナー \n9月27日（水）09:00 – 20:30 : 展示商談会・ワークショップ \n9月28日（木）09:00-17:00 : 展示商談会、ワークショップ
URL:https://engineer-education.com/event/aeromart_nagoya/
LOCATION:名古屋市中小企業振興会館\, 千種区吹上２丁目６−番3号\, 名古屋市\, 愛知県\, 464-0856\, 日本
CATEGORIES:展示会（加工技術）,展示会（工場・生産管理系）,展示会（機械系）,展示会（環境技術）,展示会（電気・電子系）,展示会（IT・ソフトウェア）
END:VEVENT
BEGIN:VEVENT
DTSTART;TZID=Asia/Tokyo:20231006T090000
DTEND;TZID=Asia/Tokyo:20231008T173000
DTSTAMP:20260424T055951
CREATED:20231005T055956Z
LAST-MODIFIED:20231005T055956Z
UID:116366-1696582800-1696786200@engineer-education.com
SUMMARY:【展示会情報】JACLaS EXpo- 臨床検査機器・試薬・システム展示会
DESCRIPTION:  \n《主催者サイトより》\n世界に誇る最先端の技術をJACLaSは、会員企業の製品を通して臨床検査分野の発展に貢献します。
URL:https://engineer-education.com/event/jaclas-expo_clinical-testing-equipment_reagent_system/
LOCATION:パシフィコ横浜\, 西区みなとみらい１丁目１−１\, 横浜市\, 神奈川県\, 220-0012\, 日本
END:VEVENT
BEGIN:VEVENT
DTSTART;TZID=Asia/Tokyo:20231012T100000
DTEND;TZID=Asia/Tokyo:20231013T170000
DTSTAMP:20260424T055951
CREATED:20231005T064146Z
LAST-MODIFIED:20231005T064146Z
UID:116389-1697104800-1697216400@engineer-education.com
SUMMARY:【展示会情報】ふくしま再生可能エネルギー産業フェア (REIFふくしま)
DESCRIPTION:  \n《主催者サイトより》\n“ふくしま”がリードする再エネ・水素社会の実現
URL:https://engineer-education.com/event/fukushima_renewable-energy/
LOCATION:ビッグパレットふくしま\, 郡山市南二丁目52番地\, 福島県\, 963-0115\, 日本
CATEGORIES:展示会,展示会（化学系）,展示会（環境技術）,展示会（電気・電子系）
END:VEVENT
BEGIN:VEVENT
DTSTART;TZID=Asia/Tokyo:20231017T080000
DTEND;TZID=Asia/Tokyo:20231018T200000
DTSTAMP:20260424T055951
CREATED:20231011T043914Z
LAST-MODIFIED:20231011T044323Z
UID:116580-1697529600-1697659200@engineer-education.com
SUMMARY:【展示会情報】日本国際水素会議・展示会
DESCRIPTION:  \n《主催者サイトより》\nconnecting green hydrogen japan 2023は、世界で最も確立された水素市場の1つで、将来のパートナーや現在のパートナーと出会い、最高のビジネス取引を行うための最高のプラットフォームです。本イベントは、2023年10月17日～18日に東京で開催され、水素エネルギーバリューチェーン全体から国内外の水素専門家が集まります。
URL:https://engineer-education.com/event/international-hydrogen-conference_exhibition_japan/
LOCATION:ベルサール渋谷ガーデン東京\, 渋谷区南平台町16-17\, 東京都\, 150-0036\, 日本
END:VEVENT
BEGIN:VEVENT
DTSTART;TZID=Asia/Tokyo:20231017T100000
DTEND;TZID=Asia/Tokyo:20231020T170000
DTSTAMP:20260424T055951
CREATED:20231005T070113Z
LAST-MODIFIED:20231005T070350Z
UID:116407-1697536800-1697821200@engineer-education.com
SUMMARY:【展示会情報】CEATEC（シーテック）
DESCRIPTION:  \n《主催者サイトより》\n経済発展と社会課題の解決を両立する「Society 5.0」の実現を目指し、\nあらゆる産業・業種の人と技術・情報が集い、「共創」によって未来を描く
URL:https://engineer-education.com/event/ceatec/
LOCATION:幕張メッセ\, 千葉県千葉市美浜区中瀬２丁目１\, 261-0023\, 日本
CATEGORIES:展示会（機械系）,展示会（環境技術）,展示会（電気・電子系）,展示会（IT・ソフトウェア）
ATTACH;FMTTYPE=image/jpeg:https://engineer-education.com/wp/wp-content/uploads/2023/10/CEATEC_logo1_blue_2023-1.jpg
END:VEVENT
BEGIN:VEVENT
DTSTART;TZID=Asia/Tokyo:20231018T080000
DTEND;TZID=Asia/Tokyo:20231021T170000
DTSTAMP:20260424T055951
CREATED:20230413T061334Z
LAST-MODIFIED:20230413T061334Z
UID:99811-1697616000-1697907600@engineer-education.com
SUMMARY:【展示会情報】メカトロテックジャパン
DESCRIPTION:《主催者サイトより》\n1987年にスタートした工作機械見本市で、西暦奇数年の秋に名古屋市のポートメッセなごやで開催しています。奇数年の工作機械展としては、国内最大規模。通算18回目となった2021年展では、426社・団体（1\,795小間）が出展、約7万人が来場しました。
URL:https://engineer-education.com/event/mechatronics-technology-japan/
LOCATION:ポートメッセなごや\, 愛知県名古屋市港区金城ふ頭2-2\, 455-0848\, 日本
ATTACH;FMTTYPE=image/png:https://engineer-education.com/wp/wp-content/uploads/2023/04/4b88723f4f03b69b0ae03234f5d0fe88.png
END:VEVENT
BEGIN:VEVENT
DTSTART;TZID=Asia/Tokyo:20231018T100000
DTEND;TZID=Asia/Tokyo:20231019T160000
DTSTAMP:20260424T055951
CREATED:20230413T065758Z
LAST-MODIFIED:20230413T065758Z
UID:99837-1697623200-1697731200@engineer-education.com
SUMMARY:【展示会情報】北海道 エネルギー技術革新EXPO
DESCRIPTION:  \n《主催者サイトより》\n日本は2050年のカーボンニュートラル、温室効果ガス排出削減について2030年度の46％削減、更に50％まで高める目標が示されました。\n気候変動問題への対応をするためにはエネルギー需給構造についても産官学が連携して取り組まなければなりません。北海道はその広大な土地と自然を活かした、風力、バイオマス、地熱など多様なエネルギーが存在しています。\nそのエネルギー導入ポテンシャルは全国屈指です。そこで、エネルギー問題への正しい理解と脱炭素社会実現のためのイノベーション創出、および更なる産業の発展をここ北海道から世界へ発信すべく「北海道エネルギー技術革新 EXPO」を初開催いたします。\n今回は集中展示として、北海道でも取り組みの進むマイクログリッド導入支援ゾーン、ゼロカーボンモビリティ・ビレッジ導入支援ゾーンを開催いたします。
URL:https://engineer-education.com/event/energy-technology-innovation-expo-hokkaido/
LOCATION:アクセスサッポロ\, ４丁目３−５５\, 札幌市白石区流通センター\, 北海道\, 0030030\, 日本
END:VEVENT
BEGIN:VEVENT
DTSTART;TZID=Asia/Tokyo:20231018T100000
DTEND;TZID=Asia/Tokyo:20231020T160000
DTSTAMP:20260424T055951
CREATED:20220624T055519Z
LAST-MODIFIED:20230209T052602Z
UID:72914-1697623200-1697817600@engineer-education.com
SUMMARY:【展示会情報】モノづくりフェア2023
DESCRIPTION:  \n《主催者サイトより》\nものづくりエンジニアのための技術開発促進と課題解決の場
URL:https://engineer-education.com/event/manufacturing-fair/
LOCATION:マリンメッセ福岡\, 福岡県福岡市博多区沖浜町７−１\, 福岡市\, 福岡県\, 812-0031\, 日本
CATEGORIES:展示会（加工技術）
END:VEVENT
BEGIN:VEVENT
DTSTART;TZID=Asia/Tokyo:20231019T100000
DTEND;TZID=Asia/Tokyo:20231020T170000
DTSTAMP:20260424T055951
CREATED:20231005T071744Z
LAST-MODIFIED:20231005T071829Z
UID:116417-1697709600-1697821200@engineer-education.com
SUMMARY:【展示会情報】北陸技術交流テクノフェア
DESCRIPTION:  \n《主催者サイトより》\n本フェアは業種・分野・地域を超え、様々な企業・大学・研究機関等が一堂に会する場として34回目を迎えます。この機会を捉え、出展者と北陸企業が活発な情報交換を行うことで、技術連携・技術移転などのきっかけとなり、多くの新しい技術が誕生することを目指しています。\n同時開催展あり。
URL:https://engineer-education.com/event/technology-exchange-techno-fair_hokuriku/
LOCATION:福井県産業会館\, 福井市下六条町103番地\, 福井県\, 918-8135\, 日本
CATEGORIES:展示会,展示会（化学系）,展示会（加工技術）,展示会（工場・生産管理系）,展示会（機械系）,展示会（電気・電子系）,展示会（IT・ソフトウェア）
END:VEVENT
BEGIN:VEVENT
DTSTART;TZID=Asia/Tokyo:20231019T100000
DTEND;TZID=Asia/Tokyo:20231021T150000
DTSTAMP:20260424T055951
CREATED:20230309T055748Z
LAST-MODIFIED:20230309T055748Z
UID:95057-1697709600-1697900400@engineer-education.com
SUMMARY:【展示会情報】諏訪圏工業メッセ
DESCRIPTION:《主催者サイトより》\n地方では国内最大級の工業専門展示会
URL:https://engineer-education.com/event/suwa-area_industry_messe/
LOCATION:諏訪圏工業メッセ会場\, 湖岸通り５－１２－１８\, 諏訪市\, 長野県\, 392-0027\, 日本
CATEGORIES:展示会（加工技術）,展示会（工場・生産管理系）,展示会（機械系）,展示会（電気・電子系）
END:VEVENT
BEGIN:VEVENT
DTSTART;TZID=Asia/Tokyo:20231025T100000
DTEND;TZID=Asia/Tokyo:20231027T170000
DTSTAMP:20260424T055951
CREATED:20231011T060624Z
LAST-MODIFIED:20231011T061113Z
UID:116590-1698228000-1698426000@engineer-education.com
SUMMARY:【展示会情報】FACTORY INNOVATION Week NAGOYA
DESCRIPTION:  \n《主催者サイトより》\n製造のあらゆる課題を解決できる絶好の場\n  \n[名古屋] ロボデックス -ロボット開発・活用展\n中部・近畿地方のロボットユーザー、ロボットメーカーに売込む絶好の場\n  \n[名古屋] スマート工場 EXPO-製造業IoT、AI、FA/ロボット による製造革新展\nスマート工場実現のための、IoT/AIによる遠隔監視/予兆保全/見える化ソリューション、デジタルツイン、FA/ロボット、生産管理システムなど最新技術が一堂に出展。\n  \n[名古屋]グリーンファクトリーEXPO\n工場のカーボンニュートラルを実現する技術が一堂に出展\n  \n[名古屋] ネプコン ジャパン\n電子機器・半導体の設計課題の解決・生産革新ができる展示会です\n  \n[名古屋] カーエレクトロニクス技術展\nカーエレクトロニクスの進化を支える技術が一堂に出展\n  \n[名古屋] EV・HV・FCV技術展\nモータ・インバータ、二次電池、FCV技術に関するあらゆる技術が一堂に出展\n  \n[名古屋] クルマの軽量化 技術展\nクルマの軽量化に特化した専門展\n  \n[名古屋] 自動車部品&加工 EXPO\n自動車部品の「量産・加工・試作」に特化した専門展\n  \n[名古屋] 自動運転 EXPO\n自動運転・ＡＤＡＳ に関するあらゆる技術・ソリューションが一堂に出展\n  \n[名古屋]SDV EXPO\n車載ソフトウェア開発展\n  \n[名古屋]スマート物流 EXPO\n物流向けIoT、AI、ロボットを比較検討する絶好の場\n  \n[名古屋] Factory Innovation Week 2023\n製造のあらゆる課題を解決できる絶好の場\n 
URL:https://engineer-education.com/event/factory-innovation-week-nagoya/
LOCATION:ポートメッセなごや\, 愛知県名古屋市港区金城ふ頭2-2\, 455-0848\, 日本
ATTACH;FMTTYPE=image/jpeg:https://engineer-education.com/wp/wp-content/uploads/2023/10/FACTORY-INNOVATION-Week-NAGOYA-1.jpg
END:VEVENT
BEGIN:VEVENT
DTSTART;TZID=Asia/Tokyo:20231115T100000
DTEND;TZID=Asia/Tokyo:20231117T170000
DTSTAMP:20260424T055951
CREATED:20230309T030355Z
LAST-MODIFIED:20230309T030355Z
UID:94970-1700042400-1700240400@engineer-education.com
SUMMARY:【展示会情報】［関西］スマートエネルギーWeek
DESCRIPTION:《主催者サイトより》\n世界最大級！新エネルギー総合展 \nPV EXPO 太陽光発電展\n2050年カーボンニュートラル実現に向け、主力電源としてますますの普及が期待される太陽光発電。\n本展には次世代 太陽電池から太陽光発電所の建設、保守・運用まであらゆる製品・技術が出展し、世界各国から専門家が来場する展示会として業界に定着しています。\n世界中から人と情報が『リアル』に集まる本展は、face to faceで太陽光ビジネスを加速させる重要なプラットフォームです。 \n二次電池展\n2050年カーボンニュートラル実現に向け、再生可能エネルギーとEV(電気自動車）普及のカギを握るバッテリー技術。\n本展には二次電池の研究開発、製造に必要なあらゆる技術、部品・材料、装置が出展し、世界各国から専門家が来場する展示会として業界に定着しています。\n世界中から人と情報が『リアル』に集まる本展は、face to faceで蓄電池ビジネスを加速させる重要なプラットフォームです。 \nスマートグリッド EXPO\n2050年カーボンニュートラル実現に向け、電力の需給調整をITを活用して実現するスマートグリッドがカギを握ります。\n本展にはVPP（仮想発電所）やDR（デマンドレスポンス）関連技術、エネルギーマネジメントシステム、蓄電池、EV活用などが出展し、世界各国から専門家が来場する展示会として業界に定着しています。\n世界中から人と情報が『リアル』に集まる本展は、face to faceで電力ビジネスを加速させる重要なプラットフォームです。 \n脱炭素経営 EXPO 関西\n日本最大！脱炭素経営 実現のための専門展
URL:https://engineer-education.com/event/smart-energy-week_kansai/
LOCATION:インテックス大阪\, 大阪市住之江区南港北1-5-102\, 559-0034\, 日本
CATEGORIES:展示会（化学系）,展示会（環境技術）
END:VEVENT
BEGIN:VEVENT
DTSTART;TZID=Asia/Tokyo:20231120T100000
DTEND;TZID=Asia/Tokyo:20241122T170000
DTSTAMP:20260424T055951
CREATED:20230309T041614Z
LAST-MODIFIED:20240325T042935Z
UID:94997-1700474400-1732294800@engineer-education.com
SUMMARY:【展示会情報】XR総合展 【秋】
DESCRIPTION:《主催者サイトより》\n「メタバース」や「デジタルツイン」など、生活や社会を革新していく技術として昨今注目が集まるXR技術(VR・AR・MR技術の総称)。そのXRに特化した専門展「XR総合展」を開催します。製造・建設・不動産・医療・エンタメなど幅広い業界で活用できるXR製品・サービスが一堂に出展！7月 東京ビッグサイト、11月 幕張メッセの年2回開催します。\n同時開催展あり。 \n  \nメタバース総合展\n次世代のインターネットとも呼ばれ、社会や産業の在り方を大きく変えると言われているメタバース。このメタバースを実現・活用するサービス・技術が一堂に出展し、メタバースでビジネスをしたい、企業の販促・経営・人事や小売り、エンターテイメント、製造業、イベント関係者などあらゆる業界の方と直接商談することができる展示会です。11月 幕張メッセ、7月 東京ビッグサイトの年2回開催します。 \n  \nNexTech Week\n「ＡI」「ブロックチェーン」「量子コンピュータ」の最新テクノロジーに関する３つの展示会と、DXを推進するために不可欠な「デジタル人材の育成を支援」する製品・サービスが出展する展示会、合計４つの展示会で構成。最新テクノロジーの活用や、デジタル人材を育成することで、DXを推進していきたい企業の方にとって欠かせない展示会となっており、製造業・社会インフラ・小売・物流・医療・金融・官公庁など様々な業種の企業が多数来場します。 \n  \nAI・人工知能EXPO\nディープラーニング、機械学習、エッジAI、自然言語処理、画像・音声認識、対話AIなど AIに関するサービスが一堂に出展。DXを推進するために、あらゆる分野の方々が来場し、活発な商談が行われています。 \n  \nブロックチェーンEXPO 【秋】\n最新の研究からアプリケーションまで、ブロックチェーン技術のすべてが一堂に出展。製造業・金融・小売流通・エネルギー・医療などあらゆる分野の方々が来場し、活発な商談が行われています。 \n  \n量子コンピューティング EXPO 【秋】\n最新の研究からアプリケーションまで、量子コンピュータ技術のすべてが一堂に出展。製造業、金融機関、社会インフラ、物流業界などあらゆる分野の方々が来場し、活発な商談が行われています。 \n  \nデジタル人材育成支援EXPO 【秋】\nデジタル人材の育成を支援する企業が一堂に出展し、DXを推進するために不可欠なデジタル人材を育成したい企業の経営層をはじめ、製造業・エネルギー・社会インフラ・金融など、あらゆる業界の方と直接商談することができる展示会です。 \n 
URL:https://engineer-education.com/event/xr%e3%80%80comprehensive-exhibition_autumn/
LOCATION:幕張メッセ\, 千葉県千葉市美浜区中瀬２丁目１\, 261-0023\, 日本
CATEGORIES:展示会（工場・生産管理系）,展示会（機械系）,展示会（電気・電子系）,展示会（IT・ソフトウェア）
ATTACH;FMTTYPE=image/png:https://engineer-education.com/wp/wp-content/uploads/2023/03/5f29a9188c17aeb06b9f8251d72ff9dd.png
END:VEVENT
BEGIN:VEVENT
DTSTART;TZID=Asia/Tokyo:20231128T100000
DTEND;TZID=Asia/Tokyo:20231202T160000
DTSTAMP:20260424T055951
CREATED:20230209T054946Z
LAST-MODIFIED:20240430T104112Z
UID:93406-1701165600-1701532800@engineer-education.com
SUMMARY:【展示会情報】IPF Japan 2023（国際プラスチックフェア）【第10回】
DESCRIPTION:《主催者サイトより》
URL:https://engineer-education.com/event/ipf-japan/
LOCATION:幕張メッセ\, 千葉県千葉市美浜区中瀬２丁目１\, 261-0023\, 日本
CATEGORIES:展示会,展示会（加工技術）,展示会（工場・生産管理系）
ATTACH;FMTTYPE=image/jpeg:https://engineer-education.com/wp/wp-content/uploads/2023/02/IPFJ_logo_2023_4c.jpg
END:VEVENT
BEGIN:VEVENT
DTSTART;TZID=Asia/Tokyo:20231129T100000
DTEND;TZID=Asia/Tokyo:20231202T170000
DTSTAMP:20260424T055951
CREATED:20230209T055948Z
LAST-MODIFIED:20230209T055948Z
UID:93419-1701252000-1701536400@engineer-education.com
SUMMARY:【展示会情報】2023国際ロボット展
DESCRIPTION:《主催者サイトより》 \n国際ロボット展は1974年の初開催以降、隔年で開催し、今年で25回目を迎えます。 近年では“世界最大規模のロボット専門展”として、国内外から高く評価されています。「2023国際ロボット展」は、「ロボティクスがもたらす持続可能な社会」をテーマにハイブリッド（リアル・オンライン）で 開催いたします。 会期中は、国内外より最先端のロボットが展示されるほか、AI・ICT・要素技術など ロボットに関わる高度な技術が一堂に展示されます。 \nオンライン開催：2023年11月22日（水）～2023年12月15日（金） \nリ　ア　ル開催：2023年11月29日（水）～2023年12月2日（土）（10：00～17：00）
URL:https://engineer-education.com/event/international-robot-exhibition/
LOCATION:東京ビッグサイト\, 東京都江東区有明3-11-1\, 135-0063\, 日本
CATEGORIES:展示会（機械系）,展示会（電気・電子系）,展示会（IT・ソフトウェア）
END:VEVENT
BEGIN:VEVENT
DTSTART;TZID=Asia/Tokyo:20240228T100000
DTEND;TZID=Asia/Tokyo:20240301T170000
DTSTAMP:20260424T055951
CREATED:20230209T022257Z
LAST-MODIFIED:20240229T055903Z
UID:93340-1709114400-1709312400@engineer-education.com
SUMMARY:【展示会情報】GX経営WEEK 春
DESCRIPTION:《主催者サイトより》 \n2024年2月28日（水）から東京ビックサイトで『GX経営 WEEK【春】2024』を開催。日本最大！企業のGX(グリーン・トランスフォーメーション)実現のための展示会。企業向け脱炭素ソリューションやサーキュラー・エコノミー関連の製品が出展。経営層、ESG・カーボンニュートラル推進部門が来場する商談展です。\n同時開催展あり。
URL:https://engineer-education.com/event/gx_green-transformation/
LOCATION:東京ビッグサイト\, 東京都江東区有明3-11-1\, 135-0063\, 日本
CATEGORIES:展示会（化学系）,展示会（環境技術）
END:VEVENT
BEGIN:VEVENT
DTSTART;TZID=Asia/Tokyo:20240228T100000
DTEND;TZID=Asia/Tokyo:20240301T170000
DTSTAMP:20260424T055951
CREATED:20230309T025618Z
LAST-MODIFIED:20240229T055221Z
UID:94964-1709114400-1709312400@engineer-education.com
SUMMARY:【展示会情報】SMART ENERGY WEEK 【春】 　　　　　　　スマートエネルギーWEEK
DESCRIPTION:《主催者サイトより》\n2024年2月28日（水）から東京ビッグサイトで『スマートエネルギーWeek』を開催！エネルギー分野1600社が出展する、世界最大級のエネルギー総合展です。太陽光発電・風力発電・バイオマス・水素エネルギー・スマートグリッド・二次電池・次世代火力発電システム・脱炭素ソリューション・サーキュラエコノミーなど業界の最新技術が出展し、技術的な商談が活発に行われます。\n同時開催展あり。 \n  \nH2 ＆ FC EXPO 水素燃料電池展\n2050年カーボンニュートラル実現に向け、発電・輸送・産業といった幅広い分野の脱炭素化に資する水素がカギを握ります。\n世界最大の本展には水素の社会実装に向けて、水素を「つくり」「はこび」「ためて」「つかう」ためのあらゆる技術が出展し、世界各国から専門家が来場する展示会として業界に定着しています。\n世界中から人と情報が『リアル』に集まる本展は、face to faceで水素ビジネスを加速させる重要なプラットフォームです。 \n  \nPV EXPO 太陽光発電展\n2050年カーボンニュートラル実現に向け、主力電源としてますますの普及が期待される太陽光発電。\n本展には次世代 太陽電池から太陽光発電所の建設、保守・運用まであらゆる製品・技術が出展し、世界各国から専門家が来場する展示会として業界に定着しています。\n世界中から人と情報が『リアル』に集まる本展は、face to faceで太陽光ビジネスを加速させる重要なプラットフォームです。 \n  \nBATTERY JAPAN 二次電池展\n2050年カーボンニュートラル実現に向け、再生可能エネルギーとEV（電気自動車）普及のカギを握るバッテリー技術。\n本展には二次電池の研究開発、製造に必要なあらゆる技術、部品・材料、装置が出展し、世界各国から専門家が来場する展示会として業界に定着しています。\n世界中から人と情報が『リアル』に集まる本展は、face to faceで蓄電池ビジネスを加速させる重要なプラットフォームです。 \n  \nSMART GRID EXPO スマートグリッド展\n2050年カーボンニュートラル実現に向け、電力の需給調整をITを活用して実現するスマートグリッドがカギを握ります。\n本展にはVPP（仮想発電所）やDR（デマンドレスポンス）関連技術、エネルギーマネジメントシステム、蓄電池、EV活用などが出展し、世界各国から専門家が来場する展示会として業界に定着しています。\n世界中から人と情報が『リアル』に集まる本展は、face to faceで電力ビジネスを加速させる重要なプラットフォームです。 \n  \nWIND EXPO 風力発電展\n2050年カーボンニュートラル実現に向け、主力電源としてますますの普及が期待される風力発電。本展には風車から風力発電所の建設、保守・運用、洋上風力技術まであらゆる製品・技術が出展し、世界各国から専門家が来場する展示会として業界に定着しています。\n世界中から人と情報が『リアル』に集まる本展は、face to faceで風力ビジネスを加速させる重要なプラットフォームです。\n(一社）日本風力発電協会(JWPA)と共に日本の風力発電の普及に寄与すべく、業界をあげて開催します。 \n  \nBIOMASS EXPO バイオマス展\n2050年カーボンニュートラル実現に向け、主力電源としてますますの普及が期待されるバイオマス発電。\n本展にはバイオマス燃料から発電システム、熱利用技術まであらゆる製品・技術が出展し、世界各国から専門家が来場する展示会として業界に定着しています。\n世界中から人と情報が『リアル』に集まる本展は、face to faceでバイオマスビジネスを加速させる重要なプラットフォームです。\n（一社）日本木質バイオマスエネルギー協会、（一社）日本有機資源協会と共にバイオマス資源の利活用の普及に寄与すべく、業界をあげて開催します。 \n  \nZERO-E THERMAL EXPO ゼロエミッション火力発電展\n2050年カーボンニュートラル実現に向け、火力発電の脱炭素化（＝ゼロエミッション火力）技術がカギを握ります。\n本展には発電システム、プラント設備から保守・運用技術、水素・アンモニア活用まであらゆる製品・技術が出展し、世界各国から専門家が来場する展示会として業界に定着しています。\n世界中から人と情報が『リアル』に集まる本展は、face to faceで電力ビジネスを加速させる重要なプラットフォームです。\n（一社）火力原子力発電技術協会と共にゼロエミッション火力発電の実現に寄与すべく、業界をあげて開催します。 \n  \n脱炭素経営 EXPO\n日本最大！脱炭素経営 実現のための専門展 \n  \nサーキュラー・エコノミー EXPO\n本展はサーキュラーデザイン、サステナブルマテリアル、PaaS（製品のサービス化）支援、資源回収・リサイクル・再製品化技術などが出展し、循環型経済・サスティナブル経営を実現したい企業の経営者、幹部、経営企画、設計・製造部門などが来場する商談展です。 \n 
URL:https://engineer-education.com/event/smart-energy-week_spring/
LOCATION:東京ビッグサイト\, 東京都江東区有明3-11-1\, 135-0063\, 日本
CATEGORIES:展示会（化学系）,展示会（環境技術）
END:VEVENT
BEGIN:VEVENT
DTSTART;TZID=Asia/Tokyo:20240305T100000
DTEND;TZID=Asia/Tokyo:20240307T170000
DTSTAMP:20260424T055951
CREATED:20240229T061919Z
LAST-MODIFIED:20240229T062058Z
UID:124098-1709632800-1709830800@engineer-education.com
SUMMARY:【展示会情報】国際オートアフターマーケットEXPO
DESCRIPTION:国際オートアフターマーケットEXPOは、自動車のアフターマーケットビジネスの活性化を図るコンベンションです！自動車関連ビジネスに関わる幅広い関係者が一堂に集い、国内外から約300社が出展する国際商談会です。2023年展ベースで42セッション・延べ約4\,000名を集客した多種多様な専門セミナーを開催し、またキャリブレーション・塗装実演コーナーなど多彩な企画で有意義な情報を発信します。
URL:https://engineer-education.com/event/international-auto-aftermarket-expo/
LOCATION:東京ビッグサイト\, 東京都江東区有明3-11-1\, 135-0063\, 日本
ATTACH;FMTTYPE=image/jpeg:https://engineer-education.com/wp/wp-content/uploads/2024/02/d552bf8b0409eb9ac9fe0c35dc11118f-2.jpg
ORGANIZER;CN="%E5%9B%BD%E9%9A%9B%E3%82%AA%E3%83%BC%E3%83%88%E3%82%A2%E3%83%95%E3%82%BF%E3%83%BC%E3%83%9E%E3%83%BC%E3%82%B1%E3%83%83%E3%83%88EXPO%E5%AE%9F%E8%A1%8C%E5%A7%94%E5%93%A1%E4%BC%9A":MAILTO:information@iaae-jp.com
END:VEVENT
BEGIN:VEVENT
DTSTART;TZID=Asia/Tokyo:20240313T100000
DTEND;TZID=Asia/Tokyo:20240315T170000
DTSTAMP:20260424T055951
CREATED:20240229T064245Z
LAST-MODIFIED:20240229T065204Z
UID:124110-1710324000-1710522000@engineer-education.com
SUMMARY:【展示会情報】インターフェックス Week [大阪]
DESCRIPTION:《主催者サイトより》\nインターフェックスWeek 大阪は、原薬、分析機器、製造設備、包装関連、物流、受託サービス、DXソリューションなどあらゆる製品・サービスが一堂に出展。医薬品・化粧品業界における中心地として、3月大阪でも開催しています。\n同時開催展あり。 \n  \nインターフェックス 大阪－[医薬品][化粧品] 製造展－\n医薬・化粧品の製造技術・DXが【大阪】に集結 \n  \nファーマラボ  EXPO 大阪－[医薬品] 研究・開発展－\n新モダリティ・AI創薬など最新動向がわかる展示会！ \n  \n再生医療 EXPO 大阪\n再生医療ビジネスを加速させる展示会 \n 
URL:https://engineer-education.com/event/interphex_osaka/
LOCATION:インテックス大阪\, 大阪市住之江区南港北1-5-102\, 559-0034\, 日本
ATTACH;FMTTYPE=image/jpeg:https://engineer-education.com/wp/wp-content/uploads/2024/02/b6d020a504629413688b9933e7c7e98c-1.jpg
END:VEVENT
BEGIN:VEVENT
DTSTART;TZID=Asia/Tokyo:20240410T100000
DTEND;TZID=Asia/Tokyo:20240412T160000
DTSTAMP:20260424T055951
CREATED:20240229T071959Z
LAST-MODIFIED:20240229T071959Z
UID:124127-1712743200-1712937600@engineer-education.com
SUMMARY:【展示会情報】関西物流展
DESCRIPTION:《主催者サイトより》\n西日本最大の物流総合展として2019年より開催しております。物流現場の改善や生産性向上につながる製品・サービスが一堂に集結する展示会です。
URL:https://engineer-education.com/event/logix_kansai/
LOCATION:インテックス大阪\, 大阪市住之江区南港北1-5-102\, 559-0034\, 日本
ATTACH;FMTTYPE=image/jpeg:https://engineer-education.com/wp/wp-content/uploads/2024/02/d09b06c37bbc4e09340c297ff2dd4dd6.jpg
ORGANIZER;CN="%E9%96%A2%E8%A5%BF%E7%89%A9%E6%B5%81%E5%B1%95 %E5%AE%9F%E8%A1%8C%E5%A7%94%E5%93%A1%E4%BC%9A":MAILTO:office@kansai-logix.com
END:VEVENT
BEGIN:VEVENT
DTSTART;TZID=Asia/Tokyo:20240410T100000
DTEND;TZID=Asia/Tokyo:20240412T170000
DTSTAMP:20260424T055951
CREATED:20220316T061316Z
LAST-MODIFIED:20240229T070612Z
UID:67453-1712743200-1712941200@engineer-education.com
SUMMARY:【展示会情報】ものづくり ワールド 名古屋
DESCRIPTION:名古屋 ものづくり ワールドは、製造業の「短期開発、生産性向上、品質向上、VA/VE、コストダウン」などに寄与することを目的に開催しており、9つの展示会で構成されています。2023年は新たに「製造業DX展」「ものづくりODM/EMS展」が加わり、盛大に開催いたします。本展の主な来場企業は、自動車、電機、機械、精密機器メーカーの設計、開発、製造、生産技術、購買、情報システム部門の方々で、主な出展製品は製造業で使われる、IT、DX製品、部品、設備、装置、計測製品などです。\n同時開催展あり。 \n  \n設計・製造ソリューション展 [名古屋] \n製造業向けITソリューションの展示会 \n第9回 設計･製造ソリューション展 [名古屋] は、CAD、CAE、ERP、生産管理システムなどの製造業向けITソリューションが出展し、製造業の設計、開発、製造、生産技術、情報システム部門の方々と活発に商談が行われる展示会です。\nポートメッセなごやにて開催する本展をはじめ、東京、大阪、九州でも開催しています。 \n\n  \n機械要素技術展 [名古屋] \n機械部品、加工技術、表面処理などの展示会 \n第9回 機械要素技術展 [名古屋] は、モータ、ベアリング、ねじ、ばねなどの機械部品や、切削、プレスなどの加工技術、表面処理などが出展する展示会です。\n毎年、設計、開発、試作、製造、生産技術、購買部門をはじめとしたユーザーが多数来場し、出展企業と商談を行っています。\n本展はポートメッセなごやをはじめ、東京、大阪、九州でも開催しています。 \n\n  \n工場設備・備品展 [名古屋] \n工場で使われる設備、備品を集めた展示会 \n第8回 工場設備・備品展 [名古屋] とは、工場向けの省エネ製品、物流機器、メンテナンス製品、安全用品、防災製品などが出展する展示会です。\n製造業の工場管理、製造、生産技術、保守・メンテナンス、購買、物流部門などのユーザーが多数来場し、出展企業と活発な商談を行っています。\n本展はポートメッセなごやをはじめ、東京、大阪、九州でも開催しています。 \n\n  \n航空・宇宙機器 開発展 [名古屋]\n航空機・宇宙機器の開発、製造技術の展示会 \n第8回 航空・宇宙機器 開発展 [名古屋] とは、航空機、宇宙機器の開発・製造技術や、部品、デバイス、材料・素材、計測機など出展する展示会です。\n航空・宇宙機器メーカーの設計、開発、製造、生産技術、購買部門などの方々が多数来場し、出展企業と活発な商談を行っています。\n本展はポートメッセなごやに加え、東京でも開催しています。 \n\n  \n次世代 3Dプリンタ展 [名古屋] \nアディティブ・マニュファクチャリング、3Dプリンタの展示会 \n第6回 次世代 3Dプリンタ展 [名古屋] とは、アディティブ・マニュファクチャリング、3Dプリンタ、材料、受託造形サービスなど、AM、3Dプリント技術に関する展示会です。\n製造業の製造、生産技術、試作、設計、開発、購買部門の方々に加え、建設業、娯楽業、広告業などの方々が多数来場し、出展企業と活発な商談を行っています。\n本展はポートメッセなごやをはじめ、東京、大阪、九州でも開催しています。 \n\n  \nものづくり AI/IoT展 [名古屋] \n製造業向けのIoT・AIソリューションの展示会 \n第5回 ものづくりAI / IoT展 [名古屋] は、IoTプラットフォーム、AIソリューション、セキュリティ、通信機器など製造業向けIoT・AIソリューションが出展する展示会です。\n製造業の製造、生産技術、品質、設計、開発、情報システム部門のユーザーが多数来場し、出展企業と活発な商談を行っています。\n本展はポートメッセなごやをはじめ、東京、大阪、九州でも開催しています。 \n\n  \n計測・検査・センサ展 [名古屋] \n製造業で使われる計測機、検査機、センサの展示会 \n第5回 計測・検査・センサ展 [名古屋] は、計測機、検査機、センサなどが出展する展示会です。\n製造業の製造、生産技術、品質、保守・メンテナンス、研究、設計・開発部門などのユーザーが来場し、出展各社と真剣な商談が行われます。\n本展はポートメッセなごやをはじめ、東京、大阪、九州でも開催しています。 \n  \n製造業DX展 [名古屋] \n製造業のデジタル化、DXを推進する展示会 \n第2回 製造業DX展 [名古屋] とは、製造現場や工場内でのDX（デジタルトランスフォーメーション）を推進するIT製品やサービスが出展する展示会です。\n業務デジタル化やスマート工場を目指す、製造業の情報システム、製造、開発、調達、品質、営業、経営企画部門などのユーザーが来場いたします。\nポートメッセなごやにて開催する本展をはじめ東京、大阪、九州でも開催いたします。 \n\n  \nものづくりODM/EMS展 [名古屋] \n開発・製造ODM、EMSの企業が集結する展示会 \n第2回 ものづくりODM/EMS展 [名古屋] とは、ものづくりの開発・製造ODM、EMSなどを得意とする企業が一堂に集結する展示会です。\n製造業の製造、生産技術、設計、開発、経営企画、調達、品質部門などのユーザーが来場いたします。\n本展はポートメッセなごやをはじめ、東京、大阪、九州でも開催しています。 \n\n 
URL:https://engineer-education.com/event/nagoya_manufacturing/
LOCATION:ポートメッセなごや\, 愛知県名古屋市港区金城ふ頭2-2\, 455-0848\, 日本
CATEGORIES:展示会（工場・生産管理系）
END:VEVENT
BEGIN:VEVENT
DTSTART;TZID=Asia/Tokyo:20240410T100000
DTEND;TZID=Asia/Tokyo:20240412T170000
DTSTAMP:20260424T055951
CREATED:20220623T080814Z
LAST-MODIFIED:20240229T071108Z
UID:72846-1712743200-1712941200@engineer-education.com
SUMMARY:【展示会情報】Sea Japan
DESCRIPTION:  \n《主催者サイトより》\nカーボンニュートラルに向けて、船舶を運行するための新たなエネルギー源の確立が次なる課題となっている海事産業。「水素」「アンモニア」「液化天然ガス（LNG）」「電気」をはじめとしたクリーンエネルギーのうちどれがこの先業界をリードしていくのか、そして、業界は、その新たなエネルギー源の実用化に向けての効率化や安全性確保のためにどのように取り組くんでいくのか。Sea Japan 2024では、この課題にスポットライトをあて、海事業界全体に問いかけます。 \nまた、2024年のSea Japanには、新たにオフショア・港湾技術展「Offshore & Port Tech 2024」を同時開催。注目集めるブルーエコノミーや、洋上風力発電をはじめとした海洋再生可能エネルギー開発、そして活発化するカーボンニュートラルポートへの取り組みなど、新たな海洋事業と海事産業との技術や情報交換の場を提供します。 \n環境保護やDXのための新たなテクノロジー、人材育成、そして新事業開発。Sea Japanは、これらの課題に対応するための最新のテクノロジーや情報を集結する国際的な業界ネットワークの構築のためのプラットフォームとして、「船舶」や「海」から広がる新たなビジネスチャンスを創出します。 \n出展に関する詳細情報をご希望の方は、本ホームページの「お問い合わせ」より、お気軽にご請求ください。皆様のご参加をお待ちしております。
URL:https://engineer-education.com/event/sea-japan/
LOCATION:東京ビッグサイト\, 東京都江東区有明3-11-1\, 135-0063\, 日本
CATEGORIES:展示会（機械系）,展示会（電気・電子系）,展示会（IT・ソフトウェア）
END:VEVENT
BEGIN:VEVENT
DTSTART;TZID=Asia/Tokyo:20240412T100000
DTEND;TZID=Asia/Tokyo:20240413T170000
DTSTAMP:20260424T055951
CREATED:20240229T073312Z
LAST-MODIFIED:20240229T073406Z
UID:124135-1712916000-1713027600@engineer-education.com
SUMMARY:【展示会情報】ジャンボびっくり見本市　大阪
DESCRIPTION:《主催者サイトより》 \n総合力で魅せる！専門メーカー約250社が一堂に集う展示即売会　おかげさまで50回！JUMBOで創ろう！未来社会！！ \n東京開催：2024年4月12日（金） ～2024年4月13日（土）
URL:https://engineer-education.com/event/jumbo-fair-bikkuri_osaka/
LOCATION:インテックス大阪\, 大阪市住之江区南港北1-5-102\, 559-0034\, 日本
ORGANIZER;CN="%E3%82%B8%E3%83%A3%E3%83%B3%E3%83%9C%E3%81%B3%E3%81%A3%E3%81%8F%E3%82%8A%E8%A6%8B%E6%9C%AC%E5%B8%82%E5%8D%94%E5%82%AC%E5%A7%94%E5%93%A1%E4%BC%9A":MAILTO:info@jumbo-fair.jp
END:VEVENT
BEGIN:VEVENT
DTSTART;TZID=Asia/Tokyo:20240418T100000
DTEND;TZID=Asia/Tokyo:20240419T160000
DTSTAMP:20260424T055951
CREATED:20230208T070157Z
LAST-MODIFIED:20240313T062533Z
UID:93251-1713434400-1713542400@engineer-education.com
SUMMARY:【展示会情報】「試作市場（しさくいちば）」 「微細・精密加工技術展」
DESCRIPTION:《主催者サイトより》\n新型コロナウイルス感染症の拡大により、新たな事業の柱となる製品開発に向け研究開発が活発化しています。そして、2021年後半以降からは、多くの企業で新規開発プロジェクトが立ち上がり、従来以上に「試作加工」および、これを支える「微細加工」「超精密加工」へのニーズが高まっています。 \nこれらの要素を兼ね備えた本展示会では、川下産業の来場者を多数呼び込み、充実した商談の機会を創出いたします。 \nつきましては、本展示会の開催趣旨をご理解いただき、ご出展賜りますようご案内申し上げます。
URL:https://engineer-education.com/event/precision-work/
LOCATION:東京都大田区産業プラザPio\, 東京都大田区南蒲田1-20-20\, 大田区南蒲田1-20-20\, 東京都\, 144-0035
CATEGORIES:展示会（加工技術）,展示会（機械系）
ATTACH;FMTTYPE=image/jpeg:https://engineer-education.com/wp/wp-content/uploads/2023/02/248d8947ddbab2427851ea691bd64e2d.jpg
END:VEVENT
END:VCALENDAR