BEGIN:VCALENDAR
VERSION:2.0
PRODID:-//アイアール技術者教育研究所 - ECPv6.15.18//NONSGML v1.0//EN
CALSCALE:GREGORIAN
METHOD:PUBLISH
X-WR-CALNAME:アイアール技術者教育研究所
X-ORIGINAL-URL:https://engineer-education.com
X-WR-CALDESC:アイアール技術者教育研究所 のイベント
REFRESH-INTERVAL;VALUE=DURATION:PT1H
X-Robots-Tag:noindex
X-PUBLISHED-TTL:PT1H
BEGIN:VTIMEZONE
TZID:Asia/Tokyo
BEGIN:STANDARD
TZOFFSETFROM:+0900
TZOFFSETTO:+0900
TZNAME:JST
DTSTART:20210101T000000
END:STANDARD
END:VTIMEZONE
BEGIN:VEVENT
DTSTART;TZID=Asia/Tokyo:20220928T100000
DTEND;TZID=Asia/Tokyo:20220930T170000
DTSTAMP:20260425T015857
CREATED:20220624T050331Z
LAST-MODIFIED:20220624T050445Z
UID:72903-1664359200-1664557200@engineer-education.com
SUMMARY:【展示会情報】N-PLUS ～ものづくりとモビリティに新たな価値をプラスする～
DESCRIPTION:  \n《主催者サイトより》\n素材から加工技術、構成要素である部品、製品までを網羅した“ものづくりの複合展”へ\n  \nプラスチック高機能化展\nプラスチック・フィルム・ゴム等による製品の高機能化・高付加価値化の提案\n  \n軽量化・高強度化展\n軽量化または高強度化に関する素材と技術の提案\n  \nコーティング・表面処理展\n高機能化のためのコーティング・表面処理素材・技術の提案\n  \nサーマルマネジメント・EMC対策展\n熱対策（耐熱・放熱・断熱）およびEMC対策・ノイズ対策の提案\n  \n不織布・機能紙・CNF展\n紙・パルプ・セルロース・不織布による高機能化・高付加価値化の提案\n  \n環境配慮型素材展\n環境負荷を低減する素材・材料・製品の提案\n  \n接着・接合・ファスニング展\n接着・接合・ファスニングに関する素材・技術・機器の提案\n  \n受託・加工技術展\n高機能化・高付加価値化に資する製造・加工技術・受託サービス\n  \n高機能化部品展\n『機械部品』『電子部品』 空飛ぶクルマやEV・自動車、航空機・船舶、人工衛星などのモビリティに高機能化・高付加価値化をもたらす 『部品』\n  \n電動化技術展\n次世代モビリティが必要とする電動化技術、バッテリー・電池、パワー半導体やLiDARといった要素技術の提案\n  \nフライングカーテクノロジー\nの空飛ぶクルマの飛躍・高機能化のための『素材』『開発・技術』『機体』『管制』などの提案\n  \nSATEX（衛星測位・位置情報展）\n『衛星測位』『屋内測位』『シームレス測位』の技術、機器・装置、端末、から各種サービス提案に至るまでを一堂に集める\n 
URL:https://engineer-education.com/event/new-values-for-new-mobilities-and-monozukuri/
LOCATION:東京ビッグサイト\, 東京都江東区有明3-11-1\, 135-0063\, 日本
CATEGORIES:展示会（化学系）,展示会（加工技術）,展示会（工場・生産管理系）,展示会（機械系）,展示会（電気・電子系）
END:VEVENT
BEGIN:VEVENT
DTSTART;TZID=Asia/Tokyo:20220928T100000
DTEND;TZID=Asia/Tokyo:20220930T170000
DTSTAMP:20260425T015857
CREATED:20220624T042306Z
LAST-MODIFIED:20220624T042306Z
UID:72899-1664359200-1664557200@engineer-education.com
SUMMARY:【展示会情報】FOOD展 惣菜・デリカJAPAN 惣菜製造自動化・設備機器展
DESCRIPTION:  \n《主催者サイトより》\n弁当・惣菜工場に関する設備機器・資機材・サービスが集まり、惣菜工場をはじめ、業務用食品製造業の経営層から生産・工務、品質管理との商談につながる専門展示会です。\n 
URL:https://engineer-education.com/event/food-side-dish/
LOCATION:東京ビッグサイト\, 東京都江東区有明3-11-1\, 135-0063\, 日本
CATEGORIES:展示会（工場・生産管理系）,展示会（食品関連）
END:VEVENT
BEGIN:VEVENT
DTSTART;TZID=Asia/Tokyo:20220928T100000
DTEND;TZID=Asia/Tokyo:20220930T170000
DTSTAMP:20260425T015857
CREATED:20220624T041235Z
LAST-MODIFIED:20250714T052410Z
UID:72893-1664359200-1664557200@engineer-education.com
SUMMARY:【展示会情報】FOOD展 フードディストリビューション 食品物流マテハン・資材展
DESCRIPTION:  \n《主催者サイトより》\n国内唯一となる食品の物流・ECをテーマに厳しい温度管理や衛生管理が必要とされる食品物流業界に関わる最新の物流設備・機器・システム・サービスが集まり、食品メーカーをはじめ、食品卸、食品スーパー、外食・小売、通信販売との商談に繋がる専門展示会です。\n 
URL:https://engineer-education.com/event/food-distribution/
LOCATION:東京ビッグサイト\, 東京都江東区有明3-11-1\, 135-0063\, 日本
CATEGORIES:展示会（工場・生産管理系）,展示会（食品関連）
END:VEVENT
BEGIN:VEVENT
DTSTART;TZID=Asia/Tokyo:20220928T100000
DTEND;TZID=Asia/Tokyo:20220930T170000
DTSTAMP:20260425T015857
CREATED:20220624T040337Z
LAST-MODIFIED:20220624T041539Z
UID:72882-1664359200-1664557200@engineer-education.com
SUMMARY:【展示会情報】FOOD展 フードセーフティジャパン 食品安全・衛生対策資材展
DESCRIPTION:  \n《主催者サイトより》\n食の安全・安心をテーマに異物混入対策、衛生資材やフードセキュリティーを提案する企業が集まり、衛生・品質管理部門や経営層との商談につながる専門展示会です。\n 
URL:https://engineer-education.com/event/food-safety-japan/
LOCATION:東京ビッグサイト\, 東京都江東区有明3-11-1\, 135-0063\, 日本
CATEGORIES:展示会（食品関連）
END:VEVENT
BEGIN:VEVENT
DTSTART;TZID=Asia/Tokyo:20220928T100000
DTEND;TZID=Asia/Tokyo:20220930T170000
DTSTAMP:20260425T015857
CREATED:20220624T040258Z
LAST-MODIFIED:20220624T040258Z
UID:72887-1664359200-1664557200@engineer-education.com
SUMMARY:【展示会情報】FOOD展 フードファクトリー 食品工場改善設備・エンジニアリング展
DESCRIPTION:  \n《主催者サイトより》\n食品工場の設備改善・エンジニアリングに関わる企業が集まり、食品製造業の経営層、生産・工務部や技術部との商談につながる専門展示会です。\n 
URL:https://engineer-education.com/event/food-factory/
LOCATION:東京ビッグサイト\, 東京都江東区有明3-11-1\, 135-0063\, 日本
CATEGORIES:展示会（工場・生産管理系）,展示会（食品関連）
END:VEVENT
BEGIN:VEVENT
DTSTART;TZID=Asia/Tokyo:20220928T100000
DTEND;TZID=Asia/Tokyo:20220930T170000
DTSTAMP:20260425T015857
CREATED:20220624T023702Z
LAST-MODIFIED:20250714T052424Z
UID:72878-1664359200-1664557200@engineer-education.com
SUMMARY:【展示会情報】FOOD展 フードシステムソリューション 給食・大量調理設備機器・資材展
DESCRIPTION:  \n《主催者サイトより》\n給食(学校・病院・福祉)・大量調理現場に欠かせない厨房設備をはじめ、調理器具・食器・システムが集まり、経営層や管理栄養士・調理師との商談につながる専門展示会です。\n 
URL:https://engineer-education.com/event/food-exhibition-food-system-solution/
LOCATION:東京ビッグサイト\, 東京都江東区有明3-11-1\, 135-0063\, 日本
CATEGORIES:展示会（機械系）,展示会（食品関連）
END:VEVENT
BEGIN:VEVENT
DTSTART;TZID=Asia/Tokyo:20220928T100000
DTEND;TZID=Asia/Tokyo:20220929T160000
DTSTAMP:20260425T015857
CREATED:20220627T055311Z
LAST-MODIFIED:20220627T055311Z
UID:73038-1664359200-1664467200@engineer-education.com
SUMMARY:【展示会情報】九州 猛暑対策展／労働安全衛⽣展／騒⾳・振動対策展
DESCRIPTION:  \n《主催者サイトより》\n親和性の高い展示会との同時開催\n  \n猛暑対策展\n暑さをひんやりクールダウン！暑さに対する課題解決を行うことに特化した専門展示会。\n  \n労働安全衛生展\n働く人が安全・健康・快適であるために働く人の安全・健康・快適な職場づくりを支援することを目的に開催する専門展示会。\n  \n騒音・振動対策展\n騒音・振動に関する唯一の専門展示会。土木・建設工事や製造現場をはじめとする労働現場の「騒音・振動」の課題解決に関する専門展示会。\n 
URL:https://engineer-education.com/event/occupational-safety-guard_measures-against-extreme-heat-noise-and-vibration-kyusyu/
LOCATION:マリンメッセ福岡\, 福岡県福岡市博多区沖浜町７−１\, 福岡市\, 福岡県\, 812-0031\, 日本
CATEGORIES:展示会（工場・生産管理系）
END:VEVENT
BEGIN:VEVENT
DTSTART;TZID=Asia/Tokyo:20220927T100000
DTEND;TZID=Asia/Tokyo:20220928T170000
DTSTAMP:20260425T015857
CREATED:20220624T021724Z
LAST-MODIFIED:20220624T021724Z
UID:72872-1664272800-1664384400@engineer-education.com
SUMMARY:【展示会情報】FORMNEXT FORUM TOKYO
DESCRIPTION:  \n《主催者サイトより》\n3DプリンティングなどのAM技術、その関連技術、製品、サービス、情報が集まる、展示とセミナーの複合イベントです。\n 
URL:https://engineer-education.com/event/formnext-forum-tokyo/
LOCATION:東京都立産業貿易センター 浜松町館\, 日本
CATEGORIES:展示会（加工技術）
END:VEVENT
BEGIN:VEVENT
DTSTART;TZID=Asia/Tokyo:20220914T100000
DTEND;TZID=Asia/Tokyo:20220916T170000
DTSTAMP:20260425T015857
CREATED:20220624T015606Z
LAST-MODIFIED:20250714T052439Z
UID:72869-1663149600-1663347600@engineer-education.com
SUMMARY:【展示会情報】バイオマスエキスポ 森林産業
DESCRIPTION:  \n《主催者サイトより》\nバイオマス資源を有効活用し、バイオマスエネルギー（発電、熱利用、燃料）への変換技術と、堆肥化、飼料化などのマテリアル変換技術などのイノベーションをマーケティングに活用する産業交流展示会です。\n 
URL:https://engineer-education.com/event/biomass-energy-and-materials/
LOCATION:東京ビッグサイト\, 東京都江東区有明3-11-1\, 135-0063\, 日本
CATEGORIES:展示会,展示会（環境技術）
END:VEVENT
BEGIN:VEVENT
DTSTART;TZID=Asia/Tokyo:20220914T100000
DTEND;TZID=Asia/Tokyo:20220916T170000
DTSTAMP:20260425T015857
CREATED:20220624T015102Z
LAST-MODIFIED:20220624T015102Z
UID:72866-1663149600-1663347600@engineer-education.com
SUMMARY:【展示会情報】FORESTRISE 次世代森林産業展
DESCRIPTION:  \n《主催者サイトより》\n林業の生産性、安全性、収益性を向上させる技術や機械を一堂に会し、次世代テクノロジーの利活用を発信する国際見本市\n 
URL:https://engineer-education.com/event/forestrise/
LOCATION:東京ビッグサイト\, 東京都江東区有明3-11-1\, 135-0063\, 日本
CATEGORIES:展示会
ATTACH;FMTTYPE=image/jpeg:https://engineer-education.com/wp/wp-content/uploads/2022/06/logo_forestrise_g.jpg
END:VEVENT
BEGIN:VEVENT
DTSTART;TZID=Asia/Tokyo:20220914T100000
DTEND;TZID=Asia/Tokyo:20220916T170000
DTSTAMP:20260425T015857
CREATED:20220624T013850Z
LAST-MODIFIED:20220624T013850Z
UID:72853-1663149600-1663347600@engineer-education.com
SUMMARY:【展示会情報】地盤技術フォーラム
DESCRIPTION:土壌・地下水浄化技術展、地盤改良技術展、基礎工技術展、災害対策技術展\n  \n《主催者サイトより》\n“地中の見える化と、その対策”を一気通貫、ワンストップで解決できるまたとない機会を創出\n  \n土壌・地下水浄化技術展\n化学物質などによる汚染地の状況や周辺地域への影響を的確に調査･分析･評価し、最も効果的かつ経済的な浄化を行うための対策技術を紹介\n  \n地盤改良技術展\nあらゆる構造物、建築物を設置する最適な地盤とするための技術を紹介\n  \n基礎工技術展\n建築、道路・港湾、鉄道構造物、産業施設などのインフラを支える基礎工の技術を紹介\n  \n災害対策技術展\n災害という特殊事案への対策を網羅いたします。\n 
URL:https://engineer-education.com/event/geotechnical-forum/
LOCATION:東京ビッグサイト\, 東京都江東区有明3-11-1\, 135-0063\, 日本
CATEGORIES:展示会
ATTACH;FMTTYPE=image/jpeg:https://engineer-education.com/wp/wp-content/uploads/2022/06/b90c351aecba414a74af7efb96c72d4d-e1656034718763.jpg
END:VEVENT
BEGIN:VEVENT
DTSTART;TZID=Asia/Tokyo:20220914T100000
DTEND;TZID=Asia/Tokyo:20220916T170000
DTSTAMP:20260425T015857
CREATED:20220623T075704Z
LAST-MODIFIED:20220624T011329Z
UID:72841-1663149600-1663347600@engineer-education.com
SUMMARY:【展示会情報】はかる・調べるフォーラム　SENSOR EXPO JAPAN
DESCRIPTION:  \n《主催者サイトより》\n「センシング技術」と「見える化」をテーマとしたビジネス創出のための、人・技術・情報が一同に会する展示会を目指し、 社会発展と各産業の課題解決を目的とする、次世代につながる「DX時代」の実現に貢献します。\n 
URL:https://engineer-education.com/event/sensor-expo-japan/
LOCATION:東京ビッグサイト\, 東京都江東区有明3-11-1\, 135-0063\, 日本
CATEGORIES:展示会,展示会（IT・ソフトウェア）
ATTACH;FMTTYPE=image/jpeg:https://engineer-education.com/wp/wp-content/uploads/2022/06/logo2022-e1655971017212.jpg
END:VEVENT
BEGIN:VEVENT
DTSTART;TZID=Asia/Tokyo:20220914T100000
DTEND;TZID=Asia/Tokyo:20220916T170000
DTSTAMP:20260425T015857
CREATED:20220623T075018Z
LAST-MODIFIED:20220624T014123Z
UID:72837-1663149600-1663347600@engineer-education.com
SUMMARY:【展示会情報】はかる・調べるフォーラム　JIMA 総合検査機器展
DESCRIPTION:  \n《主催者サイトより》\n全ての非破壊検査業界分野より主要企業が一堂に集まる国内唯一の展示会になります。\n 
URL:https://engineer-education.com/event/japan-inspection-instruments-manufactures-show/
LOCATION:東京ビッグサイト\, 東京都江東区有明3-11-1\, 135-0063\, 日本
CATEGORIES:展示会（工場・生産管理系）
ATTACH;FMTTYPE=image/jpeg:https://engineer-education.com/wp/wp-content/uploads/2022/06/jima_logo-e1655970612188.jpg
END:VEVENT
BEGIN:VEVENT
DTSTART;TZID=Asia/Tokyo:20220914T100000
DTEND;TZID=Asia/Tokyo:20220916T170000
DTSTAMP:20260425T015857
CREATED:20220623T074158Z
LAST-MODIFIED:20220624T011732Z
UID:72832-1663149600-1663347600@engineer-education.com
SUMMARY:【展示会情報】はかる・調べるフォーラム　INTERMEASURE 計量計測展
DESCRIPTION:  \n《主催者サイトより》\n計量計測業界最大規模の総合展示会\n 
URL:https://engineer-education.com/event/intermeasure/
LOCATION:東京ビッグサイト\, 東京都江東区有明3-11-1\, 135-0063\, 日本
CATEGORIES:展示会
ATTACH;FMTTYPE=image/jpeg:https://engineer-education.com/wp/wp-content/uploads/2022/06/intermeasure2022_Logo_color_240_60.jpg
END:VEVENT
BEGIN:VEVENT
DTSTART;TZID=Asia/Tokyo:20220914T100000
DTEND;TZID=Asia/Tokyo:20220916T170000
DTSTAMP:20260425T015857
CREATED:20220623T073517Z
LAST-MODIFIED:20220623T073517Z
UID:72828-1663149600-1663347600@engineer-education.com
SUMMARY:【展示会情報】自動認識総合展
DESCRIPTION:  \n《主催者サイトより》\n「未来をつなぐAUTO-ID」をスローガンとして、自動認識の先進技術を披露するほか、「モバイル＆ウェアラブル」「画像認識」など専門分野を集中的にご覧いただけるゾーンなど、自動認識業界の一大イベントとして多彩な展示・企画をご用意しております。\n 
URL:https://engineer-education.com/event/auto-id-and-communication-expo/
LOCATION:東京ビッグサイト\, 東京都江東区有明3-11-1\, 135-0063\, 日本
CATEGORIES:展示会（工場・生産管理系）,展示会（IT・ソフトウェア）
ATTACH;FMTTYPE=image/jpeg:https://engineer-education.com/wp/wp-content/uploads/2022/06/logo-1-e1655969709655.jpg
END:VEVENT
BEGIN:VEVENT
DTSTART;TZID=Asia/Tokyo:20220913T100000
DTEND;TZID=Asia/Tokyo:20220916T170000
DTSTAMP:20260425T015857
CREATED:20220623T072005Z
LAST-MODIFIED:20220623T072252Z
UID:72817-1663063200-1663347600@engineer-education.com
SUMMARY:【展示会情報】国際物流総合展
DESCRIPTION:  \n《主催者サイトより》\n内外の最新物流機器・システム・情報等のソフトとハードを一堂に結集し、交易振興・技術の向上・情報の提供・人的交流等を促進することを目的とする。\n 
URL:https://engineer-education.com/event/logis-tech-tokyo/
LOCATION:東京ビッグサイト\, 東京都江東区有明3-11-1\, 135-0063\, 日本
CATEGORIES:展示会
ATTACH;FMTTYPE=image/jpeg:https://engineer-education.com/wp/wp-content/uploads/2022/06/logi.jpg
END:VEVENT
BEGIN:VEVENT
DTSTART;TZID=Asia/Tokyo:20220726T100000
DTEND;TZID=Asia/Tokyo:20220728T170000
DTSTAMP:20260425T015857
CREATED:20220422T075905Z
LAST-MODIFIED:20230209T070038Z
UID:69669-1658829600-1659027600@engineer-education.com
SUMMARY:【展示会情報】INDUSTRY-FRONTIER 2023
DESCRIPTION:“つながる工場”推進展、工場内のシステム見える化展、工場内のデジタルトランスフォーメーション（DX）展、工場内の予兆診断・保全展、工場内物流最適化展、工場内の非接触技術展、工場の協働ロボット利活用展、再生エネ・水素活用展 \n《主催者サイトより》\n“つながる工場”推進展\n製造業のDXを実現するものづくりIoT・連携支援ツールの総合展 \n  \n工場内のシステム見える化展\nQCDの革新・改善を対象にした専門技術展 \n  \n工場内のデジタルトランスフォーメーション（DX）展\n開発・設計プロフェッショナルのための“デジタルトランスフォーメーション”支援ツールの総合展 \n  \n工場内の予兆診断・保全展\n生産・製造現場の効率化・安定化・スマート化に貢献 \n\n工場内物流最適化展\n工場内のスマート物流を実現する機器・設備・システムの総合展 \n  \n工場内の非接触技術展\nニューノーマル時代を支える要素技術が一堂に! \n\n工場内の協働ロボット利活用展\nヒトとの共存、自動化・省人化 \n\n再生エネ・水素活用展\n～2050年に向けたエネルギー問題解決の救世主～ \n  \nオンライン開催：2023年8月1日（火）～2023年8月25日（金） \nリ　ア　ル開催：2023年7月26日（水）～2023年7月26日（金）（10：00～17：00） \n 
URL:https://engineer-education.com/event/industry-frontier/
LOCATION:東京ビッグサイト\, 東京都江東区有明3-11-1\, 135-0063\, 日本
CATEGORIES:展示会,展示会（工場・生産管理系）
ATTACH;FMTTYPE=image/png:https://engineer-education.com/wp/wp-content/uploads/2022/04/INDUSTRY-FRONTIER-2023.png
END:VEVENT
BEGIN:VEVENT
DTSTART;TZID=Asia/Tokyo:20220720T100000
DTEND;TZID=Asia/Tokyo:20220722T170000
DTSTAMP:20260425T015857
CREATED:20220621T061914Z
LAST-MODIFIED:20250714T052500Z
UID:72717-1658311200-1658509200@engineer-education.com
SUMMARY:【展示会情報】施設園芸・植物工場展
DESCRIPTION:  \n《主催者サイトより》\n新技術の導入により、地球環境を意識しつつ、面積当たりの生産量の大幅な増加や省エネ・省力化の実現を考えている皆様に向けて、まさに先進な考え方や技術を学ぶ場として絶好の機会を提供するものです。\n 
URL:https://engineer-education.com/event/greenhouse-horticulture-and-plant-factory-exhibition/
LOCATION:東京ビッグサイト\, 東京都江東区有明3-11-1\, 135-0063\, 日本
CATEGORIES:展示会（工場・生産管理系）,展示会（食品関連）
END:VEVENT
BEGIN:VEVENT
DTSTART;TZID=Asia/Tokyo:20220720T100000
DTEND;TZID=Asia/Tokyo:20220722T170000
DTSTAMP:20260425T015857
CREATED:20220621T060434Z
LAST-MODIFIED:20220621T060434Z
UID:72714-1658311200-1658509200@engineer-education.com
SUMMARY:【展示会情報】スマートアグリ ジャパン
DESCRIPTION:  \n《主催者サイトより》\nスマート農業機器・技術展\n 
URL:https://engineer-education.com/event/smart-agriculture-japan/
LOCATION:東京ビッグサイト\, 東京都江東区有明3-11-1\, 135-0063\, 日本
CATEGORIES:展示会（機械系）,展示会（IT・ソフトウェア）
END:VEVENT
BEGIN:VEVENT
DTSTART;VALUE=DATE:20220701
DTEND;VALUE=DATE:20220703
DTSTAMP:20260425T015857
CREATED:20220614T080253Z
LAST-MODIFIED:20220617T023435Z
UID:72298-1656633600-1656806399@engineer-education.com
SUMMARY:【展示会情報】ET＆IoT West
DESCRIPTION:  \n《主催者サイトより》\n組込みとエッジコンピューティング技術の展示会が開催されます。 \nET & IoT WESTとは？\nIoTのコア技術である“エッジテクノロジー”の最先端情報を一望できる関西最大級の総合技術展 \nPOINT 1　関西圏を拠点とする主要企業へ向けた販促のチャンス\nPOINT 2　改めてリアルに比重を置くことでデジタルでは実現しにくい商談やビジネスチャンスを創出 \n 
URL:https://engineer-education.com/event/et-iot-west/
LOCATION:グランフロント大阪 北館\, 大阪府大阪市北区大深町3-1\, 大阪市\, 大阪府\, 530-0011\, 日本
CATEGORIES:展示会（IT・ソフトウェア）
ATTACH;FMTTYPE=image/jpeg:https://engineer-education.com/wp/wp-content/uploads/2022/06/west2022-e1655193547277.jpg
END:VEVENT
BEGIN:VEVENT
DTSTART;TZID=Asia/Tokyo:20220630T100000
DTEND;TZID=Asia/Tokyo:20220702T170000
DTSTAMP:20260425T015857
CREATED:20220617T072004Z
LAST-MODIFIED:20220617T072004Z
UID:72582-1656583200-1656781200@engineer-education.com
SUMMARY:【展示会情報】ROBOT TECHNOLOGY JAPAN
DESCRIPTION:  \n《主催者サイトより》\n産業集積地「中部」で開催される、産業用ロボット・自動化システムに特化した展示会です。\nこんな課題をお持ちの方、解決のお手伝いをいたします！\n・人手不足に直面する国内の生産現場で、どうロボットを活用するべきか\n・生産現場の品質の安定を図りたい\n・AIやIoTの技術をどのように活用するか\n・生産現場に最適なシステムインテグレーターとマッチングを図りたい\n 
URL:https://engineer-education.com/event/robot-technology-japan/
LOCATION:Aichi Sky Expo（愛知県国際展示場）\, 愛知県常滑市セントレア5丁目10番1号\, 479-0881\, 日本
CATEGORIES:展示会（工場・生産管理系）
ATTACH;FMTTYPE=image/jpeg:https://engineer-education.com/wp/wp-content/uploads/2022/06/img_logoColor-e1655445260550.jpg
END:VEVENT
BEGIN:VEVENT
DTSTART;TZID=Asia/Tokyo:20220629T100000
DTEND;TZID=Asia/Tokyo:20220701T180000
DTSTAMP:20260425T015857
CREATED:20220617T072027Z
LAST-MODIFIED:20220622T011959Z
UID:72567-1656496800-1656698400@engineer-education.com
SUMMARY:【展示会情報】通信・放送 Week
DESCRIPTION:光通信技術展 FOE、映像伝送 EXPO VCOM、5G通信技術展、4K・8K映像技術展、ローカル5G／IoT活用展 \n《主催者サイトより》\n通信・放送Weekは、5G／IoT、光通信、4K・8K映像技術、映像伝送などの最新技術が一堂に出展します。\n通信事業者、通信システムメーカーなど通信技術を求める技術者や、放送事業者、産業分野（医療、セキュリティ、イベントなど）の映像技術を求めるユーザーが日本全国から来場します。\n  \n光通信技術展 FOE\nアジア最大級！次世代光ネットワーク技術の専門展\n  \n映像伝送 EXPO VCOM\n映像伝送・ローカル5G・光通信など先端技術を網羅！\n  \n5G通信技術展\n5Gデバイス製造のための材料ゾーンを特設。基地局設備・通信デバイス・高周波部材などが一堂に出展。\n  \n4K・8K映像技術展\n高精細映像システムなど840製品を「見て」「触れて」比較検討できます！\n  \nローカル5G／IoT活用展\nDX・スマート化を実現するためのソリューション・サービス・通信機器が多数出展。その場で比較・検討・導入ができます。\n 
URL:https://engineer-education.com/event/communication-broadcast-week/
LOCATION:東京ビッグサイト\, 東京都江東区有明3-11-1\, 135-0063\, 日本
CATEGORIES:展示会（電気・電子系）,展示会（IT・ソフトウェア）
END:VEVENT
BEGIN:VEVENT
DTSTART;VALUE=DATE:20220615
DTEND;VALUE=DATE:20220618
DTSTAMP:20260425T015857
CREATED:20220406T060404Z
LAST-MODIFIED:20220419T043340Z
UID:68821-1655251200-1655510399@engineer-education.com
SUMMARY:【展示会情報】interOpto / LED Japan / Imaging Japan
DESCRIPTION:  \n《主催者サイトより》\n光と電子を融合させ、新しいデジタル社会の創造へ \n \n出展対象\n1. 自動車・車載用光装置、光デバイス\n2. 製造・生産システム用光装置、光デバイス\n3. データセンタ用光装置、光デバイス\n4. 長距離通信用光装置、光デバイス\n5. ヘルスケア・医療用光装置、光デバイス6. AV・家電\n \n来場対象\n① 自動車/車載メーカー、光学部品・システムメーカー、光源・レーザ/光源装置メーカー、通信・ネットワーク機器メーカー、産業用加工・製造装置メーカー、プリント基板メーカー、半導体メーカー、大学/研究機関　等 \n② 応用先(アプリケーション)： 自動運転、ヘルスケア、バイオテクノロジー、農業、情報通信、セキュリティ、FA、ロボット\n  \ninterOpto（インターオプト）\n光＆次世代アプリケーション・ネットワークシステム展\n自動車・車載、光通信・データ伝送、製造・生産、AV・家電、ヘルスケア・医療分野など、幅広い分野の開発用途から産業用途まで、新たにデジタルトランスフォーメーション時代に呼応した「光＆次世代アプリケーション・ネットワークシステム展」として、最先端光技術を一堂に会します。\n  \nLED Japan（LEDジャパン）\n紫外（UV)・赤外（IR）を中心にしたLED応用の最先端技術展\n紫外(UV)・赤外(IR) LEDによる除菌・殺菌・医療用途に加え、硬化・蒸着・通信等の最先端技術・製品を中心テーマに開催します。\n  \nImaging Japan (イメージングジャパン)\n画像処理・センシング技術展\n赤外域を中心とした、非接触センサーをはじめ、最先端の画像処理・イメージング技術が集結する展示会です。
URL:https://engineer-education.com/event/interopto/
LOCATION:東京ビッグサイト\, 東京都江東区有明3-11-1\, 135-0063\, 日本
CATEGORIES:展示会（電気・電子系）
ATTACH;FMTTYPE=image/jpeg:https://engineer-education.com/wp/wp-content/uploads/2022/04/AAP_logo_none_year.jpg
END:VEVENT
BEGIN:VEVENT
DTSTART;VALUE=DATE:20220607
DTEND;VALUE=DATE:20220611
DTSTAMP:20260425T015857
CREATED:20220406T054023Z
LAST-MODIFIED:20220422T081522Z
UID:68806-1654560000-1654905599@engineer-education.com
SUMMARY:【展示会情報】FOOMA JAPAN 2022 (国際食品工業展)
DESCRIPTION:  \n《主催者サイトより》\n食品機械・装置および関連機器に関する技術ならびに情報の交流と普及をはかり、併せて食品産業の一層の発展に寄与することとし、「食の安全・安心」に関心が高まる中、食品機械の最先端テクノロジー、製品、サービスを通して、「食の技術が拓く、ゆたかな未来」を提案する。 \n \n※FOOMA JAPANのサイトはこちら
URL:https://engineer-education.com/event/fooma-japan/
LOCATION:東京ビッグサイト\, 東京都江東区有明3-11-1\, 135-0063\, 日本
CATEGORIES:展示会（食品関連）
ATTACH;FMTTYPE=image/jpeg:https://engineer-education.com/wp/wp-content/uploads/2022/04/fooma2022banner_200_100.jpg
END:VEVENT
BEGIN:VEVENT
DTSTART;VALUE=DATE:20220525
DTEND;VALUE=DATE:20220528
DTSTAMP:20260425T015857
CREATED:20220406T051344Z
LAST-MODIFIED:20220419T043421Z
UID:68786-1653436800-1653695999@engineer-education.com
SUMMARY:【展示会情報】2022NEW環境展／2022地球温暖化防止展
DESCRIPTION:  \n《主催者サイトより》\n現代は環境との共生を無視しては企業の存続すら危ぶまれる時代になりました。また国連が定める「SDGs」の推進にむけ環境汚染問題や地球温暖化問題の解決は避けて通れない課題です。とりわけ資源有効利用や新エネルギー・省エネルギーの推進、CO2排出削減技術の活用は、企業の環境・温暖化対策にとって最重要の取り組みです。そうしたなか、各種課題に対応する様々な環境技術・サービスを一堂に展示情報発信する事により環境保全への啓発を行い、国民生活の安定と環境関連産業の発展を目的とします。\n  \nNEW環境展\nテーマ：環境ビジネスの展開\n  \n地球温暖化防止展\nテーマ：CO2削減と新エネ・省エネビジネスの推進\n  \n※2022NEW環境展／2022地球温暖化防止展の主催者サイトはこちら
URL:https://engineer-education.com/event/new-environmental-exposition/
LOCATION:東京ビッグサイト\, 東京都江東区有明3-11-1\, 135-0063\, 日本
CATEGORIES:展示会（環境技術）
ATTACH;FMTTYPE=image/png:https://engineer-education.com/wp/wp-content/uploads/2022/04/nexpo2022_baner03.png
END:VEVENT
BEGIN:VEVENT
DTSTART;VALUE=DATE:20220420
DTEND;VALUE=DATE:20220423
DTSTAMP:20260425T015857
CREATED:20220316T065807Z
LAST-MODIFIED:20220419T043509Z
UID:67474-1650412800-1650671999@engineer-education.com
SUMMARY:【展示会情報】第5回ファインケミカルジャパン2022
DESCRIPTION:国内外の有力ファインケミカルメーカーと様々な産業分野の化学・製品メーカーが集結する一大イベント​ \n  \n《主催者サイトより》\n世界的な環境規制の強化や日常生活における健康志向の高まりの中、より快適な生活環境の実現のための新たな機能性素材の開発への期待は一段と高まっています。今後も様々な産業分野でニーズが一段と高まっていくことは必然と言えるでしょう。しかし、このようなユーザー側からのニーズの高まりにも関わらず、化学メーカーが自社の先端技術や化成品を国内外にむけ広く発表するための機会が日本には存在せず、そのため、自社の開発した技術が「どの産業分野において、どのように転用されうるのか」というユーザーニーズを把握するための機会に恵まれていないといった声が多数聞かれます。こういった業界関係者の声に応えるべく、国際化学産業展「ファインケミカルジャパン2020」を開催します。貴社の最新技術・製品の発表の場として、また、化学関連メーカーと各種産業分野との効率的なビジネスマッチングの場として、是非、本展示会をご利用ください。
URL:https://engineer-education.com/event/finechemicals-japan/
LOCATION:東京ビッグサイト\, 東京都江東区有明3-11-1\, 135-0063\, 日本
CATEGORIES:展示会（化学系）
ATTACH;FMTTYPE=image/jpeg:https://engineer-education.com/wp/wp-content/uploads/2022/03/FC-_logo.jpg
END:VEVENT
BEGIN:VEVENT
DTSTART;VALUE=DATE:20220420
DTEND;VALUE=DATE:20220423
DTSTAMP:20260425T015857
CREATED:20220406T063045Z
LAST-MODIFIED:20220419T043451Z
UID:68842-1650412800-1650671999@engineer-education.com
SUMMARY:【展示会情報】国際医薬品開発展 2022
DESCRIPTION:日本発、世界へ。 ーFrom Japan to the worldー\n \n革新的な医薬品の創出を通じて世界の人々の健康・福祉へ貢献するための国際イベント\n  \n《主催者サイトより》\n2002年に「CPhI Japan」として開催をスタートして以来、今日では医薬品原料、アウトソーシング、バイオ医薬品など5つのテーマイベントが『国際医薬品開発展』として開催されています。\nコロナ禍においては、原材料の調達からワクチンや治療薬の開発における国境を越えた企業間の協力、スピーディーな承認体制、厳重な生産体制など様々な課題が浮き彫りとなりました。また、超高齢化社会を迎えている我が国では地域包括ケアの始動、全ての団塊世代が75歳に到達する2025年が数年後に迫っており、医療用医薬品サプライチェーンにも影響を及ぼすことが予想されています。さらに超高齢化社会における医療財政を抑制するためのICT活用や予防、未病が推進されるなど、医薬品、ヘルスケア産業を取り巻く環境は劇的に変化をし続けています。\n次回で19回目を迎える東京開催では、日本発の革新的な医薬品の開発、安定供給体制の構築、新しいヘルスケアシステムの構築など製薬・ヘルスケア業界の課題をサポートするための優れた技術や製品を持つ有力サプライヤーによる展示会、業界をリードするキーパーソンによるコンファレンスプログラムを多数開催致します。\n  \n《国際医薬品開発展を構成する5つのテーマイベント》\n\nCPhI Japan 2022（国際医薬品原料・中間体展）\nICSE Japan 2022（製薬業界受託サービスエキスポ）\nP-MEC Japan 2022（医薬品原料 機器・装置展）\nbioLIVE Japan 2022 (バイオファーマジャパン）\nInnoPack Japan 2022 (DDS・医薬品包装展）\n\n  \n出展製品例\n\n医薬品原料（原薬、中間体、添加剤）\n受託サービス（研究、開発、製造、販売におけるアウソトーシングサービス）\n機器、装置、設備（研究所、工場）\nバイオ医薬品、再生医療製品（研究、開発、製造向けの装置、機器、受託製造等）\n医薬品一次包装、DDS（ドラッグデリバリーシステム）\n最終製剤ライセンス\n生薬・漢方（原料、受託製造、機器、装置）\n\n  \n来場対象\n\n医薬品メーカー\n医薬品受託製造\nバイオベンチャー\n創薬ベンチャー\n化学品メーカー\n原薬、中間体メーカー\n商社・代理店・輸出入業\n大学\n公的研究機関
URL:https://engineer-education.com/event/cphi-japan/
LOCATION:東京ビッグサイト\, 東京都江東区有明3-11-1\, 135-0063\, 日本
CATEGORIES:展示会（医薬・医療機器）
ATTACH;FMTTYPE=image/jpeg:https://engineer-education.com/wp/wp-content/uploads/2022/04/CPhI-Japan_2020_Lockup_On-White-1024x392-1-e1649226678718.jpg
END:VEVENT
BEGIN:VEVENT
DTSTART;VALUE=DATE:20220420
DTEND;VALUE=DATE:20220423
DTSTAMP:20260425T015857
CREATED:20220406T064634Z
LAST-MODIFIED:20220419T043438Z
UID:68847-1650412800-1650671999@engineer-education.com
SUMMARY:【展示会情報】ファーマIT＆デジタルヘルス エキスポ 2022
DESCRIPTION:製薬業界におけるデジタル活用を推進し、業界の未来創造とQOLを向上するための一大イベント​ \n  \n《主催者サイトより》\nAI（人工知能）、IoT、ビッグデータの分析、モバイル活用など情報・通信分野におけるテクノロジーの進化に伴い、製薬業界においても研究、開発、生産、営業、マーケティングなど様々な部門で最先端のテクノロジ―の活用やIT企業との提携が進んでおり、今後も大きな注目と期待を集めています。\n次回で第2回目を迎える本展は国内唯一の製薬業界に特化したITイベントとして、研究、開発、製造からコマーシャル部門に至るまで製薬業界におけるIT活用を推進し、製薬業界のビジネスを発展させるために最先端のテクノロジーを多数ご紹介いたします。\n​
URL:https://engineer-education.com/event/pharma_it-digital-health/
LOCATION:東京ビッグサイト\, 東京都江東区有明3-11-1\, 135-0063\, 日本
CATEGORIES:展示会（医薬・医療機器）
ATTACH;FMTTYPE=image/jpeg:https://engineer-education.com/wp/wp-content/uploads/2022/04/pharma_it-digital_health-expo.jpg
END:VEVENT
BEGIN:VEVENT
DTSTART;VALUE=DATE:20220420
DTEND;VALUE=DATE:20220424
DTSTAMP:20260425T015857
CREATED:20220316T062336Z
LAST-MODIFIED:20220419T041947Z
UID:67457-1650412800-1650758399@engineer-education.com
SUMMARY:【展示会情報】INTERMOLD2022/金型展2022
DESCRIPTION:
URL:https://engineer-education.com/event/intermold/
LOCATION:インテックス大阪\, 大阪市住之江区南港北1-5-102\, 559-0034\, 日本
CATEGORIES:展示会（加工技術）
ATTACH;FMTTYPE=image/jpeg:https://engineer-education.com/wp/wp-content/uploads/2022/03/logo_M_1-e1647412782860.jpg
END:VEVENT
BEGIN:VEVENT
DTSTART;TZID=Asia/Tokyo:20220413T100000
DTEND;TZID=Asia/Tokyo:20220415T170000
DTSTAMP:20260425T015857
CREATED:20220316T061451Z
LAST-MODIFIED:20220419T041819Z
UID:67455-1649844000-1650042000@engineer-education.com
SUMMARY:【展示会情報】[名古屋] 計測・検査・センサ展（MeasureTech名古屋）
DESCRIPTION:名古屋 計測・検査・センサ展（メジャーテック）は、計測機、検査機、センサなどが出展する展示会で、2020年 9月に初めて開催いたします。\n製造業の製造、生産技術、品質、保守・メンテナンス、研究、設計・開発部門などのユーザーが来場し、出展各社と真剣な商談が行われます。
URL:https://engineer-education.com/event/nagoya_measuretech/
LOCATION:ポートメッセ名古屋\, 名古屋市港区金城ふ頭二丁目2番地\, 455-0848\, 日本
CATEGORIES:展示会（加工技術）,展示会（工場・生産管理系）
END:VEVENT
END:VCALENDAR