BEGIN:VCALENDAR
VERSION:2.0
PRODID:-//アイアール技術者教育研究所 - ECPv6.15.18//NONSGML v1.0//EN
CALSCALE:GREGORIAN
METHOD:PUBLISH
X-WR-CALNAME:アイアール技術者教育研究所
X-ORIGINAL-URL:https://engineer-education.com
X-WR-CALDESC:アイアール技術者教育研究所 のイベント
REFRESH-INTERVAL;VALUE=DURATION:PT1H
X-Robots-Tag:noindex
X-PUBLISHED-TTL:PT1H
BEGIN:VTIMEZONE
TZID:Asia/Tokyo
BEGIN:STANDARD
TZOFFSETFROM:+0900
TZOFFSETTO:+0900
TZNAME:JST
DTSTART:20210101T000000
END:STANDARD
END:VTIMEZONE
BEGIN:VEVENT
DTSTART;VALUE=DATE:20220420
DTEND;VALUE=DATE:20220423
DTSTAMP:20260425T110651
CREATED:20220316T065807Z
LAST-MODIFIED:20220419T043509Z
UID:67474-1650412800-1650671999@engineer-education.com
SUMMARY:【展示会情報】第5回ファインケミカルジャパン2022
DESCRIPTION:国内外の有力ファインケミカルメーカーと様々な産業分野の化学・製品メーカーが集結する一大イベント​ \n  \n《主催者サイトより》\n世界的な環境規制の強化や日常生活における健康志向の高まりの中、より快適な生活環境の実現のための新たな機能性素材の開発への期待は一段と高まっています。今後も様々な産業分野でニーズが一段と高まっていくことは必然と言えるでしょう。しかし、このようなユーザー側からのニーズの高まりにも関わらず、化学メーカーが自社の先端技術や化成品を国内外にむけ広く発表するための機会が日本には存在せず、そのため、自社の開発した技術が「どの産業分野において、どのように転用されうるのか」というユーザーニーズを把握するための機会に恵まれていないといった声が多数聞かれます。こういった業界関係者の声に応えるべく、国際化学産業展「ファインケミカルジャパン2020」を開催します。貴社の最新技術・製品の発表の場として、また、化学関連メーカーと各種産業分野との効率的なビジネスマッチングの場として、是非、本展示会をご利用ください。
URL:https://engineer-education.com/event/finechemicals-japan/
LOCATION:東京ビッグサイト\, 東京都江東区有明3-11-1\, 135-0063\, 日本
CATEGORIES:展示会（化学系）
ATTACH;FMTTYPE=image/jpeg:https://engineer-education.com/wp/wp-content/uploads/2022/03/FC-_logo.jpg
END:VEVENT
BEGIN:VEVENT
DTSTART;VALUE=DATE:20220420
DTEND;VALUE=DATE:20220423
DTSTAMP:20260425T110651
CREATED:20220406T063045Z
LAST-MODIFIED:20220419T043451Z
UID:68842-1650412800-1650671999@engineer-education.com
SUMMARY:【展示会情報】国際医薬品開発展 2022
DESCRIPTION:日本発、世界へ。 ーFrom Japan to the worldー\n \n革新的な医薬品の創出を通じて世界の人々の健康・福祉へ貢献するための国際イベント\n  \n《主催者サイトより》\n2002年に「CPhI Japan」として開催をスタートして以来、今日では医薬品原料、アウトソーシング、バイオ医薬品など5つのテーマイベントが『国際医薬品開発展』として開催されています。\nコロナ禍においては、原材料の調達からワクチンや治療薬の開発における国境を越えた企業間の協力、スピーディーな承認体制、厳重な生産体制など様々な課題が浮き彫りとなりました。また、超高齢化社会を迎えている我が国では地域包括ケアの始動、全ての団塊世代が75歳に到達する2025年が数年後に迫っており、医療用医薬品サプライチェーンにも影響を及ぼすことが予想されています。さらに超高齢化社会における医療財政を抑制するためのICT活用や予防、未病が推進されるなど、医薬品、ヘルスケア産業を取り巻く環境は劇的に変化をし続けています。\n次回で19回目を迎える東京開催では、日本発の革新的な医薬品の開発、安定供給体制の構築、新しいヘルスケアシステムの構築など製薬・ヘルスケア業界の課題をサポートするための優れた技術や製品を持つ有力サプライヤーによる展示会、業界をリードするキーパーソンによるコンファレンスプログラムを多数開催致します。\n  \n《国際医薬品開発展を構成する5つのテーマイベント》\n\nCPhI Japan 2022（国際医薬品原料・中間体展）\nICSE Japan 2022（製薬業界受託サービスエキスポ）\nP-MEC Japan 2022（医薬品原料 機器・装置展）\nbioLIVE Japan 2022 (バイオファーマジャパン）\nInnoPack Japan 2022 (DDS・医薬品包装展）\n\n  \n出展製品例\n\n医薬品原料（原薬、中間体、添加剤）\n受託サービス（研究、開発、製造、販売におけるアウソトーシングサービス）\n機器、装置、設備（研究所、工場）\nバイオ医薬品、再生医療製品（研究、開発、製造向けの装置、機器、受託製造等）\n医薬品一次包装、DDS（ドラッグデリバリーシステム）\n最終製剤ライセンス\n生薬・漢方（原料、受託製造、機器、装置）\n\n  \n来場対象\n\n医薬品メーカー\n医薬品受託製造\nバイオベンチャー\n創薬ベンチャー\n化学品メーカー\n原薬、中間体メーカー\n商社・代理店・輸出入業\n大学\n公的研究機関
URL:https://engineer-education.com/event/cphi-japan/
LOCATION:東京ビッグサイト\, 東京都江東区有明3-11-1\, 135-0063\, 日本
CATEGORIES:展示会（医薬・医療機器）
ATTACH;FMTTYPE=image/jpeg:https://engineer-education.com/wp/wp-content/uploads/2022/04/CPhI-Japan_2020_Lockup_On-White-1024x392-1-e1649226678718.jpg
END:VEVENT
BEGIN:VEVENT
DTSTART;VALUE=DATE:20220420
DTEND;VALUE=DATE:20220423
DTSTAMP:20260425T110651
CREATED:20220406T064634Z
LAST-MODIFIED:20220419T043438Z
UID:68847-1650412800-1650671999@engineer-education.com
SUMMARY:【展示会情報】ファーマIT＆デジタルヘルス エキスポ 2022
DESCRIPTION:製薬業界におけるデジタル活用を推進し、業界の未来創造とQOLを向上するための一大イベント​ \n  \n《主催者サイトより》\nAI（人工知能）、IoT、ビッグデータの分析、モバイル活用など情報・通信分野におけるテクノロジーの進化に伴い、製薬業界においても研究、開発、生産、営業、マーケティングなど様々な部門で最先端のテクノロジ―の活用やIT企業との提携が進んでおり、今後も大きな注目と期待を集めています。\n次回で第2回目を迎える本展は国内唯一の製薬業界に特化したITイベントとして、研究、開発、製造からコマーシャル部門に至るまで製薬業界におけるIT活用を推進し、製薬業界のビジネスを発展させるために最先端のテクノロジーを多数ご紹介いたします。\n​
URL:https://engineer-education.com/event/pharma_it-digital-health/
LOCATION:東京ビッグサイト\, 東京都江東区有明3-11-1\, 135-0063\, 日本
CATEGORIES:展示会（医薬・医療機器）
ATTACH;FMTTYPE=image/jpeg:https://engineer-education.com/wp/wp-content/uploads/2022/04/pharma_it-digital_health-expo.jpg
END:VEVENT
BEGIN:VEVENT
DTSTART;VALUE=DATE:20220420
DTEND;VALUE=DATE:20220424
DTSTAMP:20260425T110651
CREATED:20220316T062336Z
LAST-MODIFIED:20220419T041947Z
UID:67457-1650412800-1650758399@engineer-education.com
SUMMARY:【展示会情報】INTERMOLD2022/金型展2022
DESCRIPTION:
URL:https://engineer-education.com/event/intermold/
LOCATION:インテックス大阪\, 大阪市住之江区南港北1-5-102\, 559-0034\, 日本
CATEGORIES:展示会（加工技術）
ATTACH;FMTTYPE=image/jpeg:https://engineer-education.com/wp/wp-content/uploads/2022/03/logo_M_1-e1647412782860.jpg
END:VEVENT
BEGIN:VEVENT
DTSTART;TZID=Asia/Tokyo:20220413T100000
DTEND;TZID=Asia/Tokyo:20220415T170000
DTSTAMP:20260425T110651
CREATED:20220316T061451Z
LAST-MODIFIED:20220419T041819Z
UID:67455-1649844000-1650042000@engineer-education.com
SUMMARY:【展示会情報】[名古屋] 計測・検査・センサ展（MeasureTech名古屋）
DESCRIPTION:名古屋 計測・検査・センサ展（メジャーテック）は、計測機、検査機、センサなどが出展する展示会で、2020年 9月に初めて開催いたします。\n製造業の製造、生産技術、品質、保守・メンテナンス、研究、設計・開発部門などのユーザーが来場し、出展各社と真剣な商談が行われます。
URL:https://engineer-education.com/event/nagoya_measuretech/
LOCATION:ポートメッセ名古屋\, 名古屋市港区金城ふ頭二丁目2番地\, 455-0848\, 日本
CATEGORIES:展示会（加工技術）,展示会（工場・生産管理系）
END:VEVENT
BEGIN:VEVENT
DTSTART;TZID=Asia/Tokyo:20220413T100000
DTEND;TZID=Asia/Tokyo:20220415T170000
DTSTAMP:20260425T110651
CREATED:20220316T060808Z
LAST-MODIFIED:20220419T041743Z
UID:67449-1649844000-1650042000@engineer-education.com
SUMMARY:【展示会情報】[名古屋] 航空・宇宙機器 開発展 (AeroTech名古屋)
DESCRIPTION:名古屋 航空・宇宙機器 開発展（AeroTech）とは、航空機、宇宙機器の開発・製造技術や、部品、デバイス、材料・素材、計測機など出展する展示会です。\n航空・宇宙機器メーカーの設計、開発、製造、生産技術、購買部門などの方々が多数来場し、出展企業と活発な商談を行っています。
URL:https://engineer-education.com/event/nagoya_aerotech/
LOCATION:ポートメッセ名古屋\, 名古屋市港区金城ふ頭二丁目2番地\, 455-0848\, 日本
CATEGORIES:展示会（機械系）
END:VEVENT
BEGIN:VEVENT
DTSTART;TZID=Asia/Tokyo:20220413T100000
DTEND;TZID=Asia/Tokyo:20220415T170000
DTSTAMP:20260425T110651
CREATED:20220316T060500Z
LAST-MODIFIED:20220419T041727Z
UID:67444-1649844000-1650042000@engineer-education.com
SUMMARY:【展示会情報】[名古屋] 工場設備・備品展 (FacTex 名古屋)
DESCRIPTION:名古屋 工場設備・備品展（FacTex）とは、工場向けの省エネ製品、物流機器、メンテナンス製品、安全用品、防災製品などが出展する展示会です。\n製造業の工場管理、製造、生産技術、保守・メンテナンス、購買、物流部門などのユーザーが多数来場し、出展企業と活発な商談を行っています。
URL:https://engineer-education.com/event/nagoya_factex/
LOCATION:ポートメッセ名古屋\, 名古屋市港区金城ふ頭二丁目2番地\, 455-0848\, 日本
CATEGORIES:展示会（工場・生産管理系）
END:VEVENT
BEGIN:VEVENT
DTSTART;TZID=Asia/Tokyo:20220413T100000
DTEND;TZID=Asia/Tokyo:20220415T170000
DTSTAMP:20260425T110651
CREATED:20220316T054753Z
LAST-MODIFIED:20220419T041709Z
UID:67433-1649844000-1650042000@engineer-education.com
SUMMARY:【展示会情報】[名古屋] 設計・製造ソリューション展 （DMS名古屋）
DESCRIPTION:名古屋 設計・製造ソリューション展（DMS）は、CAD、CAE、ERP、生産管理システムなどの製造業向けITソリューションが出展する展示会です。\n毎年、設計、開発、製造、生産技術、情報システム部門などのユーザーが多数来場し、出展企業と活発な商談を行っています。
URL:https://engineer-education.com/event/nagoya_dms/
LOCATION:ポートメッセ名古屋\, 名古屋市港区金城ふ頭二丁目2番地\, 455-0848\, 日本
CATEGORIES:展示会（加工技術）,展示会（工場・生産管理系）
END:VEVENT
BEGIN:VEVENT
DTSTART;TZID=Asia/Tokyo:20220413T080000
DTEND;TZID=Asia/Tokyo:20220415T170000
DTSTAMP:20260425T110651
CREATED:20220316T061041Z
LAST-MODIFIED:20220419T041657Z
UID:67451-1649836800-1650042000@engineer-education.com
SUMMARY:【展示会情報】[名古屋] 次世代 3Dプリンタ展（AM Japan 名古屋）
DESCRIPTION:名古屋 次世代 3Dプリンタ展とは、アディティブ・マニュファクチャリング、3Dプリンタ、材料、受託造形サービスなど、AM、3Dプリント技術に関する展示会です。\n製造業の製造、生産技術、試作、設計、開発、購買部門の方々に加え、建設業、娯楽業、広告業などの方々が多数来場し、出展企業と活発な商談を行っています。
URL:https://engineer-education.com/event/nagoya_am-japan/
LOCATION:ポートメッセ名古屋\, 名古屋市港区金城ふ頭二丁目2番地\, 455-0848\, 日本
CATEGORIES:展示会（加工技術）
END:VEVENT
BEGIN:VEVENT
DTSTART;TZID=Asia/Tokyo:20220413T080000
DTEND;TZID=Asia/Tokyo:20220415T170000
DTSTAMP:20260425T110651
CREATED:20220316T055915Z
LAST-MODIFIED:20220419T041618Z
UID:67442-1649836800-1650042000@engineer-education.com
SUMMARY:【展示会情報】[名古屋] 機械要素技術展 （M-Tech名古屋）
DESCRIPTION:名古屋 機械要素技術展（M-Tech）は、モータ、ベアリング、ねじ、ばねなどの機械部品や、切削、プレスなどの加工技術、表面処理などが出展する展示会です。\n毎年、設計、開発、試作、製造、生産技術、購買部門をはじめとしたユーザーが多数来場し、出展企業と商談を行っています。
URL:https://engineer-education.com/event/nagoya_m-tech/
LOCATION:ポートメッセ名古屋\, 名古屋市港区金城ふ頭二丁目2番地\, 455-0848\, 日本
CATEGORIES:展示会（機械系）
END:VEVENT
END:VCALENDAR