BEGIN:VCALENDAR
VERSION:2.0
PRODID:-//アイアール技術者教育研究所 - ECPv6.15.18//NONSGML v1.0//EN
CALSCALE:GREGORIAN
METHOD:PUBLISH
X-WR-CALNAME:アイアール技術者教育研究所
X-ORIGINAL-URL:https://engineer-education.com
X-WR-CALDESC:アイアール技術者教育研究所 のイベント
REFRESH-INTERVAL;VALUE=DURATION:PT1H
X-Robots-Tag:noindex
X-PUBLISHED-TTL:PT1H
BEGIN:VTIMEZONE
TZID:Asia/Tokyo
BEGIN:STANDARD
TZOFFSETFROM:+0900
TZOFFSETTO:+0900
TZNAME:JST
DTSTART:20220101T000000
END:STANDARD
END:VTIMEZONE
BEGIN:VEVENT
DTSTART;TZID=Asia/Tokyo:20230822T093000
DTEND;TZID=Asia/Tokyo:20230823T160000
DTSTAMP:20260423T071904
CREATED:20230807T062955Z
LAST-MODIFIED:20230807T064054Z
UID:114008-1692696600-1692806400@engineer-education.com
SUMMARY:【展示会情報】バックオフィスDXPO 東京’23
DESCRIPTION:  \n《主催者サイトより》\n総務・人事・経理など管理部門必見の 9展を同時開催！\n \n本展はDX分野日本最大級の商談型展示会です。業界大手からスタートアップ企業まで、昨年を大きく上回る530社*が出展。きっと自社の課題を解決するソリューションに出会えます。\n  \n\n働き方改革･テレワーク支援展\nDX・業務改革支援展\n総務ソリューション展\n人事・労務システム展\n採用・研修ソリューション展\n経理・財務システム展\n電子契約・法務システム展\nRPA・業務プロセス自動化展\nITインフラ・セキュリティ展\n\n \n \n アイアールも出展します当サイトを運営している日本アイアールも「採用・研修ソリューション展」に出展します。ぜひブースにお立ち寄りください。
URL:https://engineer-education.com/event/dxpo-tokyo/
LOCATION:東京ビッグサイト\, 東京都江東区有明3-11-1\, 135-0063\, 日本
CATEGORIES:展示会（教育・人材育成）,展示会（IT・ソフトウェア）
ATTACH;FMTTYPE=image/png:https://engineer-education.com/wp/wp-content/uploads/2023/07/bnr-box-dxpo-tokyo-e1691389920420.png
END:VEVENT
END:VCALENDAR