BEGIN:VCALENDAR
VERSION:2.0
PRODID:-//アイアール技術者教育研究所 - ECPv6.15.18//NONSGML v1.0//EN
CALSCALE:GREGORIAN
METHOD:PUBLISH
X-WR-CALNAME:アイアール技術者教育研究所
X-ORIGINAL-URL:https://engineer-education.com
X-WR-CALDESC:アイアール技術者教育研究所 のイベント
REFRESH-INTERVAL;VALUE=DURATION:PT1H
X-Robots-Tag:noindex
X-PUBLISHED-TTL:PT1H
BEGIN:VTIMEZONE
TZID:Asia/Tokyo
BEGIN:STANDARD
TZOFFSETFROM:+0900
TZOFFSETTO:+0900
TZNAME:JST
DTSTART:20210101T000000
END:STANDARD
END:VTIMEZONE
BEGIN:VEVENT
DTSTART;TZID=Asia/Tokyo:20230308T100000
DTEND;TZID=Asia/Tokyo:20230310T170000
DTSTAMP:20260420T072310
CREATED:20230307T023941Z
LAST-MODIFIED:20230307T042227Z
UID:94769-1678269600-1678467600@engineer-education.com
SUMMARY:【展示会情報】Grind Technology Japan
DESCRIPTION:《主催者サイトより》\nGrinding Technology Japan（ジーティージェー）2023を、2023年3月8日（水）から10日（金）までの3日間、千葉県・幕張メッセ ホール8で開催します。工具製造技術と研削加工技術の専門展示会として2019年にスタートし、今回が3回目。今回も、各種研削加工技術、工具製造技術を支える工作機械、砥石、計測、周辺機器が多数出展されます。特別協賛団体として切削フォーラム21が、特別協力団体として（公社）砥粒加工学会が参加します。切削フォーラム21は、会場内で切削工具の加工実演を行います。（公社）砥粒加工学会は、会場内で「2023年度 先進テクノフェア（ATF2023）」を開催します。そのほか、専門技術者によるパネルディスカッション、各種講演、研削コンシェルジュも行われます。専門家が集う会場で、最新技術の情報収集と意見交換をいただければ幸いです。
URL:https://engineer-education.com/event/grind-technology-japan/
LOCATION:幕張メッセ\, 千葉県千葉市美浜区中瀬２丁目１\, 261-0023\, 日本
CATEGORIES:展示会（加工技術）,展示会（機械系）,展示会（電気・電子系）
ATTACH;FMTTYPE=image/jpeg:https://engineer-education.com/wp/wp-content/uploads/2023/03/2b8b102c0418d500463e541887a95e71-1.jpg
END:VEVENT
BEGIN:VEVENT
DTSTART;TZID=Asia/Tokyo:20221019T100000
DTEND;TZID=Asia/Tokyo:20221021T170000
DTSTAMP:20260420T072310
CREATED:20220624T070459Z
LAST-MODIFIED:20220627T064824Z
UID:72935-1666173600-1666371600@engineer-education.com
SUMMARY:【展示会情報】Japan Robot Week
DESCRIPTION:  \n《主催者サイトより》\nサービスロボットだけではなく協働ロボットやシステムインテグレータを中核とした、より活発な商談・技術交流ができる展示会\n \nオンライン　2022年10月12日（水）～28日（金）\nリアル　　　2022年10月19日（水）～21日（金） 10：00～17：00\n 
URL:https://engineer-education.com/event/japan-robot-week/
LOCATION:東京ビッグサイト\, 東京都江東区有明3-11-1\, 135-0063\, 日本
CATEGORIES:展示会（工場・生産管理系）,展示会（機械系）,展示会（電気・電子系）,展示会（IT・ソフトウェア）
ATTACH;FMTTYPE=image/jpeg:https://engineer-education.com/wp/wp-content/uploads/2022/06/logo_color1.jpg
END:VEVENT
BEGIN:VEVENT
DTSTART;TZID=Asia/Tokyo:20220928T100000
DTEND;TZID=Asia/Tokyo:20220930T170000
DTSTAMP:20260420T072310
CREATED:20220624T050331Z
LAST-MODIFIED:20220624T050445Z
UID:72903-1664359200-1664557200@engineer-education.com
SUMMARY:【展示会情報】N-PLUS ～ものづくりとモビリティに新たな価値をプラスする～
DESCRIPTION:  \n《主催者サイトより》\n素材から加工技術、構成要素である部品、製品までを網羅した“ものづくりの複合展”へ\n  \nプラスチック高機能化展\nプラスチック・フィルム・ゴム等による製品の高機能化・高付加価値化の提案\n  \n軽量化・高強度化展\n軽量化または高強度化に関する素材と技術の提案\n  \nコーティング・表面処理展\n高機能化のためのコーティング・表面処理素材・技術の提案\n  \nサーマルマネジメント・EMC対策展\n熱対策（耐熱・放熱・断熱）およびEMC対策・ノイズ対策の提案\n  \n不織布・機能紙・CNF展\n紙・パルプ・セルロース・不織布による高機能化・高付加価値化の提案\n  \n環境配慮型素材展\n環境負荷を低減する素材・材料・製品の提案\n  \n接着・接合・ファスニング展\n接着・接合・ファスニングに関する素材・技術・機器の提案\n  \n受託・加工技術展\n高機能化・高付加価値化に資する製造・加工技術・受託サービス\n  \n高機能化部品展\n『機械部品』『電子部品』 空飛ぶクルマやEV・自動車、航空機・船舶、人工衛星などのモビリティに高機能化・高付加価値化をもたらす 『部品』\n  \n電動化技術展\n次世代モビリティが必要とする電動化技術、バッテリー・電池、パワー半導体やLiDARといった要素技術の提案\n  \nフライングカーテクノロジー\nの空飛ぶクルマの飛躍・高機能化のための『素材』『開発・技術』『機体』『管制』などの提案\n  \nSATEX（衛星測位・位置情報展）\n『衛星測位』『屋内測位』『シームレス測位』の技術、機器・装置、端末、から各種サービス提案に至るまでを一堂に集める\n 
URL:https://engineer-education.com/event/new-values-for-new-mobilities-and-monozukuri/
LOCATION:東京ビッグサイト\, 東京都江東区有明3-11-1\, 135-0063\, 日本
CATEGORIES:展示会（化学系）,展示会（加工技術）,展示会（工場・生産管理系）,展示会（機械系）,展示会（電気・電子系）
END:VEVENT
BEGIN:VEVENT
DTSTART;TZID=Asia/Tokyo:20220629T100000
DTEND;TZID=Asia/Tokyo:20220701T180000
DTSTAMP:20260420T072310
CREATED:20220617T072027Z
LAST-MODIFIED:20220622T011959Z
UID:72567-1656496800-1656698400@engineer-education.com
SUMMARY:【展示会情報】通信・放送 Week
DESCRIPTION:光通信技術展 FOE、映像伝送 EXPO VCOM、5G通信技術展、4K・8K映像技術展、ローカル5G／IoT活用展 \n《主催者サイトより》\n通信・放送Weekは、5G／IoT、光通信、4K・8K映像技術、映像伝送などの最新技術が一堂に出展します。\n通信事業者、通信システムメーカーなど通信技術を求める技術者や、放送事業者、産業分野（医療、セキュリティ、イベントなど）の映像技術を求めるユーザーが日本全国から来場します。\n  \n光通信技術展 FOE\nアジア最大級！次世代光ネットワーク技術の専門展\n  \n映像伝送 EXPO VCOM\n映像伝送・ローカル5G・光通信など先端技術を網羅！\n  \n5G通信技術展\n5Gデバイス製造のための材料ゾーンを特設。基地局設備・通信デバイス・高周波部材などが一堂に出展。\n  \n4K・8K映像技術展\n高精細映像システムなど840製品を「見て」「触れて」比較検討できます！\n  \nローカル5G／IoT活用展\nDX・スマート化を実現するためのソリューション・サービス・通信機器が多数出展。その場で比較・検討・導入ができます。\n 
URL:https://engineer-education.com/event/communication-broadcast-week/
LOCATION:東京ビッグサイト\, 東京都江東区有明3-11-1\, 135-0063\, 日本
CATEGORIES:展示会（電気・電子系）,展示会（IT・ソフトウェア）
END:VEVENT
BEGIN:VEVENT
DTSTART;VALUE=DATE:20220615
DTEND;VALUE=DATE:20220618
DTSTAMP:20260420T072310
CREATED:20220406T060404Z
LAST-MODIFIED:20220419T043340Z
UID:68821-1655251200-1655510399@engineer-education.com
SUMMARY:【展示会情報】interOpto / LED Japan / Imaging Japan
DESCRIPTION:  \n《主催者サイトより》\n光と電子を融合させ、新しいデジタル社会の創造へ \n \n出展対象\n1. 自動車・車載用光装置、光デバイス\n2. 製造・生産システム用光装置、光デバイス\n3. データセンタ用光装置、光デバイス\n4. 長距離通信用光装置、光デバイス\n5. ヘルスケア・医療用光装置、光デバイス6. AV・家電\n \n来場対象\n① 自動車/車載メーカー、光学部品・システムメーカー、光源・レーザ/光源装置メーカー、通信・ネットワーク機器メーカー、産業用加工・製造装置メーカー、プリント基板メーカー、半導体メーカー、大学/研究機関　等 \n② 応用先(アプリケーション)： 自動運転、ヘルスケア、バイオテクノロジー、農業、情報通信、セキュリティ、FA、ロボット\n  \ninterOpto（インターオプト）\n光＆次世代アプリケーション・ネットワークシステム展\n自動車・車載、光通信・データ伝送、製造・生産、AV・家電、ヘルスケア・医療分野など、幅広い分野の開発用途から産業用途まで、新たにデジタルトランスフォーメーション時代に呼応した「光＆次世代アプリケーション・ネットワークシステム展」として、最先端光技術を一堂に会します。\n  \nLED Japan（LEDジャパン）\n紫外（UV)・赤外（IR）を中心にしたLED応用の最先端技術展\n紫外(UV)・赤外(IR) LEDによる除菌・殺菌・医療用途に加え、硬化・蒸着・通信等の最先端技術・製品を中心テーマに開催します。\n  \nImaging Japan (イメージングジャパン)\n画像処理・センシング技術展\n赤外域を中心とした、非接触センサーをはじめ、最先端の画像処理・イメージング技術が集結する展示会です。
URL:https://engineer-education.com/event/interopto/
LOCATION:東京ビッグサイト\, 東京都江東区有明3-11-1\, 135-0063\, 日本
CATEGORIES:展示会（電気・電子系）
ATTACH;FMTTYPE=image/jpeg:https://engineer-education.com/wp/wp-content/uploads/2022/04/AAP_logo_none_year.jpg
END:VEVENT
END:VCALENDAR